Workbook
Name EduCopy: #REF!
Name ffff: '2028'!#REF!
Name info: [1]info!$B$2:$D$266
Name muni: [2]helper!$A$1:$B$265
Name фор_обяснения: #REF!

Sheet 2027
A1: Код на общината по ЕБК
A2: Наименование на общината | B2: =IFERROR(VLOOKUP(B1,'лист ЕБК '!A1:B265,2),"")
A4: Справка ефекти персонал (в хил. евро) | R4: Приложение № 8б
C5: Общо по общинския бюджет: | K5: в т.ч. в държавните дейнности:
A6: Показатели | B6: по § и §§ | C6: Бюджет 2026 г. | D6: в т.ч. Ефект от увеличение на МРЗ на 660 евро | E6: Ефект за 7 месеца - от увеличението на МОД на 2300 евро, считано от 01.08.2026 г. | F6: Ефект от увеличение на МОД на 2400 евро | G6: Ефект за 7 месеца от промяна в модела на осигуряване на държавните служители, считано от 01.08.2026 г. | H6: Ефект от промяна в модела на осигуряване на държавните служители | I6: Други ефекти -общо (натурални показатели, стратегически реформи и др.) | J6: Проект 2027 г. | K6: Бюджет 2026 г. ДД | L6: в т.ч. Ефект от увеличение на МРЗ на 660 евро ДД | M6: Ефект в ДД за 7 месеца - от увеличението на МОД на 2300 евро, считано от 01.08.2026 г. | N6: Ефект от увеличение на МОД на 2400 евро ДД | O6: Ефект за 7 месеца от промяна в модела на осигуряване на държавните служители, считано от 01.08.2026 г. ДД | P6: Ефект от промяна в модела на осигуряване на държавните служители ДД | Q6: Други ефекти -общо (натурални показатели, стратегически реформи и др.) ДД | R6: Проект 2027 г. ДД
A7: Персонал-общо: | C7: =C22+C37+C50+C63+C76+C89+C102+C115 -> 0 | D7: =D22+D37+D50+D63+D76+D89+D102+D115 -> 0 | E7: =E22+E37+E50+E63+E76+E89+E102+E115 -> 0 | F7: =F22+F37+F50+F63+F76+F89+F102+F115 -> 0 | G7: =G22+G37+G50+G63+G76+G89+G102+G115 -> 0 | H7: =H22+H37+H50+H63+H76+H89+H102+H115 -> 0 | I7: =I22+I37+I50+I63+I76+I89+I102+I115 -> 0 | J7: =J22+J37+J50+J63+J76+J89+J102+J115 -> 0 | ... R7: =R22+R37+R50+R63+R76+R89+R102+R115 -> 0
A8: Заплати | B8: 01-00 | C8: =C23+C38+C51+C64+C77+C90+C103+C116 -> 0 | D8: =D23+D38+D51+D64+D77+D90+D103+D116 -> 0 | E8: =E23+E38+E51+E64+E77+E90+E103+E116 -> 0 | F8: =F23+F38+F51+F64+F77+F90+F103+F116 -> 0 | G8: =G23+G38+G51+G64+G77+G90+G103+G116 -> 0 | H8: =H23+H38+H51+H64+H77+H90+H103+H116 -> 0 | I8: =I23+I38+I51+I64+I77+I90+I103+I116 -> 0 | J8: =J23+J38+J51+J64+J77+J90+J103+J116 -> 0 | ... R8: =R23+R38+R51+R64+R77+R90+R103+R116 -> 0
A9: по трудови правоотношения | B9: 01-01 | C9: =C24+C39+C52+C65+C78+C91+C104+C117 -> 0 | D9: =D24+D39+D52+D65+D78+D91+D104+D117 -> 0 | E9: =E24+E39+E52+E65+E78+E91+E104+E117 -> 0 | F9: =F24+F39+F52+F65+F78+F91+F104+F117 -> 0 | G9: =G24+G39+G52+G65+G78+G91+G104+G117 -> 0 | H9: =H24+H39+H52+H65+H78+H91+H104+H117 -> 0 | I9: =I24+I39+I52+I65+I78+I91+I104+I117 -> 0 | J9: =J24+J39+J52+J65+J78+J91+J104+J117 -> 0 | ... R9: =R24+R39+R52+R65+R78+R91+R104+R117 -> 0
A10: по служебни правоотношения | B10: 01-02 | C10: =C25+C40+C53+C66+C79+C92+C105+C118 -> 0 | D10: =D25+D40+D53+D66+D79+D92+D105+D118 -> 0 | E10: =E25+E40+E53+E66+E79+E92+E105+E118 -> 0 | F10: =F25+F40+F53+F66+F79+F92+F105+F118 -> 0 | G10: =G25+G40+G53+G66+G79+G92+G105+G118 -> 0 | H10: =H25+H40+H53+H66+H79+H92+H105+H118 -> 0 | I10: =I25+I40+I53+I66+I79+I92+I105+I118 -> 0 | J10: =J25+J40+J53+J66+J79+J92+J105+J118 -> 0 | ... R10: =R25+R40+R53+R66+R79+R92+R105+R118 -> 0
A11: Други възнаграждения и плащания за персонала | B11: 02-00 | C11: =C26+C41+C54+C67+C80+C93+C106+C119 -> 0 | D11: =D26+D41+D54+D67+D80+D93+D106+D119 -> 0 | E11: =E26+E41+E54+E67+E80+E93+E106+E119 -> 0 | F11: =F26+F41+F54+F67+F80+F93+F106+F119 -> 0 | G11: =G26+G41+G54+G67+G80+G93+G106+G119 -> 0 | H11: =H26+H41+H54+H67+H80+H93+H106+H119 -> 0 | I11: =I26+I41+I54+I67+I80+I93+I106+I119 -> 0 | J11: =J26+J41+J54+J67+J80+J93+J106+J119 -> 0 | ... R11: =R26+R41+R54+R67+R80+R93+R106+R119 -> 0
A12: Осигурителни вноски | B12: 05-00 | C12: =C27+C42+C55+C68+C81+C94+C107+C120 -> 0 | D12: =D27+D42+D55+D68+D81+D94+D107+D120 -> 0 | E12: =E27+E42+E55+E68+E81+E94+E107+E120 -> 0 | F12: =F27+F42+F55+F68+F81+F94+F107+F120 -> 0 | G12: =G27+G42+G55+G68+G81+G94+G107+G120 -> 0 | H12: =H27+H42+H55+H68+H81+H94+H107+H120 -> 0 | I12: =I27+I42+I55+I68+I81+I94+I107+I120 -> 0 | J12: =J27+J42+J55+J68+J81+J94+J107+J120 -> 0 | ... R12: =R27+R42+R55+R68+R81+R94+R107+R120 -> 0
A13: ДОО | B13: 05-51 | C13: =C28+C43+C56+C69+C82+C95+C108+C121 -> 0 | D13: =D28+D43+D56+D69+D82+D95+D108+D121 -> 0 | E13: =E28+E43+E56+E69+E82+E95+E108+E121 -> 0 | F13: =F28+F43+F56+F69+F82+F95+F108+F121 -> 0 | G13: =G28+G43+G56+G69+G82+G95+G108+G121 -> 0 | H13: =H28+H43+H56+H69+H82+H95+H108+H121 -> 0 | I13: =I28+I43+I56+I69+I82+I95+I108+I121 -> 0 | J13: =J28+J43+J56+J69+J82+J95+J108+J121 -> 0 | ... R13: =R28+R43+R56+R69+R82+R95+R108+R121 -> 0
A14: УПФ | B14: 05-52 | C14: =C29+C44+C57+C70+C83+C96+C109+C122 -> 0 | D14: =D29+D44+D57+D70+D83+D96+D109+D122 -> 0 | E14: =E29+E44+E57+E70+E83+E96+E109+E122 -> 0 | F14: =F29+F44+F57+F70+F83+F96+F109+F122 -> 0 | G14: =G29+G44+G57+G70+G83+G96+G109+G122 -> 0 | H14: =H29+H44+H57+H70+H83+H96+H109+H122 -> 0 | I14: =I29+I44+I57+I70+I83+I96+I109+I122 -> 0 | J14: =J29+J44+J57+J70+J83+J96+J109+J122 -> 0 | ... R14: =R29+R44+R57+R70+R83+R96+R109+R122 -> 0
A15: Здравноосигурителни вноски | B15: 05-60 | C15: =C30+C45+C58+C71+C84+C97+C110+C123 -> 0 | D15: =D30+D45+D58+D71+D84+D97+D110+D123 -> 0 | E15: =E30+E45+E58+E71+E84+E97+E110+E123 -> 0 | F15: =F30+F45+F58+F71+F84+F97+F110+F123 -> 0 | G15: =G30+G45+G58+G71+G84+G97+G110+G123 -> 0 | H15: =H30+H45+H58+H71+H84+H97+H110+H123 -> 0 | I15: =I30+I45+I58+I71+I84+I97+I110+I123 -> 0 | J15: =J30+J45+J58+J71+J84+J97+J110+J123 -> 0 | ... R15: =R30+R45+R58+R71+R84+R97+R110+R123 -> 0
A16: ДЗПО | B16: 05-80 | C16: =C31+C46+C59+C72+C85+C98+C111+C124 -> 0 | D16: =D31+D46+D59+D72+D85+D98+D111+D124 -> 0 | E16: =E31+E46+E59+E72+E85+E98+E111+E124 -> 0 | F16: =F31+F46+F59+F72+F85+F98+F111+F124 -> 0 | G16: =G31+G46+G59+G72+G85+G98+G111+G124 -> 0 | H16: =H31+H46+H59+H72+H85+H98+H111+H124 -> 0 | I16: =I31+I46+I59+I72+I85+I98+I111+I124 -> 0 | J16: =J31+J46+J59+J72+J85+J98+J111+J124 -> 0 | ... R16: =R31+R46+R59+R72+R85+R98+R111+R124 -> 0
A17: Средства за персонал на субсидирани бройки | B17: 45-00 | C17: =C32+C47+C60+C73+C86+C99+C112+C125 -> 0 | D17: =D32+D47+D60+D73+D86+D99+D112+D125 -> 0 | E17: =E32+E47+E60+E73+E86+E99+E112+E125 -> 0 | F17: =F32+F47+F60+F73+F86+F99+F112+F125 -> 0 | G17: =G32+G47+G60+G73+G86+G99+G112+G125 -> 0 | H17: =H32+H47+H60+H73+H86+H99+H112+H125 -> 0 | I17: =I32+I47+I60+I73+I86+I99+I112+I125 -> 0 | J17: =J32+J47+J60+J73+J86+J99+J112+J125 -> 0 | ... R17: =R32+R47+R60+R73+R86+R99+R112+R125 -> 0
A18: Численост на персонала | C18: =C33+C48+C61+C74+C87+C100+C113+C126 -> 0 | D18: =D33+D48+D61+D74+D87+D100+D113+D126 -> 0 | E18: =E33+E48+E61+E74+E87+E100+E113+E126 -> 0 | F18: =F33+F48+F61+F74+F87+F100+F113+F126 -> 0 | G18: =G33+G48+G61+G74+G87+G100+G113+G126 -> 0 | H18: =H33+H48+H61+H74+H87+H100+H113+H126 -> 0 | I18: =I33+I48+I61+I74+I87+I100+I113+I126 -> 0 | J18: =J33+J48+J61+J74+J87+J100+J113+J126 -> 0 | ... R18: =R33+R48+R61+R74+R87+R100+R113+R126 -> 0
A19: Субсидирана численост | C19: =C36+C49+C62+C75+C88+C101+C114+C127 -> 0 | D19: =D36+D49+D62+D75+D88+D101+D114+D127 -> 0 | E19: =E36+E49+E62+E75+E88+E101+E114+E127 -> 0 | F19: =F36+F49+F62+F75+F88+F101+F114+F127 -> 0 | G19: =G36+G49+G62+G75+G88+G101+G114+G127 -> 0 | H19: =H36+H49+H62+H75+H88+H101+H114+H127 -> 0 | I19: =I36+I49+I62+I75+I88+I101+I114+I127 -> 0 | J19: =J36+J49+J62+J75+J88+J101+J114+J127 -> 0 | ... R19: =R36+R49+R62+R75+R88+R101+R114+R127 -> 0
A21: Разбивка персонал по функции: | C21: =C22+C37+C50+C63+C76+C102+C115 -> 0 | D21: =D22+D37+D50+D63+D76+D102+D115 -> 0 | E21: =E22+E37+E50+E63+E76+E102+E115 -> 0 | F21: =F22+F37+F50+F63+F76+F102+F115 -> 0 | G21: =G22+G37+G50+G63+G76+G102+G115 -> 0 | H21: =H22+H37+H50+H63+H76+H102+H115 -> 0 | I21: =I22+I37+I50+I63+I76+I102+I115 -> 0 | J21: =J22+J37+J50+J63+J76+J102+J115 -> 0 | ... R21: =R22+R37+R50+R63+R76+R102+R115 -> 0
A22: 1. Изпълнителни и законодателни органи | C22: =C23+C26+C27+C32 -> 0 | D22: =D23+D26+D27+D32 -> 0 | E22: =E23+E26+E27+E32 -> 0 | F22: =F23+F26+F27+F32 -> 0 | G22: =G23+G26+G27+G32 -> 0 | H22: =H23+H26+H27+H32 -> 0 | I22: =I23+I26+I27+I32 -> 0 | J22: =J23+J26+J27+J32 -> 0 | ... R22: =R23+R26+R27+R32 -> 0
A23: Заплати | B23: 01-00 | C23: =C24+C25 -> 0 | D23: =D24+D25 -> 0 | E23: =E24+E25 -> 0 | F23: =F24+F25 -> 0 | G23: =G24+G25 -> 0 | H23: =H24+H25 -> 0 | I23: =I24+I25 -> 0 | J23: =J24+J25 -> 0 | ... R23: =R24+R25 -> 0
A24: по трудови правоотношения | B24: 01-01 | E24: Х | F24: Х | J24: =C24+D24+E24+F24+G24+H24+I24 -> 0 | M24: Х | N24: Х | R24: =K24+L24+M24+N24+O24+P24+Q24 -> 0
A25: по служебни правоотношения | B25: 01-02 | E25: Х | F25: Х | J25: =C25+D25+E25+F25+G25+H25+I25 -> 0 | M25: Х | N25: Х | R25: =K25+L25+M25+N25+O25+P25+Q25 -> 0
A26: Други възнаграждения и плащания за персонала | B26: 02-00 | E26: Х | F26: Х | G26: Х | H26: Х | J26: =C26+D26+E26+F26+G26+H26+I26 -> 0 | M26: Х | N26: Х | O26: Х | P26: Х | R26: =K26+L26+M26+N26+O26+P26+Q26 -> 0
A27: Осигурителни вноски | B27: 05-00 | C27: =C28+C29+C30+C31 -> 0 | D27: =D28+D29+D30+D31 -> 0 | E27: =E28+E29+E30+E31 -> 0 | F27: =F28+F29+F30+F31 -> 0 | G27: =G28+G29+G30+G31 -> 0 | H27: =H28+H29+H30+H31 -> 0 | I27: =I28+I29+I30+I31 -> 0 | J27: =J28+J29+J30+J31 -> 0 | ... R27: =R28+R29+R30+R31 -> 0
A28: ДОО | B28: 05-51 | J28: =C28+D28+E28+F28+G28+H28+I28 -> 0 | R28: =K28+L28+M28+N28+O28+P28+Q28 -> 0
A29: УПФ | B29: 05-52 | J29: =C29+D29+E29+F29+G29+H29+I29 -> 0 | R29: =K29+L29+M29+N29+O29+P29+Q29 -> 0
A30: Здравноосигурителни вноски | B30: 05-60 | J30: =C30+D30+E30+F30+G30+H30+I30 -> 0 | R30: =K30+L30+M30+N30+O30+P30+Q30 -> 0
A31: ДЗПО | B31: 05-80 | J31: =C31+D31+E31+F31+G31+H31+I31 -> 0 | R31: =K31+L31+M31+N31+O31+P31+Q31 -> 0
A32: Средства за персонал на субсидирани бройки | B32: 45-00 | C32: Х | D32: Х | E32: Х | F32: Х | G32: Х | H32: Х | I32: Х | J32: Х | K32: Х | L32: Х | M32: Х | N32: Х | O32: Х | P32: Х | Q32: Х | R32: Х
A33: Численост на персонала, в т.ч.: | C33: =C34+C35 -> 0 | D33: =D34+D35 -> 0 | E33: =E34+E35 -> 0 | F33: =F34+F35 -> 0 | G33: =G34+G35 -> 0 | H33: =H34+H35 -> 0 | I33: =I34+I35 -> 0 | J33: =J34+J35 -> 0 | ... R33: =R34+R35 -> 0
A34: - по трудови правоотношения
A35: - по служебни правоотношения
A36: Субсидирана численост | C36: Х | D36: Х | E36: Х | F36: Х | G36: Х | H36: Х | I36: Х | J36: Х | K36: Х | L36: Х | M36: Х | N36: Х | O36: Х | P36: Х | Q36: Х | R36: Х
A37: 2. Отбрана и сигурност | C37: =C38+C41+C42+C47 -> 0 | D37: =D38+D41+D42+D47 -> 0 | E37: =E38+E41+E42+E47 -> 0 | F37: =F38+F41+F42+F47 -> 0 | G37: =G38+G41+G42+G47 -> 0 | H37: =H38+H41+H42+H47 -> 0 | I37: =I38+I41+I42+I47 -> 0 | J37: =J38+J41+J42+J47 -> 0 | ... R37: =R38+R41+R42+R47 -> 0
A38: Заплати | B38: 01-00 | C38: =C39+C40 -> 0 | D38: =D39+D40 -> 0 | E38: =E39+E40 -> 0 | F38: =F39+F40 -> 0 | G38: =G39+G40 -> 0 | H38: =H39+H40 -> 0 | I38: =I39+I40 -> 0 | J38: =J39+J40 -> 0 | ... R38: =R39+R40 -> 0
A39: по трудови правоотношения | B39: 01-01 | E39: Х | F39: Х | G39: Х | H39: Х | J39: =C39+D39+E39+F39+G39+H39+I39 -> 0 | M39: Х | N39: Х | O39: Х | P39: Х | R39: =K39+L39+M39+N39+O39+P39+Q39 -> 0
A40: по служебни правоотношения | B40: 01-02 | E40: Х | F40: Х | G40: Х | H40: Х | J40: =C40+D40+E40+F40+G40+H40+I40 -> 0 | M40: Х | N40: Х | O40: Х | P40: Х | R40: =K40+L40+M40+N40+O40+P40+Q40 -> 0
A41: Други възнаграждения и плащания за персонала | B41: 02-00 | E41: Х | F41: Х | G41: Х | H41: Х | J41: =C41+D41+E41+F41+G41+H41+I41 -> 0 | M41: Х | N41: Х | O41: Х | P41: Х | R41: =K41+L41+M41+N41+O41+P41+Q41 -> 0
A42: Осигурителни вноски | B42: 05-00 | C42: =C43+C44+C45+C46 -> 0 | D42: =D43+D44+D45+D46 -> 0 | E42: =E43+E44+E45+E46 -> 0 | F42: =F43+F44+F45+F46 -> 0 | G42: =G43+G44+G45+G46 -> 0 | H42: =H43+H44+H45+H46 -> 0 | I42: =I43+I44+I45+I46 -> 0 | J42: =J43+J44+J45+J46 -> 0 | ... R42: =R43+R44+R45+R46 -> 0
A43: ДОО | B43: 05-51 | G43: Х | H43: Х | J43: =C43+D43+E43+F43+G43+H43+I43 -> 0 | O43: Х | P43: Х | R43: =K43+L43+M43+N43+O43+P43+Q43 -> 0
A44: УПФ | B44: 05-52 | G44: Х | H44: Х | J44: =C44+D44+E44+F44+G44+H44+I44 -> 0 | O44: Х | P44: Х | R44: =K44+L44+M44+N44+O44+P44+Q44 -> 0
A45: Здравноосигурителни вноски | B45: 05-60 | G45: Х | H45: Х | J45: =C45+D45+E45+F45+G45+H45+I45 -> 0 | O45: Х | P45: Х | R45: =K45+L45+M45+N45+O45+P45+Q45 -> 0
A46: ДЗПО | B46: 05-80 | G46: Х | H46: Х | J46: =C46+D46+E46+F46+G46+H46+I46 -> 0 | O46: Х | P46: Х | R46: =K46+L46+M46+N46+O46+P46+Q46 -> 0
A47: Средства за персонал на субсидирани бройки | B47: 45-00 | C47: Х | D47: Х | E47: Х | F47: Х | G47: Х | H47: Х | I47: Х | J47: Х | K47: Х | L47: Х | M47: Х | N47: Х | O47: Х | P47: Х | Q47: Х | R47: Х
A48: Численост на персонала | J48: =C48+D48+E48+F48+G48+H48+I48 -> 0 | R48: =K48+L48+M48+N48+O48+P48+Q48 -> 0
A49: Субсидирана численост | C49: Х | D49: Х | E49: Х | F49: Х | G49: Х | H49: Х | I49: Х | J49: Х | K49: Х | L49: Х | M49: Х | N49: Х | O49: Х | P49: Х | Q49: Х | R49: Х
A50: 3. Образование | C50: =C51+C54+C55+C60 -> 0 | D50: =D51+D54+D55+D60 -> 0 | E50: =E51+E54+E55+E60 -> 0 | F50: =F51+F54+F55+F60 -> 0 | G50: =G51+G54+G55+G60 -> 0 | H50: =H51+H54+H55+H60 -> 0 | I50: =I51+I54+I55+I60 -> 0 | J50: =J51+J54+J55+J60 -> 0 | ... R50: =R51+R54+R55+R60 -> 0
A51: Заплати | B51: 01-00 | C51: =C52+C53 -> 0 | D51: =D52+D53 -> 0 | E51: =E52+E53 -> 0 | F51: =F52+F53 -> 0 | G51: =G52+G53 -> 0 | H51: =H52+H53 -> 0 | I51: =I52+I53 -> 0 | J51: =J52+J53 -> 0 | ... R51: =R52+R53 -> 0
A52: по трудови правоотношения | B52: 01-01 | E52: Х | F52: Х | G52: Х | H52: Х | J52: =C52+D52+E52+F52+G52+H52+I52 -> 0 | M52: Х | N52: Х | O52: Х | P52: Х | R52: =K52+L52+M52+N52+O52+P52+Q52 -> 0
A53: по служебни правоотношения | B53: 01-02 | E53: Х | F53: Х | G53: Х | H53: Х | J53: =C53+D53+E53+F53+G53+H53+I53 -> 0 | M53: Х | N53: Х | O53: Х | P53: Х | R53: =K53+L53+M53+N53+O53+P53+Q53 -> 0
A54: Други възнаграждения и плащания за персонала | B54: 02-00 | E54: Х | F54: Х | G54: Х | H54: Х | J54: =C54+D54+E54+F54+G54+H54+I54 -> 0 | M54: Х | N54: Х | O54: Х | P54: Х | R54: =K54+L54+M54+N54+O54+P54+Q54 -> 0
A55: Осигурителни вноски | B55: 05-00 | C55: =C56+C57+C58+C59 -> 0 | D55: =D56+D57+D58+D59 -> 0 | E55: =E56+E57+E58+E59 -> 0 | F55: =F56+F57+F58+F59 -> 0 | G55: =G56+G57+G58+G59 -> 0 | H55: =H56+H57+H58+H59 -> 0 | I55: =I56+I57+I58+I59 -> 0 | J55: =J56+J57+J58+J59 -> 0 | ... R55: =R56+R57+R58+R59 -> 0
A56: ДОО | B56: 05-51 | G56: Х | H56: Х | J56: =C56+D56+E56+F56+G56+H56+I56 -> 0 | O56: Х | P56: Х | R56: =K56+L56+M56+N56+O56+P56+Q56 -> 0
A57: УПФ | B57: 05-52 | G57: Х | H57: Х | J57: =C57+D57+E57+F57+G57+H57+I57 -> 0 | O57: Х | P57: Х | R57: =K57+L57+M57+N57+O57+P57+Q57 -> 0
A58: Здравноосигурителни вноски | B58: 05-60 | G58: Х | H58: Х | J58: =C58+D58+E58+F58+G58+H58+I58 -> 0 | O58: Х | P58: Х | R58: =K58+L58+M58+N58+O58+P58+Q58 -> 0
A59: ДЗПО | B59: 05-80 | G59: Х | H59: Х | J59: =C59+D59+E59+F59+G59+H59+I59 -> 0 | O59: Х | P59: Х | R59: =K59+L59+M59+N59+O59+P59+Q59 -> 0
A60: Средства за персонал на субсидирани бройки | B60: 45-00 | C60: Х | D60: Х | E60: Х | F60: Х | G60: Х | H60: Х | I60: Х | J60: Х | K60: Х | L60: Х | M60: Х | N60: Х | O60: Х | P60: Х | Q60: Х | R60: Х
A61: Численост на персонала | J61: =C61+D61+E61+F61+G61+H61+I61 -> 0 | R61: =K61+L61+M61+N61+O61+P61+Q61 -> 0
A62: Субсидирана численост | C62: Х | D62: Х | E62: Х | F62: Х | G62: Х | H62: Х | I62: Х | J62: Х | K62: Х | L62: Х | M62: Х | N62: Х | O62: Х | P62: Х | Q62: Х | R62: Х
A63: 4. Здравеопазване | C63: =C64+C67+C68+C73 -> 0 | D63: =D64+D67+D68+D73 -> 0 | E63: =E64+E67+E68+E73 -> 0 | F63: =F64+F67+F68+F73 -> 0 | G63: =G64+G67+G68+G73 -> 0 | H63: =H64+H67+H68+H73 -> 0 | I63: =I64+I67+I68+I73 -> 0 | J63: =J64+J67+J68+J73 -> 0 | ... R63: =R64+R67+R68+R73 -> 0
A64: Заплати | B64: 01-00 | C64: =C65+C66 -> 0 | D64: =D65+D66 -> 0 | E64: =E65+E66 -> 0 | F64: =F65+F66 -> 0 | G64: =G65+G66 -> 0 | H64: =H65+H66 -> 0 | I64: =I65+I66 -> 0 | J64: =J65+J66 -> 0 | ... R64: =R65+R66 -> 0
A65: по трудови правоотношения | B65: 01-01 | E65: Х | F65: Х | G65: Х | H65: Х | J65: =C65+D65+E65+F65+G65+H65+I65 -> 0 | M65: Х | N65: Х | O65: Х | P65: Х | R65: =K65+L65+M65+N65+O65+P65+Q65 -> 0
A66: по служебни правоотношения | B66: 01-02 | E66: Х | F66: Х | G66: Х | H66: Х | J66: =C66+D66+E66+F66+G66+H66+I66 -> 0 | M66: Х | N66: Х | O66: Х | P66: Х | R66: =K66+L66+M66+N66+O66+P66+Q66 -> 0
A67: Други възнаграждения и плащания за персонала | B67: 02-00 | E67: Х | F67: Х | G67: Х | H67: Х | J67: =C67+D67+E67+F67+G67+H67+I67 -> 0 | M67: Х | N67: Х | O67: Х | P67: Х | R67: =K67+L67+M67+N67+O67+P67+Q67 -> 0
A68: Осигурителни вноски | B68: 05-00 | C68: =C69+C70+C71+C72 -> 0 | D68: =D69+D70+D71+D72 -> 0 | E68: =E69+E70+E71+E72 -> 0 | F68: =F69+F70+F71+F72 -> 0 | G68: =G69+G70+G71+G72 -> 0 | H68: =H69+H70+H71+H72 -> 0 | I68: =I69+I70+I71+I72 -> 0 | J68: =J69+J70+J71+J72 -> 0 | ... R68: =R69+R70+R71+R72 -> 0
A69: ДОО | B69: 05-51 | G69: Х | H69: Х | J69: =C69+D69+E69+F69+G69+H69+I69 -> 0 | O69: Х | P69: Х | R69: =K69+L69+M69+N69+O69+P69+Q69 -> 0
A70: УПФ | B70: 05-52 | G70: Х | H70: Х | J70: =C70+D70+E70+F70+G70+H70+I70 -> 0 | O70: Х | P70: Х | R70: =K70+L70+M70+N70+O70+P70+Q70 -> 0
A71: Здравноосигурителни вноски | B71: 05-60 | G71: Х | H71: Х | J71: =C71+D71+E71+F71+G71+H71+I71 -> 0 | O71: Х | P71: Х | R71: =K71+L71+M71+N71+O71+P71+Q71 -> 0
A72: ДЗПО | B72: 05-80 | G72: Х | H72: Х | J72: =C72+D72+E72+F72+G72+H72+I72 -> 0 | O72: Х | P72: Х | R72: =K72+L72+M72+N72+O72+P72+Q72 -> 0
A73: Средства за персонал на субсидирани бройки | B73: 45-00 | C73: Х | D73: Х | E73: Х | F73: Х | G73: Х | H73: Х | I73: Х | J73: Х | K73: Х | L73: Х | M73: Х | N73: Х | O73: Х | P73: Х | Q73: Х | R73: Х
A74: Численост на персонала | J74: =C74+D74+E74+F74+G74+H74+I74 -> 0 | R74: =K74+L74+M74+N74+O74+P74+Q74 -> 0
A75: Субсидирана численост | C75: Х | D75: Х | E75: Х | F75: Х | G75: Х | H75: Х | I75: Х | J75: Х | K75: Х | L75: Х | M75: Х | N75: Х | O75: Х | P75: Х | Q75: Х | R75: Х
A76: 5. Социално осигуряване, подпомагане и грижи | C76: =C77+C80+C81+C86 -> 0 | D76: =D77+D80+D81+D86 -> 0 | E76: =E77+E80+E81+E86 -> 0 | F76: =F77+F80+F81+F86 -> 0 | G76: =G77+G80+G81+G86 -> 0 | H76: =H77+H80+H81+H86 -> 0 | I76: =I77+I80+I81+I86 -> 0 | J76: =J77+J80+J81+J86 -> 0 | ... R76: =R77+R80+R81+R86 -> 0
A77: Заплати | B77: 01-00 | C77: =C78+C79 -> 0 | D77: =D78+D79 -> 0 | E77: =E78+E79 -> 0 | F77: =F78+F79 -> 0 | G77: =G78+G79 -> 0 | H77: =H78+H79 -> 0 | I77: =I78+I79 -> 0 | J77: =J78+J79 -> 0 | ... R77: =R78+R79 -> 0
A78: по трудови правоотношения | B78: 01-01 | E78: Х | F78: Х | G78: Х | H78: Х | J78: =C78+D78+E78+F78+G78+H78+I78 -> 0 | M78: Х | N78: Х | O78: Х | P78: Х | R78: =K78+L78+M78+N78+O78+P78+Q78 -> 0
A79: по служебни правоотношения | B79: 01-02 | E79: Х | F79: Х | G79: Х | H79: Х | J79: =C79+D79+E79+F79+G79+H79+I79 -> 0 | M79: Х | N79: Х | O79: Х | P79: Х | R79: =K79+L79+M79+N79+O79+P79+Q79 -> 0
A80: Други възнаграждения и плащания за персонала | B80: 02-00 | E80: Х | F80: Х | G80: Х | H80: Х | J80: =C80+D80+E80+F80+G80+H80+I80 -> 0 | M80: Х | N80: Х | O80: Х | P80: Х | R80: =K80+L80+M80+N80+O80+P80+Q80 -> 0
A81: Осигурителни вноски | B81: 05-00 | C81: =C82+C83+C84+C85 -> 0 | D81: =D82+D83+D84+D85 -> 0 | E81: =E82+E83+E84+E85 -> 0 | F81: =F82+F83+F84+F85 -> 0 | G81: =G82+G83+G84+G85 -> 0 | H81: =H82+H83+H84+H85 -> 0 | I81: =I82+I83+I84+I85 -> 0 | J81: =J82+J83+J84+J85 -> 0 | ... R81: =R82+R83+R84+R85 -> 0
A82: ДОО | B82: 05-51 | G82: Х | H82: Х | J82: =C82+D82+E82+F82+G82+H82+I82 -> 0 | O82: Х | P82: Х | R82: =K82+L82+M82+N82+O82+P82+Q82 -> 0
A83: УПФ | B83: 05-52 | G83: Х | H83: Х | J83: =C83+D83+E83+F83+G83+H83+I83 -> 0 | O83: Х | P83: Х | R83: =K83+L83+M83+N83+O83+P83+Q83 -> 0
A84: Здравноосигурителни вноски | B84: 05-60 | G84: Х | H84: Х | J84: =C84+D84+E84+F84+G84+H84+I84 -> 0 | O84: Х | P84: Х | R84: =K84+L84+M84+N84+O84+P84+Q84 -> 0
A85: ДЗПО | B85: 05-80 | G85: Х | H85: Х | J85: =C85+D85+E85+F85+G85+H85+I85 -> 0 | O85: Х | P85: Х | R85: =K85+L85+M85+N85+O85+P85+Q85 -> 0
A86: Средства за персонал на субсидирани бройки | B86: 45-00 | C86: Х | D86: Х | E86: Х | F86: Х | G86: Х | H86: Х | I86: Х | J86: Х | K86: Х | L86: Х | M86: Х | N86: Х | O86: Х | P86: Х | Q86: Х | R86: Х
A87: Численост на персонала | J87: =C87+D87+E87+F87+G87+H87+I87 -> 0 | R87: =K87+L87+M87+N87+O87+P87+Q87 -> 0
A88: Субсидирана численост | C88: Х | D88: Х | E88: Х | F88: Х | G88: Х | H88: Х | I88: Х | J88: Х | K88: Х | L88: Х | M88: Х | N88: Х | O88: Х | P88: Х | Q88: Х | R88: Х
A89: 6. Жилищно строителство, благоустройство, комунално стопанство и опазване на околната среда | C89: =C90+C93+C94+C99 -> 0 | D89: =D90+D93+D94+D99 -> 0 | E89: =E90+E93+E94+E99 -> 0 | F89: =F90+F93+F94+F99 -> 0 | G89: =G90+G93+G94+G99 -> 0 | H89: =H90+H93+H94+H99 -> 0 | I89: =I90+I93+I94+I99 -> 0 | J89: =J90+J93+J94+J99 -> 0 | ... R89: =R90+R93+R94+R99 -> 0
A90: Заплати | B90: 01-00 | C90: =C91+C92 -> 0 | D90: =D91+D92 -> 0 | E90: =E91+E92 -> 0 | F90: =F91+F92 -> 0 | G90: =G91+G92 -> 0 | H90: =H91+H92 -> 0 | I90: =I91+I92 -> 0 | J90: =J91+J92 -> 0 | ... R90: =R91+R92 -> 0
A91: по трудови правоотношения | B91: 01-01 | E91: Х | F91: Х | G91: Х | H91: Х | J91: =C91+D91+E91+F91+G91+H91+I91 -> 0 | M91: Х | N91: Х | O91: Х | P91: Х | R91: =K91+L91+M91+N91+O91+P91+Q91 -> 0
A92: по служебни правоотношения | B92: 01-02 | E92: Х | F92: Х | G92: Х | H92: Х | J92: =C92+D92+E92+F92+G92+H92+I92 -> 0 | M92: Х | N92: Х | O92: Х | P92: Х | R92: =K92+L92+M92+N92+O92+P92+Q92 -> 0
A93: Други възнаграждения и плащания за персонала | B93: 02-00 | E93: Х | F93: Х | G93: Х | H93: Х | J93: =C93+D93+E93+F93+G93+H93+I93 -> 0 | M93: Х | N93: Х | O93: Х | P93: Х | R93: =K93+L93+M93+N93+O93+P93+Q93 -> 0
A94: Осигурителни вноски | B94: 05-00 | C94: =C95+C96+C97+C98 -> 0 | D94: =D95+D96+D97+D98 -> 0 | E94: =E95+E96+E97+E98 -> 0 | F94: =F95+F96+F97+F98 -> 0 | G94: =G95+G96+G97+G98 -> 0 | H94: =H95+H96+H97+H98 -> 0 | I94: =I95+I96+I97+I98 -> 0 | J94: =J95+J96+J97+J98 -> 0 | ... R94: =R95+R96+R97+R98 -> 0
A95: ДОО | B95: 05-51 | G95: Х | H95: Х | J95: =C95+D95+E95+F95+G95+H95+I95 -> 0 | O95: Х | P95: Х | R95: =K95+L95+M95+N95+O95+P95+Q95 -> 0
A96: УПФ | B96: 05-52 | G96: Х | H96: Х | J96: =C96+D96+E96+F96+G96+H96+I96 -> 0 | O96: Х | P96: Х | R96: =K96+L96+M96+N96+O96+P96+Q96 -> 0
A97: Здравноосигурителни вноски | B97: 05-60 | G97: Х | H97: Х | J97: =C97+D97+E97+F97+G97+H97+I97 -> 0 | O97: Х | P97: Х | R97: =K97+L97+M97+N97+O97+P97+Q97 -> 0
A98: ДЗПО | B98: 05-80 | G98: Х | H98: Х | J98: =C98+D98+E98+F98+G98+H98+I98 -> 0 | O98: Х | P98: Х | R98: =K98+L98+M98+N98+O98+P98+Q98 -> 0
A99: Средства за персонал на субсидирани бройки | B99: 45-00 | C99: Х | D99: Х | E99: Х | F99: Х | G99: Х | H99: Х | I99: Х | J99: Х | K99: Х | L99: Х | M99: Х | N99: Х | O99: Х | P99: Х | Q99: Х | R99: Х
A100: Численост на персонала | J100: =C100+D100+E100+F100+G100+H100+I100 -> 0 | R100: =K100+L100+M100+N100+O100+P100+Q100 -> 0
A101: Субсидирана численост | C101: Х | D101: Х | E101: Х | F101: Х | G101: Х | H101: Х | I101: Х | J101: Х | K101: Х | L101: Х | M101: Х | N101: Х | O101: Х | P101: Х | Q101: Х | R101: Х
A102: 7. Култура, спорт, почивни дейности и религиозно дело | C102: =C103+C106+C107+C112 -> 0 | D102: =D103+D106+D107+D112 -> 0 | E102: =E103+E106+E107+E112 -> 0 | F102: =F103+F106+F107+F112 -> 0 | G102: =G103+G106+G107+G112 -> 0 | H102: =H103+H106+H107+H112 -> 0 | I102: =I103+I106+I107+I112 -> 0 | J102: =J103+J106+J107+J112 -> 0 | ... R102: =R103+R106+R107+R112 -> 0
...

Sheet 2028
A1: Код на общината по ЕБК | B1: =IF('2027'!B1="","",'2027'!B1)
A2: Наименование на общината | B2: =IF('2027'!B2="","",'2027'!B2)
A4: Справка ефекти персонал (в хил. евро) | N4: Приложение № 8б
C5: Общо по общинския бюджет: | I5: в т.ч. в държавните дейнности:
A6: Показатели | B6: по § и §§ | C6: Проект 2027 г. | D6: в т.ч. Ефект от увеличение на МРЗ на 680 eвро за 2028 г. | E6: Ефект от увеличение на МОД на 2500 евро за 2028 г. | F6: Ефект от промяна в модела на осигуряване на държавните служители | G6: Други ефекти -общо (натурални показатели, стратегически реформи и др.) | H6: Прогноза 2028 г. | I6: Проект 2027 г. ДД | J6: в т.ч. Ефект от увеличение на МРЗ на 680 евро за 2028 г. ДД | K6: Ефект от увеличение на МОД на 2500 евро за 2028 г. ДД | L6: Ефект от промяна в модела на осигуряване на държавните служители ДД | M6: Други ефекти -общо (натурални показатели, стратегически реформи и др.) ДД | N6: Прогноза 2028 г. ДД
A7: Персонал-общо: | C7: =C22+C37+C50+C63+C76+C89+C102+C115 -> 0 | D7: =D22+D37+D50+D63+D76+D89+D102+D115 -> 0 | E7: =E22+E37+E50+E63+E76+E89+E102+E115 -> 0 | F7: =F22+F37+F50+F63+F76+F89+F102+F115 -> 0 | G7: =G22+G37+G50+G63+G76+G89+G102+G115 -> 0 | H7: =H22+H37+H50+H63+H76+H89+H102+H115 -> 0 | I7: =I22+I37+I50+I63+I76+I89+I102+I115 -> 0 | J7: =J22+J37+J50+J63+J76+J89+J102+J115 -> 0 | ... N7: =N22+N37+N50+N63+N76+N89+N102+N115 -> 0
A8: Заплати | B8: 01-00 | C8: =C23+C38+C51+C64+C77+C90+C103+C116 -> 0 | D8: =D23+D38+D51+D64+D77+D90+D103+D116 -> 0 | E8: =E23+E38+E51+E64+E77+E90+E103+E116 -> 0 | F8: =F23+F38+F51+F64+F77+F90+F103+F116 -> 0 | G8: =G23+G38+G51+G64+G77+G90+G103+G116 -> 0 | H8: =H23+H38+H51+H64+H77+H90+H103+H116 -> 0 | I8: =I23+I38+I51+I64+I77+I90+I103+I116 -> 0 | J8: =J23+J38+J51+J64+J77+J90+J103+J116 -> 0 | ... N8: =N23+N38+N51+N64+N77+N90+N103+N116 -> 0
A9: по трудови правоотношения | B9: 01-01 | C9: =C24+C39+C52+C65+C78+C91+C104+C117 -> 0 | D9: =D24+D39+D52+D65+D78+D91+D104+D117 -> 0 | E9: =E24+E39+E52+E65+E78+E91+E104+E117 -> 0 | F9: =F24+F39+F52+F65+F78+F91+F104+F117 -> 0 | G9: =G24+G39+G52+G65+G78+G91+G104+G117 -> 0 | H9: =H24+H39+H52+H65+H78+H91+H104+H117 -> 0 | I9: =I24+I39+I52+I65+I78+I91+I104+I117 -> 0 | J9: =J24+J39+J52+J65+J78+J91+J104+J117 -> 0 | ... N9: =N24+N39+N52+N65+N78+N91+N104+N117 -> 0
A10: по служебни правоотношения | B10: 01-02 | C10: =C25+C40+C53+C66+C79+C92+C105+C118 -> 0 | D10: =D25+D40+D53+D66+D79+D92+D105+D118 -> 0 | E10: =E25+E40+E53+E66+E79+E92+E105+E118 -> 0 | F10: =F25+F40+F53+F66+F79+F92+F105+F118 -> 0 | G10: =G25+G40+G53+G66+G79+G92+G105+G118 -> 0 | H10: =H25+H40+H53+H66+H79+H92+H105+H118 -> 0 | I10: =I25+I40+I53+I66+I79+I92+I105+I118 -> 0 | J10: =J25+J40+J53+J66+J79+J92+J105+J118 -> 0 | ... N10: =N25+N40+N53+N66+N79+N92+N105+N118 -> 0
A11: Други възнаграждения и плащания за персонала | B11: 02-00 | C11: =C26+C41+C54+C67+C80+C93+C106+C119 -> 0 | D11: =D26+D41+D54+D67+D80+D93+D106+D119 -> 0 | E11: =E26+E41+E54+E67+E80+E93+E106+E119 -> 0 | F11: =F26+F41+F54+F67+F80+F93+F106+F119 -> 0 | G11: =G26+G41+G54+G67+G80+G93+G106+G119 -> 0 | H11: =H26+H41+H54+H67+H80+H93+H106+H119 -> 0 | I11: =I26+I41+I54+I67+I80+I93+I106+I119 -> 0 | J11: =J26+J41+J54+J67+J80+J93+J106+J119 -> 0 | ... N11: =N26+N41+N54+N67+N80+N93+N106+N119 -> 0
A12: Осигурителни вноски | B12: 05-00 | C12: =C27+C42+C55+C68+C81+C94+C107+C120 -> 0 | D12: =D27+D42+D55+D68+D81+D94+D107+D120 -> 0 | E12: =E27+E42+E55+E68+E81+E94+E107+E120 -> 0 | F12: =F27+F42+F55+F68+F81+F94+F107+F120 -> 0 | G12: =G27+G42+G55+G68+G81+G94+G107+G120 -> 0 | H12: =H27+H42+H55+H68+H81+H94+H107+H120 -> 0 | I12: =I27+I42+I55+I68+I81+I94+I107+I120 -> 0 | J12: =J27+J42+J55+J68+J81+J94+J107+J120 -> 0 | ... N12: =N27+N42+N55+N68+N81+N94+N107+N120 -> 0
A13: ДОО | B13: 05-51 | C13: =C28+C43+C56+C69+C82+C95+C108+C121 -> 0 | D13: =D28+D43+D56+D69+D82+D95+D108+D121 -> 0 | E13: =E28+E43+E56+E69+E82+E95+E108+E121 -> 0 | F13: =F28+F43+F56+F69+F82+F95+F108+F121 -> 0 | G13: =G28+G43+G56+G69+G82+G95+G108+G121 -> 0 | H13: =H28+H43+H56+H69+H82+H95+H108+H121 -> 0 | I13: =I28+I43+I56+I69+I82+I95+I108+I121 -> 0 | J13: =J28+J43+J56+J69+J82+J95+J108+J121 -> 0 | ... N13: =N28+N43+N56+N69+N82+N95+N108+N121 -> 0
A14: УПФ | B14: 05-52 | C14: =C29+C44+C57+C70+C83+C96+C109+C122 -> 0 | D14: =D29+D44+D57+D70+D83+D96+D109+D122 -> 0 | E14: =E29+E44+E57+E70+E83+E96+E109+E122 -> 0 | F14: =F29+F44+F57+F70+F83+F96+F109+F122 -> 0 | G14: =G29+G44+G57+G70+G83+G96+G109+G122 -> 0 | H14: =H29+H44+H57+H70+H83+H96+H109+H122 -> 0 | I14: =I29+I44+I57+I70+I83+I96+I109+I122 -> 0 | J14: =J29+J44+J57+J70+J83+J96+J109+J122 -> 0 | ... N14: =N29+N44+N57+N70+N83+N96+N109+N122 -> 0
A15: Здравноосигурителни вноски | B15: 05-60 | C15: =C30+C45+C58+C71+C84+C97+C110+C123 -> 0 | D15: =D30+D45+D58+D71+D84+D97+D110+D123 -> 0 | E15: =E30+E45+E58+E71+E84+E97+E110+E123 -> 0 | F15: =F30+F45+F58+F71+F84+F97+F110+F123 -> 0 | G15: =G30+G45+G58+G71+G84+G97+G110+G123 -> 0 | H15: =H30+H45+H58+H71+H84+H97+H110+H123 -> 0 | I15: =I30+I45+I58+I71+I84+I97+I110+I123 -> 0 | J15: =J30+J45+J58+J71+J84+J97+J110+J123 -> 0 | ... N15: =N30+N45+N58+N71+N84+N97+N110+N123 -> 0
A16: ДЗПО | B16: 05-80 | C16: =C31+C46+C59+C72+C85+C98+C111+C124 -> 0 | D16: =D31+D46+D59+D72+D85+D98+D111+D124 -> 0 | E16: =E31+E46+E59+E72+E85+E98+E111+E124 -> 0 | F16: =F31+F46+F59+F72+F85+F98+F111+F124 -> 0 | G16: =G31+G46+G59+G72+G85+G98+G111+G124 -> 0 | H16: =H31+H46+H59+H72+H85+H98+H111+H124 -> 0 | I16: =I31+I46+I59+I72+I85+I98+I111+I124 -> 0 | J16: =J31+J46+J59+J72+J85+J98+J111+J124 -> 0 | ... N16: =N31+N46+N59+N72+N85+N98+N111+N124 -> 0
A17: Средства за персонал на субсидирани бройки | B17: 45-00 | C17: =C32+C47+C60+C73+C86+C99+C112+C125 -> 0 | D17: =D32+D47+D60+D73+D86+D99+D112+D125 -> 0 | E17: =E32+E47+E60+E73+E86+E99+E112+E125 -> 0 | F17: =F32+F47+F60+F73+F86+F99+F112+F125 -> 0 | G17: =G32+G47+G60+G73+G86+G99+G112+G125 -> 0 | H17: =H32+H47+H60+H73+H86+H99+H112+H125 -> 0 | I17: =I32+I47+I60+I73+I86+I99+I112+I125 -> 0 | J17: =J32+J47+J60+J73+J86+J99+J112+J125 -> 0 | ... N17: =N32+N47+N60+N73+N86+N99+N112+N125 -> 0
A18: Численост на персонала | C18: =C33+C48+C61+C74+C87+C100+C113+C126 -> 0 | D18: =D33+D48+D61+D74+D87+D100+D113+D126 -> 0 | E18: =E33+E48+E61+E74+E87+E100+E113+E126 -> 0 | F18: =F33+F48+F61+F74+F87+F100+F113+F126 -> 0 | G18: =G33+G48+G61+G74+G87+G100+G113+G126 -> 0 | H18: =H33+H48+H61+H74+H87+H100+H113+H126 -> 0 | I18: =I33+I48+I61+I74+I87+I100+I113+I126 -> 0 | J18: =J33+J48+J61+J74+J87+J100+J113+J126 -> 0 | ... N18: =N33+N48+N61+N74+N87+N100+N113+N126 -> 0
A19: Субсидирана численост | C19: =C36+C49+C62+C75+C88+C101+C114+C127 -> 0 | D19: =D36+D49+D62+D75+D88+D101+D114+D127 -> 0 | E19: =E36+E49+E62+E75+E88+E101+E114+E127 -> 0 | F19: =F36+F49+F62+F75+F88+F101+F114+F127 -> 0 | G19: =G36+G49+G62+G75+G88+G101+G114+G127 -> 0 | H19: =H36+H49+H62+H75+H88+H101+H114+H127 -> 0 | I19: =I36+I49+I62+I75+I88+I101+I114+I127 -> 0 | J19: =J36+J49+J62+J75+J88+J101+J114+J127 -> 0 | ... N19: =N36+N49+N62+N75+N88+N101+N114+N127 -> 0
A21: Разбивка персонал по функции: | C21: =C22+C37+C50+C63+C76+C102+C115 -> 0 | D21: =D22+D37+D50+D63+D76+D102+D115 -> 0 | E21: =E22+E37+E50+E63+E76+E102+E115 -> 0 | F21: =F22+F37+F50+F63+F76+F102+F115 -> 0 | G21: =G22+G37+G50+G63+G76+G102+G115 -> 0 | H21: =H22+H37+H50+H63+H76+H102+H115 -> 0 | I21: =I22+I37+I50+I63+I76+I102+I115 -> 0 | J21: =J22+J37+J50+J63+J76+J102+J115 -> 0 | ... N21: =N22+N37+N50+N63+N76+N102+N115 -> 0
A22: 1. Изпълнителни и законодателни органи | C22: =C23+C26+C27+C32 -> 0 | D22: =D23+D26+D27+D32 -> 0 | E22: =E23+E26+E27+E32 -> 0 | F22: =F23+F26+F27+F32 -> 0 | G22: =G23+G26+G27+G32 -> 0 | H22: =H23+H26+H27+H32 -> 0 | I22: =I23+I26+I27+I32 -> 0 | J22: =J23+J26+J27+J32 -> 0 | ... N22: =N23+N26+N27+N32 -> 0
A23: Заплати | B23: 01-00 | C23: =C24+C25 -> 0 | D23: =D24+D25 -> 0 | E23: =E24+E25 -> 0 | F23: =F24+F25 -> 0 | G23: =G24+G25 -> 0 | H23: =H24+H25 -> 0 | I23: =I24+I25 -> 0 | J23: =J24+J25 -> 0 | ... N23: =N24+N25 -> 0
A24: по трудови правоотношения | B24: 01-01 | C24: ='2027'!J24 -> 0 | E24: Х | H24: =C24+D24+E24+F24+G24 -> 0 | I24: ='2027'!R24 -> 0 | K24: Х | N24: =I24+J24+K24+L24+M24 -> 0
A25: по служебни правоотношения | B25: 01-02 | C25: ='2027'!J25 -> 0 | E25: Х | H25: =C25+D25+E25+F25+G25 -> 0 | I25: ='2027'!R25 -> 0 | K25: Х | N25: =I25+J25+K25+L25+M25 -> 0
A26: Други възнаграждения и плащания за персонала | B26: 02-00 | C26: ='2027'!J26 -> 0 | E26: Х | F26: Х | H26: =C26+D26+E26+F26+G26 -> 0 | I26: ='2027'!R26 -> 0 | K26: Х | L26: Х | N26: =I26+J26+K26+L26+M26 -> 0
A27: Осигурителни вноски | B27: 05-00 | C27: =C28+C29+C30+C31 -> 0 | D27: =D28+D29+D30+D31 -> 0 | E27: =E28+E29+E30+E31 -> 0 | F27: =F28+F29+F30+F31 -> 0 | G27: =G28+G29+G30+G31 -> 0 | H27: =H28+H29+H30+H31 -> 0 | I27: =I28+I29+I30+I31 -> 0 | J27: =J28+J29+J30+J31 -> 0 | ... N27: =N28+N29+N30+N31 -> 0
A28: ДОО | B28: 05-51 | C28: ='2027'!J28 -> 0 | H28: =C28+D28+E28+F28+G28 -> 0 | I28: ='2027'!R28 -> 0 | N28: =I28+J28+K28+L28+M28 -> 0
A29: УПФ | B29: 05-52 | C29: ='2027'!J29 -> 0 | H29: =C29+D29+E29+F29+G29 -> 0 | I29: ='2027'!R29 -> 0 | N29: =I29+J29+K29+L29+M29 -> 0
A30: Здравноосигурителни вноски | B30: 05-60 | C30: ='2027'!J30 -> 0 | H30: =C30+D30+E30+F30+G30 -> 0 | I30: ='2027'!R30 -> 0 | N30: =I30+J30+K30+L30+M30 -> 0
A31: ДЗПО | B31: 05-80 | C31: ='2027'!J31 -> 0 | H31: =C31+D31+E31+F31+G31 -> 0 | I31: ='2027'!R31 -> 0 | N31: =I31+J31+K31+L31+M31 -> 0
A32: Средства за персонал на субсидирани бройки | B32: 45-00 | C32: Х | D32: Х | E32: Х | F32: Х | G32: Х | H32: Х | I32: Х | J32: Х | K32: Х | L32: Х | M32: Х | N32: Х
A33: Численост на персонала | C33: =C34+C35 -> 0 | D33: =D34+D35 -> 0 | E33: =E34+E35 -> 0 | F33: =F34+F35 -> 0 | G33: =G34+G35 -> 0 | H33: =H34+H35 -> 0 | I33: =I34+I35 -> 0 | N33: =N34+N35 -> 0
A34: - по трудови правоотношения | C34: ='2027'!J34 -> 0 | I34: ='2027'!R34 -> 0
A35: - по служебни правоотношения | C35: ='2027'!J35 -> 0 | I35: ='2027'!R35 -> 0
A36: Субсидирана численост | C36: Х | D36: Х | E36: Х | F36: Х | G36: Х | H36: Х | I36: Х | J36: Х | K36: Х | L36: Х | M36: Х | N36: Х
A37: 2. Отбрана и сигурност | C37: =C38+C41+C42+C47 -> 0 | D37: =D38+D41+D42+D47 -> 0 | E37: =E38+E41+E42+E47 -> 0 | F37: =F38+F41+F42+F47 -> 0 | G37: =G38+G41+G42+G47 -> 0 | H37: =H38+H41+H42+H47 -> 0 | I37: =I38+I41+I42+I47 -> 0 | J37: =J38+J41+J42+J47 -> 0 | ... N37: =N38+N41+N42+N47 -> 0
A38: Заплати | B38: 01-00 | C38: =C39+C40 -> 0 | D38: =D39+D40 -> 0 | E38: =E39+E40 -> 0 | F38: =F39+F40 -> 0 | G38: =G39+G40 -> 0 | H38: =H39+H40 -> 0 | I38: =I39+I40 -> 0 | J38: =J39+J40 -> 0 | ... N38: =N39+N40 -> 0
A39: по трудови правоотношения | B39: 01-01 | C39: ='2027'!J39 -> 0 | E39: Х | F39: Х | H39: =C39+D39+E39+F39+G39 -> 0 | I39: ='2027'!R39 -> 0 | K39: Х | L39: Х | N39: =I39+J39+K39+L39+M39 -> 0
A40: по служебни правоотношения | B40: 01-02 | C40: ='2027'!J40 -> 0 | E40: Х | F40: Х | H40: =C40+D40+E40+F40+G40 -> 0 | I40: ='2027'!R40 -> 0 | K40: Х | L40: Х | N40: =I40+J40+K40+L40+M40 -> 0
A41: Други възнаграждения и плащания за персонала | B41: 02-00 | C41: ='2027'!J41 -> 0 | E41: Х | F41: Х | H41: =C41+D41+E41+F41+G41 -> 0 | I41: ='2027'!R41 -> 0 | K41: Х | L41: Х | N41: =I41+J41+K41+L41+M41 -> 0
A42: Осигурителни вноски | B42: 05-00 | C42: =C43+C44+C45+C46 -> 0 | D42: =D43+D44+D45+D46 -> 0 | E42: =E43+E44+E45+E46 -> 0 | F42: =F43+F44+F45+F46 -> 0 | G42: =G43+G44+G45+G46 -> 0 | H42: =H43+H44+H45+H46 -> 0 | I42: =I43+I44+I45+I46 -> 0 | J42: =J43+J44+J45+J46 -> 0 | ... N42: =N43+N44+N45+N46 -> 0
A43: ДОО | B43: 05-51 | C43: ='2027'!J43 -> 0 | F43: Х | H43: =C43+D43+E43+F43+G43 -> 0 | I43: ='2027'!R43 -> 0 | L43: Х | N43: =I43+J43+K43+L43+M43 -> 0
A44: УПФ | B44: 05-52 | C44: ='2027'!J44 -> 0 | F44: Х | H44: =C44+D44+E44+F44+G44 -> 0 | I44: ='2027'!R44 -> 0 | L44: Х | N44: =I44+J44+K44+L44+M44 -> 0
A45: Здравноосигурителни вноски | B45: 05-60 | C45: ='2027'!J45 -> 0 | F45: Х | H45: =C45+D45+E45+F45+G45 -> 0 | I45: ='2027'!R45 -> 0 | L45: Х | N45: =I45+J45+K45+L45+M45 -> 0
A46: ДЗПО | B46: 05-80 | C46: ='2027'!J46 -> 0 | F46: Х | H46: =C46+D46+E46+F46+G46 -> 0 | I46: ='2027'!R46 -> 0 | L46: Х | N46: =I46+J46+K46+L46+M46 -> 0
A47: Средства за персонал на субсидирани бройки | B47: 45-00 | C47: Х | D47: Х | E47: Х | F47: Х | G47: Х | H47: Х | I47: Х | J47: Х | K47: Х | L47: Х | M47: Х | N47: Х
A48: Численост на персонала | C48: ='2027'!J48 -> 0 | I48: ='2027'!R48 -> 0
A49: Субсидирана численост | C49: Х | D49: Х | E49: Х | F49: Х | G49: Х | H49: Х | I49: Х | J49: Х | K49: Х | L49: Х | M49: Х | N49: Х
A50: 3. Образование | C50: =C51+C54+C55+C60 -> 0 | D50: =D51+D54+D55+D60 -> 0 | E50: =E51+E54+E55+E60 -> 0 | F50: =F51+F54+F55+F60 -> 0 | G50: =G51+G54+G55+G60 -> 0 | H50: =H51+H54+H55+H60 -> 0 | I50: =I51+I54+I55+I60 -> 0 | J50: =J51+J54+J55+J60 -> 0 | ... N50: =N51+N54+N55+N60 -> 0
A51: Заплати | B51: 01-00 | C51: =C52+C53 -> 0 | D51: =D52+D53 -> 0 | E51: =E52+E53 -> 0 | F51: =F52+F53 -> 0 | G51: =G52+G53 -> 0 | H51: =H52+H53 -> 0 | I51: =I52+I53 -> 0 | J51: =J52+J53 -> 0 | ... N51: =N52+N53 -> 0
A52: по трудови правоотношения | B52: 01-01 | C52: ='2027'!J52 -> 0 | E52: Х | F52: Х | H52: =C52+D52+E52+F52+G52 -> 0 | I52: ='2027'!R52 -> 0 | K52: Х | L52: Х | N52: =I52+J52+K52+L52+M52 -> 0
A53: по служебни правоотношения | B53: 01-02 | C53: ='2027'!J53 -> 0 | E53: Х | F53: Х | H53: =C53+D53+E53+F53+G53 -> 0 | I53: ='2027'!R53 -> 0 | K53: Х | L53: Х | N53: =I53+J53+K53+L53+M53 -> 0
A54: Други възнаграждения и плащания за персонала | B54: 02-00 | C54: ='2027'!J54 -> 0 | E54: Х | F54: Х | H54: =C54+D54+E54+F54+G54 -> 0 | I54: ='2027'!R54 -> 0 | K54: Х | L54: Х | N54: =I54+J54+K54+L54+M54 -> 0
A55: Осигурителни вноски | B55: 05-00 | C55: =C56+C57+C58+C59 -> 0 | D55: =D56+D57+D58+D59 -> 0 | E55: =E56+E57+E58+E59 -> 0 | F55: =F56+F57+F58+F59 -> 0 | G55: =G56+G57+G58+G59 -> 0 | H55: =H56+H57+H58+H59 -> 0 | I55: =I56+I57+I58+I59 -> 0 | J55: =J56+J57+J58+J59 -> 0 | ... N55: =N56+N57+N58+N59 -> 0
A56: ДОО | B56: 05-51 | C56: ='2027'!J56 -> 0 | F56: Х | H56: =C56+D56+E56+F56+G56 -> 0 | I56: ='2027'!R56 -> 0 | L56: Х | N56: =I56+J56+K56+L56+M56 -> 0
A57: УПФ | B57: 05-52 | C57: ='2027'!J57 -> 0 | F57: Х | H57: =C57+D57+E57+F57+G57 -> 0 | I57: ='2027'!R57 -> 0 | L57: Х | N57: =I57+J57+K57+L57+M57 -> 0
A58: Здравноосигурителни вноски | B58: 05-60 | C58: ='2027'!J58 -> 0 | F58: Х | H58: =C58+D58+E58+F58+G58 -> 0 | I58: ='2027'!R58 -> 0 | L58: Х | N58: =I58+J58+K58+L58+M58 -> 0
A59: ДЗПО | B59: 05-80 | C59: ='2027'!J59 -> 0 | F59: Х | H59: =C59+D59+E59+F59+G59 -> 0 | I59: ='2027'!R59 -> 0 | L59: Х | N59: =I59+J59+K59+L59+M59 -> 0
A60: Средства за персонал на субсидирани бройки | B60: 45-00 | C60: Х | D60: Х | E60: Х | F60: Х | G60: Х | H60: Х | I60: Х | J60: Х | K60: Х | L60: Х | M60: Х | N60: Х
A61: Численост на персонала | C61: ='2027'!J61 -> 0 | I61: ='2027'!R61 -> 0
A62: Субсидирана численост | C62: Х | D62: Х | E62: Х | F62: Х | G62: Х | H62: Х | I62: Х | J62: Х | K62: Х | L62: Х | M62: Х | N62: Х
A63: 4. Здравеопазване | C63: =C64+C67+C68+C73 -> 0 | D63: =D64+D67+D68+D73 -> 0 | E63: =E64+E67+E68+E73 -> 0 | F63: =F64+F67+F68+F73 -> 0 | G63: =G64+G67+G68+G73 -> 0 | H63: =H64+H67+H68+H73 -> 0 | I63: =I64+I67+I68+I73 -> 0 | J63: =J64+J67+J68+J73 -> 0 | ... N63: =N64+N67+N68+N73 -> 0
A64: Заплати | B64: 01-00 | C64: =C65+C66 -> 0 | D64: =D65+D66 -> 0 | E64: =E65+E66 -> 0 | F64: =F65+F66 -> 0 | G64: =G65+G66 -> 0 | H64: =H65+H66 -> 0 | I64: =I65+I66 -> 0 | J64: =J65+J66 -> 0 | ... N64: =N65+N66 -> 0
A65: по трудови правоотношения | B65: 01-01 | C65: ='2027'!J65 -> 0 | E65: Х | F65: Х | H65: =C65+D65+E65+F65+G65 -> 0 | I65: ='2027'!R65 -> 0 | K65: Х | L65: Х | N65: =I65+J65+K65+L65+M65 -> 0
A66: по служебни правоотношения | B66: 01-02 | C66: ='2027'!J66 -> 0 | E66: Х | F66: Х | H66: =C66+D66+E66+F66+G66 -> 0 | I66: ='2027'!R66 -> 0 | K66: Х | L66: Х | N66: =I66+J66+K66+L66+M66 -> 0
A67: Други възнаграждения и плащания за персонала | B67: 02-00 | C67: ='2027'!J67 -> 0 | E67: Х | F67: Х | H67: =C67+D67+E67+F67+G67 -> 0 | I67: ='2027'!R67 -> 0 | K67: Х | L67: Х | N67: =I67+J67+K67+L67+M67 -> 0
A68: Осигурителни вноски | B68: 05-00 | C68: =C69+C70+C71+C72 -> 0 | D68: =D69+D70+D71+D72 -> 0 | E68: =E69+E70+E71+E72 -> 0 | F68: =F69+F70+F71+F72 -> 0 | G68: =G69+G70+G71+G72 -> 0 | H68: =H69+H70+H71+H72 -> 0 | I68: =I69+I70+I71+I72 -> 0 | J68: =J69+J70+J71+J72 -> 0 | ... N68: =N69+N70+N71+N72 -> 0
A69: ДОО | B69: 05-51 | C69: ='2027'!J69 -> 0 | F69: Х | H69: =C69+D69+E69+F69+G69 -> 0 | I69: ='2027'!R69 -> 0 | L69: Х | N69: =I69+J69+K69+L69+M69 -> 0
A70: УПФ | B70: 05-52 | C70: ='2027'!J70 -> 0 | F70: Х | H70: =C70+D70+E70+F70+G70 -> 0 | I70: ='2027'!R70 -> 0 | L70: Х | N70: =I70+J70+K70+L70+M70 -> 0
A71: Здравноосигурителни вноски | B71: 05-60 | C71: ='2027'!J71 -> 0 | F71: Х | H71: =C71+D71+E71+F71+G71 -> 0 | I71: ='2027'!R71 -> 0 | L71: Х | N71: =I71+J71+K71+L71+M71 -> 0
A72: ДЗПО | B72: 05-80 | C72: ='2027'!J72 -> 0 | F72: Х | H72: =C72+D72+E72+F72+G72 -> 0 | I72: ='2027'!R72 -> 0 | L72: Х | N72: =I72+J72+K72+L72+M72 -> 0
A73: Средства за персонал на субсидирани бройки | B73: 45-00 | C73: Х | D73: Х | E73: Х | F73: Х | G73: Х | H73: Х | I73: Х | J73: Х | K73: Х | L73: Х | M73: Х | N73: Х
A74: Численост на персонала | C74: ='2027'!J74 -> 0 | I74: ='2027'!R74 -> 0
A75: Субсидирана численост | C75: Х | D75: Х | E75: Х | F75: Х | G75: Х | H75: Х | I75: Х | J75: Х | K75: Х | L75: Х | M75: Х | N75: Х
A76: 5. Социално осигуряване, подпомагане и грижи | C76: =C77+C80+C81+C86 -> 0 | D76: =D77+D80+D81+D86 -> 0 | E76: =E77+E80+E81+E86 -> 0 | F76: =F77+F80+F81+F86 -> 0 | G76: =G77+G80+G81+G86 -> 0 | H76: =H77+H80+H81+H86 -> 0 | I76: =I77+I80+I81+I86 -> 0 | J76: =J77+J80+J81+J86 -> 0 | ... N76: =N77+N80+N81+N86 -> 0
A77: Заплати | B77: 01-00 | C77: =C78+C79 -> 0 | D77: =D78+D79 -> 0 | E77: =E78+E79 -> 0 | F77: =F78+F79 -> 0 | G77: =G78+G79 -> 0 | H77: =H78+H79 -> 0 | I77: =I78+I79 -> 0 | J77: =J78+J79 -> 0 | ... N77: =N78+N79 -> 0
A78: по трудови правоотношения | B78: 01-01 | C78: ='2027'!J78 -> 0 | E78: Х | F78: Х | H78: =C78+D78+E78+F78+G78 -> 0 | I78: ='2027'!R78 -> 0 | K78: Х | L78: Х | N78: =I78+J78+K78+L78+M78 -> 0
A79: по служебни правоотношения | B79: 01-02 | C79: ='2027'!J79 -> 0 | E79: Х | F79: Х | H79: =C79+D79+E79+F79+G79 -> 0 | I79: ='2027'!R79 -> 0 | K79: Х | L79: Х | N79: =I79+J79+K79+L79+M79 -> 0
A80: Други възнаграждения и плащания за персонала | B80: 02-00 | C80: ='2027'!J80 -> 0 | E80: Х | F80: Х | H80: =C80+D80+E80+F80+G80 -> 0 | I80: ='2027'!R80 -> 0 | K80: Х | L80: Х | N80: =I80+J80+K80+L80+M80 -> 0
A81: Осигурителни вноски | B81: 05-00 | C81: =C82+C83+C84+C85 -> 0 | D81: =D82+D83+D84+D85 -> 0 | E81: =E82+E83+E84+E85 -> 0 | F81: =F82+F83+F84+F85 -> 0 | G81: =G82+G83+G84+G85 -> 0 | H81: =H82+H83+H84+H85 -> 0 | I81: =I82+I83+I84+I85 -> 0 | J81: =J82+J83+J84+J85 -> 0 | ... N81: =N82+N83+N84+N85 -> 0
A82: ДОО | B82: 05-51 | C82: ='2027'!J82 -> 0 | F82: Х | H82: =C82+D82+E82+F82+G82 -> 0 | I82: ='2027'!R82 -> 0 | L82: Х | N82: =I82+J82+K82+L82+M82 -> 0
A83: УПФ | B83: 05-52 | C83: ='2027'!J83 -> 0 | F83: Х | H83: =C83+D83+E83+F83+G83 -> 0 | I83: ='2027'!R83 -> 0 | L83: Х | N83: =I83+J83+K83+L83+M83 -> 0
A84: Здравноосигурителни вноски | B84: 05-60 | C84: ='2027'!J84 -> 0 | F84: Х | H84: =C84+D84+E84+F84+G84 -> 0 | I84: ='2027'!R84 -> 0 | L84: Х | N84: =I84+J84+K84+L84+M84 -> 0
A85: ДЗПО | B85: 05-80 | C85: ='2027'!J85 -> 0 | F85: Х | H85: =C85+D85+E85+F85+G85 -> 0 | I85: ='2027'!R85 -> 0 | L85: Х | N85: =I85+J85+K85+L85+M85 -> 0
A86: Средства за персонал на субсидирани бройки | B86: 45-00 | C86: Х | D86: Х | E86: Х | F86: Х | G86: Х | H86: Х | I86: Х | J86: Х | K86: Х | L86: Х | M86: Х | N86: Х
A87: Численост на персонала | C87: ='2027'!J87 -> 0 | I87: ='2027'!R87 -> 0
A88: Субсидирана численост | C88: Х | D88: Х | E88: Х | F88: Х | G88: Х | H88: Х | I88: Х | J88: Х | K88: Х | L88: Х | M88: Х | N88: Х
A89: 6. Жилищно строителство, благоустройство, комунално стопанство и опазване на околната среда | C89: =C90+C93+C94+C99 -> 0 | D89: =D90+D93+D94+D99 -> 0 | E89: =E90+E93+E94+E99 -> 0 | F89: =F90+F93+F94+F99 -> 0 | G89: =G90+G93+G94+G99 -> 0 | H89: =H90+H93+H94+H99 -> 0 | I89: =I90+I93+I94+I99 -> 0 | J89: =J90+J93+J94+J99 -> 0 | ... N89: =N90+N93+N94+N99 -> 0
A90: Заплати | B90: 01-00 | C90: =C91+C92 -> 0 | D90: =D91+D92 -> 0 | E90: =E91+E92 -> 0 | F90: =F91+F92 -> 0 | G90: =G91+G92 -> 0 | H90: =H91+H92 -> 0 | I90: =I91+I92 -> 0 | J90: =J91+J92 -> 0 | ... N90: =N91+N92 -> 0
A91: по трудови правоотношения | B91: 01-01 | C91: ='2027'!J91 -> 0 | E91: Х | F91: Х | H91: =C91+D91+E91+F91+G91 -> 0 | I91: ='2027'!R91 -> 0 | K91: Х | L91: Х | N91: =I91+J91+K91+L91+M91 -> 0
A92: по служебни правоотношения | B92: 01-02 | C92: ='2027'!J92 -> 0 | E92: Х | F92: Х | H92: =C92+D92+E92+F92+G92 -> 0 | I92: ='2027'!R92 -> 0 | K92: Х | L92: Х | N92: =I92+J92+K92+L92+M92 -> 0
A93: Други възнаграждения и плащания за персонала | B93: 02-00 | C93: ='2027'!J93 -> 0 | E93: Х | F93: Х | H93: =C93+D93+E93+F93+G93 -> 0 | I93: ='2027'!R93 -> 0 | K93: Х | L93: Х | N93: =I93+J93+K93+L93+M93 -> 0
A94: Осигурителни вноски | B94: 05-00 | C94: =C95+C96+C97+C98 -> 0 | D94: =D95+D96+D97+D98 -> 0 | E94: =E95+E96+E97+E98 -> 0 | F94: =F95+F96+F97+F98 -> 0 | G94: =G95+G96+G97+G98 -> 0 | H94: =H95+H96+H97+H98 -> 0 | I94: =I95+I96+I97+I98 -> 0 | J94: =J95+J96+J97+J98 -> 0 | ... N94: =N95+N96+N97+N98 -> 0
A95: ДОО | B95: 05-51 | C95: ='2027'!J95 -> 0 | F95: Х | H95: =C95+D95+E95+F95+G95 -> 0 | I95: ='2027'!R95 -> 0 | L95: Х | N95: =I95+J95+K95+L95+M95 -> 0
A96: УПФ | B96: 05-52 | C96: ='2027'!J96 -> 0 | F96: Х | H96: =C96+D96+E96+F96+G96 -> 0 | I96: ='2027'!R96 -> 0 | L96: Х | N96: =I96+J96+K96+L96+M96 -> 0
A97: Здравноосигурителни вноски | B97: 05-60 | C97: ='2027'!J97 -> 0 | F97: Х | H97: =C97+D97+E97+F97+G97 -> 0 | I97: ='2027'!R97 -> 0 | L97: Х | N97: =I97+J97+K97+L97+M97 -> 0
A98: ДЗПО | B98: 05-80 | C98: ='2027'!J98 -> 0 | F98: Х | H98: =C98+D98+E98+F98+G98 -> 0 | I98: ='2027'!R98 -> 0 | L98: Х | N98: =I98+J98+K98+L98+M98 -> 0
A99: Средства за персонал на субсидирани бройки | B99: 45-00 | C99: Х | D99: Х | E99: Х | F99: Х | G99: Х | H99: Х | I99: Х | J99: Х | K99: Х | L99: Х | M99: Х | N99: Х
A100: Численост на персонала | C100: ='2027'!J100 -> 0 | I100: ='2027'!R100 -> 0
A101: Субсидирана численост | C101: Х | D101: Х | E101: Х | F101: Х | G101: Х | H101: Х | I101: Х | J101: Х | K101: Х | L101: Х | M101: Х | N101: Х
A102: 7. Култура, спорт, почивни дейности и религиозно дело | C102: =C103+C106+C107+C112 -> 0 | D102: =D103+D106+D107+D112 -> 0 | E102: =E103+E106+E107+E112 -> 0 | F102: =F103+F106+F107+F112 -> 0 | G102: =G103+G106+G107+G112 -> 0 | H102: =H103+H106+H107+H112 -> 0 | I102: =I103+I106+I107+I112 -> 0 | J102: =J103+J106+J107+J112 -> 0 | ... N102: =N103+N106+N107+N112 -> 0
...

Sheet 2029
A1: Код на общината по ЕБК | B1: =IF('2028'!B1="","",'2028'!B1)
A2: Наименование на общината | B2: =IF('2028'!B2="","",'2028'!B2)
A4: Справка ефекти персонал (в хил. евро) | N4: Приложение № 8б
C5: Общо по общинския бюджет: | I5: в т.ч. в държавните дейнности:
A6: Показатели | B6: по § и §§ | C6: Прогноза 2028 г. | D6: в т.ч. Ефект от увеличение на МРЗ на 710 евро за 2029 г. | E6: Ефект от увеличение на МОД на 2600 евро за 2029 г. | F6: Ефект от промяна в модела на осигуряване на държавните служители | G6: Други ефекти -общо (натурални показатели, стратегически реформи и др.) | H6: Прогноза 2029 г. | I6: Прогноза 2028 г. ДД | J6: в т.ч. Ефект от увеличение на МРЗ на 710 евро за 2029 г. ДД | K6: Ефект от увеличение на МОД на 2600 евро за 2029 г. ДД | L6: Ефект от промяна в модела на осигуряване на държавните служители ДД | M6: Други ефекти -общо (натурални показатели, стратегически реформи и др.) ДД | N6: Прогноза 2029 г. ДД
A7: Персонал-общо: | C7: =C22+C37+C50+C63+C76+C89+C102+C115 -> 0 | D7: =D22+D37+D50+D63+D76+D89+D102+D115 -> 0 | E7: =E22+E37+E50+E63+E76+E89+E102+E115 -> 0 | F7: =F22+F37+F50+F63+F76+F89+F102+F115 -> 0 | G7: =G22+G37+G50+G63+G76+G89+G102+G115 -> 0 | H7: =H22+H37+H50+H63+H76+H89+H102+H115 -> 0 | I7: =I22+I37+I50+I63+I76+I89+I102+I115 -> 0 | J7: =J22+J37+J50+J63+J76+J89+J102+J115 -> 0 | ... N7: =N22+N37+N50+N63+N76+N89+N102+N115 -> 0
A8: Заплати | B8: 01-00 | C8: =C23+C38+C51+C64+C77+C90+C103+C116 -> 0 | D8: =D23+D38+D51+D64+D77+D90+D103+D116 -> 0 | E8: =E23+E38+E51+E64+E77+E90+E103+E116 -> 0 | F8: =F23+F38+F51+F64+F77+F90+F103+F116 -> 0 | G8: =G23+G38+G51+G64+G77+G90+G103+G116 -> 0 | H8: =H23+H38+H51+H64+H77+H90+H103+H116 -> 0 | I8: =I23+I38+I51+I64+I77+I90+I103+I116 -> 0 | J8: =J23+J38+J51+J64+J77+J90+J103+J116 -> 0 | ... N8: =N23+N38+N51+N64+N77+N90+N103+N116 -> 0
A9: по трудови правоотношения | B9: 01-01 | C9: =C24+C39+C52+C65+C78+C91+C104+C117 -> 0 | D9: =D24+D39+D52+D65+D78+D91+D104+D117 -> 0 | E9: =E24+E39+E52+E65+E78+E91+E104+E117 -> 0 | F9: =F24+F39+F52+F65+F78+F91+F104+F117 -> 0 | G9: =G24+G39+G52+G65+G78+G91+G104+G117 -> 0 | H9: =H24+H39+H52+H65+H78+H91+H104+H117 -> 0 | I9: =I24+I39+I52+I65+I78+I91+I104+I117 -> 0 | J9: =J24+J39+J52+J65+J78+J91+J104+J117 -> 0 | ... N9: =N24+N39+N52+N65+N78+N91+N104+N117 -> 0
A10: по служебни правоотношения | B10: 01-02 | C10: =C25+C40+C53+C66+C79+C92+C105+C118 -> 0 | D10: =D25+D40+D53+D66+D79+D92+D105+D118 -> 0 | E10: =E25+E40+E53+E66+E79+E92+E105+E118 -> 0 | F10: =F25+F40+F53+F66+F79+F92+F105+F118 -> 0 | G10: =G25+G40+G53+G66+G79+G92+G105+G118 -> 0 | H10: =H25+H40+H53+H66+H79+H92+H105+H118 -> 0 | I10: =I25+I40+I53+I66+I79+I92+I105+I118 -> 0 | J10: =J25+J40+J53+J66+J79+J92+J105+J118 -> 0 | ... N10: =N25+N40+N53+N66+N79+N92+N105+N118 -> 0
A11: Други възнаграждения и плащания за персонала | B11: 02-00 | C11: =C26+C41+C54+C67+C80+C93+C106+C119 -> 0 | D11: =D26+D41+D54+D67+D80+D93+D106+D119 -> 0 | E11: =E26+E41+E54+E67+E80+E93+E106+E119 -> 0 | F11: =F26+F41+F54+F67+F80+F93+F106+F119 -> 0 | G11: =G26+G41+G54+G67+G80+G93+G106+G119 -> 0 | H11: =H26+H41+H54+H67+H80+H93+H106+H119 -> 0 | I11: =I26+I41+I54+I67+I80+I93+I106+I119 -> 0 | J11: =J26+J41+J54+J67+J80+J93+J106+J119 -> 0 | ... N11: =N26+N41+N54+N67+N80+N93+N106+N119 -> 0
A12: Осигурителни вноски | B12: 05-00 | C12: =C27+C42+C55+C68+C81+C94+C107+C120 -> 0 | D12: =D27+D42+D55+D68+D81+D94+D107+D120 -> 0 | E12: =E27+E42+E55+E68+E81+E94+E107+E120 -> 0 | F12: =F27+F42+F55+F68+F81+F94+F107+F120 -> 0 | G12: =G27+G42+G55+G68+G81+G94+G107+G120 -> 0 | H12: =H27+H42+H55+H68+H81+H94+H107+H120 -> 0 | I12: =I27+I42+I55+I68+I81+I94+I107+I120 -> 0 | J12: =J27+J42+J55+J68+J81+J94+J107+J120 -> 0 | ... N12: =N27+N42+N55+N68+N81+N94+N107+N120 -> 0
A13: ДОО | B13: 05-51 | C13: =C28+C43+C56+C69+C82+C95+C108+C121 -> 0 | D13: =D28+D43+D56+D69+D82+D95+D108+D121 -> 0 | E13: =E28+E43+E56+E69+E82+E95+E108+E121 -> 0 | F13: =F28+F43+F56+F69+F82+F95+F108+F121 -> 0 | G13: =G28+G43+G56+G69+G82+G95+G108+G121 -> 0 | H13: =H28+H43+H56+H69+H82+H95+H108+H121 -> 0 | I13: =I28+I43+I56+I69+I82+I95+I108+I121 -> 0 | J13: =J28+J43+J56+J69+J82+J95+J108+J121 -> 0 | ... N13: =N28+N43+N56+N69+N82+N95+N108+N121 -> 0
A14: УПФ | B14: 05-52 | C14: =C29+C44+C57+C70+C83+C96+C109+C122 -> 0 | D14: =D29+D44+D57+D70+D83+D96+D109+D122 -> 0 | E14: =E29+E44+E57+E70+E83+E96+E109+E122 -> 0 | F14: =F29+F44+F57+F70+F83+F96+F109+F122 -> 0 | G14: =G29+G44+G57+G70+G83+G96+G109+G122 -> 0 | H14: =H29+H44+H57+H70+H83+H96+H109+H122 -> 0 | I14: =I29+I44+I57+I70+I83+I96+I109+I122 -> 0 | J14: =J29+J44+J57+J70+J83+J96+J109+J122 -> 0 | ... N14: =N29+N44+N57+N70+N83+N96+N109+N122 -> 0
A15: Здравноосигурителни вноски | B15: 05-60 | C15: =C30+C45+C58+C71+C84+C97+C110+C123 -> 0 | D15: =D30+D45+D58+D71+D84+D97+D110+D123 -> 0 | E15: =E30+E45+E58+E71+E84+E97+E110+E123 -> 0 | F15: =F30+F45+F58+F71+F84+F97+F110+F123 -> 0 | G15: =G30+G45+G58+G71+G84+G97+G110+G123 -> 0 | H15: =H30+H45+H58+H71+H84+H97+H110+H123 -> 0 | I15: =I30+I45+I58+I71+I84+I97+I110+I123 -> 0 | J15: =J30+J45+J58+J71+J84+J97+J110+J123 -> 0 | ... N15: =N30+N45+N58+N71+N84+N97+N110+N123 -> 0
A16: ДЗПО | B16: 05-80 | C16: =C31+C46+C59+C72+C85+C98+C111+C124 -> 0 | D16: =D31+D46+D59+D72+D85+D98+D111+D124 -> 0 | E16: =E31+E46+E59+E72+E85+E98+E111+E124 -> 0 | F16: =F31+F46+F59+F72+F85+F98+F111+F124 -> 0 | G16: =G31+G46+G59+G72+G85+G98+G111+G124 -> 0 | H16: =H31+H46+H59+H72+H85+H98+H111+H124 -> 0 | I16: =I31+I46+I59+I72+I85+I98+I111+I124 -> 0 | J16: =J31+J46+J59+J72+J85+J98+J111+J124 -> 0 | ... N16: =N31+N46+N59+N72+N85+N98+N111+N124 -> 0
A17: Средства за персонал на субсидирани бройки | B17: 45-00 | C17: =C32+C47+C60+C73+C86+C99+C112+C125 -> 0 | D17: =D32+D47+D60+D73+D86+D99+D112+D125 -> 0 | E17: =E32+E47+E60+E73+E86+E99+E112+E125 -> 0 | F17: =F32+F47+F60+F73+F86+F99+F112+F125 -> 0 | G17: =G32+G47+G60+G73+G86+G99+G112+G125 -> 0 | H17: =H32+H47+H60+H73+H86+H99+H112+H125 -> 0 | I17: =I32+I47+I60+I73+I86+I99+I112+I125 -> 0 | J17: =J32+J47+J60+J73+J86+J99+J112+J125 -> 0 | ... N17: =N32+N47+N60+N73+N86+N99+N112+N125 -> 0
A18: Численост на персонала | C18: =C33+C48+C61+C74+C87+C100+C113+C126 -> 0 | D18: =D33+D48+D61+D74+D87+D100+D113+D126 -> 0 | E18: =E33+E48+E61+E74+E87+E100+E113+E126 -> 0 | F18: =F33+F48+F61+F74+F87+F100+F113+F126 -> 0 | G18: =G33+G48+G61+G74+G87+G100+G113+G126 -> 0 | H18: =H33+H48+H61+H74+H87+H100+H113+H126 -> 0 | I18: =I33+I48+I61+I74+I87+I100+I113+I126 -> 0 | J18: =J33+J48+J61+J74+J87+J100+J113+J126 -> 0 | ... N18: =N33+N48+N61+N74+N87+N100+N113+N126 -> 0
A19: Субсидирана численост | C19: =C36+C49+C62+C75+C88+C101+C114+C127 -> 0 | D19: =D36+D49+D62+D75+D88+D101+D114+D127 -> 0 | E19: =E36+E49+E62+E75+E88+E101+E114+E127 -> 0 | F19: =F36+F49+F62+F75+F88+F101+F114+F127 -> 0 | G19: =G36+G49+G62+G75+G88+G101+G114+G127 -> 0 | H19: =H36+H49+H62+H75+H88+H101+H114+H127 -> 0 | I19: =I36+I49+I62+I75+I88+I101+I114+I127 -> 0 | J19: =J36+J49+J62+J75+J88+J101+J114+J127 -> 0 | ... N19: =N36+N49+N62+N75+N88+N101+N114+N127 -> 0
A21: Разбивка персонал по функции: | C21: =C22+C37+C50+C63+C76+C102+C115 -> 0 | D21: =D22+D37+D50+D63+D76+D102+D115 -> 0 | E21: =E22+E37+E50+E63+E76+E102+E115 -> 0 | F21: =F22+F37+F50+F63+F76+F102+F115 -> 0 | G21: =G22+G37+G50+G63+G76+G102+G115 -> 0 | H21: =H22+H37+H50+H63+H76+H102+H115 -> 0 | I21: =I22+I37+I50+I63+I76+I102+I115 -> 0 | J21: =J22+J37+J50+J63+J76+J102+J115 -> 0 | ... N21: =N22+N37+N50+N63+N76+N102+N115 -> 0
A22: 1. Изпълнителни и законодателни органи | C22: =C23+C26+C27+C32 -> 0 | D22: =D23+D26+D27+D32 -> 0 | E22: =E23+E26+E27+E32 -> 0 | F22: =F23+F26+F27+F32 -> 0 | G22: =G23+G26+G27+G32 -> 0 | H22: =H23+H26+H27+H32 -> 0 | I22: =I23+I26+I27+I32 -> 0 | J22: =J23+J26+J27+J32 -> 0 | ... N22: =N23+N26+N27+N32 -> 0
A23: Заплати | B23: 01-00 | C23: =C24+C25 -> 0 | D23: =D24+D25 -> 0 | E23: =E24+E25 -> 0 | F23: =F24+F25 -> 0 | G23: =G24+G25 -> 0 | H23: =H24+H25 -> 0 | I23: =I24+I25 -> 0 | J23: =J24+J25 -> 0 | ... N23: =N24+N25 -> 0
A24: по трудови правоотношения | B24: 01-01 | C24: ='2028'!H24 -> 0 | E24: Х | H24: =C24+D24+E24+F24+G24 -> 0 | I24: ='2028'!N24 -> 0 | K24: Х | N24: =I24+J24+K24+L24+M24 -> 0
A25: по служебни правоотношения | B25: 01-02 | C25: ='2028'!H25 -> 0 | E25: Х | H25: =C25+D25+E25+F25+G25 -> 0 | I25: ='2028'!N25 -> 0 | K25: Х | N25: =I25+J25+K25+L25+M25 -> 0
A26: Други възнаграждения и плащания за персонала | B26: 02-00 | C26: ='2028'!H26 -> 0 | E26: Х | F26: Х | H26: =C26+D26+E26+F26+G26 -> 0 | I26: ='2028'!N26 -> 0 | K26: Х | L26: Х | N26: =I26+J26+K26+L26+M26 -> 0
A27: Осигурителни вноски | B27: 05-00 | C27: =C28+C29+C30+C31 -> 0 | D27: =D28+D29+D30+D31 -> 0 | E27: =E28+E29+E30+E31 -> 0 | F27: =F28+F29+F30+F31 -> 0 | G27: =G28+G29+G30+G31 -> 0 | H27: =H28+H29+H30+H31 -> 0 | I27: =I28+I29+I30+I31 -> 0 | J27: =J28+J29+J30+J31 -> 0 | ... N27: =N28+N29+N30+N31 -> 0
A28: ДОО | B28: 05-51 | C28: ='2028'!H28 -> 0 | H28: =C28+D28+E28+F28+G28 -> 0 | I28: ='2028'!N28 -> 0 | N28: =I28+J28+K28+L28+M28 -> 0
A29: УПФ | B29: 05-52 | C29: ='2028'!H29 -> 0 | H29: =C29+D29+E29+F29+G29 -> 0 | I29: ='2028'!N29 -> 0 | N29: =I29+J29+K29+L29+M29 -> 0
A30: Здравноосигурителни вноски | B30: 05-60 | C30: ='2028'!H30 -> 0 | H30: =C30+D30+E30+F30+G30 -> 0 | I30: ='2028'!N30 -> 0 | N30: =I30+J30+K30+L30+M30 -> 0
A31: ДЗПО | B31: 05-80 | C31: ='2028'!H31 -> 0 | H31: =C31+D31+E31+F31+G31 -> 0 | I31: ='2028'!N31 -> 0 | N31: =I31+J31+K31+L31+M31 -> 0
A32: Средства за персонал на субсидирани бройки | B32: 45-00 | C32: Х | D32: Х | E32: Х | F32: Х | G32: Х | H32: Х | I32: Х | J32: Х | K32: Х | L32: Х | M32: Х | N32: Х
A33: Численост на персонала | C33: =C34+C35 -> 0 | D33: =D34+D35 -> 0 | E33: =E34+E35 -> 0 | F33: =F34+F35 -> 0 | G33: =G34+G35 -> 0 | H33: =H34+H35 -> 0 | I33: =I34+I35 -> 0 | J33: =J34+J35 -> 0 | ... N33: =N34+N35 -> 0
A34: - по трудови правоотношения | C34: ='2028'!H34 -> 0 | I34: ='2028'!N34 -> 0
A35: - по служебни правоотношения | C35: ='2028'!H35 -> 0 | I35: ='2028'!N35 -> 0
A36: Субсидирана численост | C36: Х | D36: Х | E36: Х | F36: Х | G36: Х | H36: Х | I36: Х | J36: Х | K36: Х | L36: Х | M36: Х | N36: Х
A37: 2. Отбрана и сигурност | C37: =C38+C41+C42+C47 -> 0 | D37: =D38+D41+D42+D47 -> 0 | E37: =E38+E41+E42+E47 -> 0 | F37: =F38+F41+F42+F47 -> 0 | G37: =G38+G41+G42+G47 -> 0 | H37: =H38+H41+H42+H47 -> 0 | I37: =I38+I41+I42+I47 -> 0 | J37: =J38+J41+J42+J47 -> 0 | ... N37: =N38+N41+N42+N47 -> 0
A38: Заплати | B38: 01-00 | C38: =C39+C40 -> 0 | D38: =D39+D40 -> 0 | E38: =E39+E40 -> 0 | F38: =F39+F40 -> 0 | G38: =G39+G40 -> 0 | H38: =H39+H40 -> 0 | I38: =I39+I40 -> 0 | J38: =J39+J40 -> 0 | ... N38: =N39+N40 -> 0
A39: по трудови правоотношения | B39: 01-01 | C39: ='2028'!H39 -> 0 | E39: Х | F39: Х | H39: =C39+D39+E39+F39+G39 -> 0 | I39: ='2028'!N39 -> 0 | K39: Х | L39: Х | N39: =I39+J39+K39+L39+M39 -> 0
A40: по служебни правоотношения | B40: 01-02 | C40: ='2028'!H40 -> 0 | E40: Х | F40: Х | H40: =C40+D40+E40+F40+G40 -> 0 | I40: ='2028'!N40 -> 0 | K40: Х | L40: Х | N40: =I40+J40+K40+L40+M40 -> 0
A41: Други възнаграждения и плащания за персонала | B41: 02-00 | C41: ='2028'!H41 -> 0 | E41: Х | F41: Х | H41: =C41+D41+E41+F41+G41 -> 0 | I41: ='2028'!N41 -> 0 | K41: Х | L41: Х | N41: =I41+J41+K41+L41+M41 -> 0
A42: Осигурителни вноски | B42: 05-00 | C42: =C43+C44+C45+C46 -> 0 | D42: =D43+D44+D45+D46 -> 0 | E42: =E43+E44+E45+E46 -> 0 | F42: =F43+F44+F45+F46 -> 0 | G42: =G43+G44+G45+G46 -> 0 | H42: =H43+H44+H45+H46 -> 0 | I42: =I43+I44+I45+I46 -> 0 | J42: =J43+J44+J45+J46 -> 0 | ... N42: =N43+N44+N45+N46 -> 0
A43: ДОО | B43: 05-51 | C43: ='2028'!H43 -> 0 | F43: Х | H43: =C43+D43+E43+F43+G43 -> 0 | I43: ='2028'!N43 -> 0 | L43: Х | N43: =I43+J43+K43+L43+M43 -> 0
A44: УПФ | B44: 05-52 | C44: ='2028'!H44 -> 0 | F44: Х | H44: =C44+D44+E44+F44+G44 -> 0 | I44: ='2028'!N44 -> 0 | L44: Х | N44: =I44+J44+K44+L44+M44 -> 0
A45: Здравноосигурителни вноски | B45: 05-60 | C45: ='2028'!H45 -> 0 | F45: Х | H45: =C45+D45+E45+F45+G45 -> 0 | I45: ='2028'!N45 -> 0 | L45: Х | N45: =I45+J45+K45+L45+M45 -> 0
A46: ДЗПО | B46: 05-80 | C46: ='2028'!H46 -> 0 | F46: Х | H46: =C46+D46+E46+F46+G46 -> 0 | I46: ='2028'!N46 -> 0 | L46: Х | N46: =I46+J46+K46+L46+M46 -> 0
A47: Средства за персонал на субсидирани бройки | B47: 45-00 | C47: Х | D47: Х | E47: Х | F47: Х | G47: Х | H47: Х | I47: Х | J47: Х | K47: Х | L47: Х | M47: Х | N47: Х
A48: Численост на персонала | C48: ='2028'!H48 -> 0 | I48: ='2028'!N48 -> 0
A49: Субсидирана численост | C49: Х | D49: Х | E49: Х | F49: Х | G49: Х | H49: Х | I49: Х | J49: Х | K49: Х | L49: Х | M49: Х | N49: Х
A50: 3. Образование | C50: =C51+C54+C55+C60 -> 0 | D50: =D51+D54+D55+D60 -> 0 | E50: =E51+E54+E55+E60 -> 0 | F50: =F51+F54+F55+F60 -> 0 | G50: =G51+G54+G55+G60 -> 0 | H50: =H51+H54+H55+H60 -> 0 | I50: =I51+I54+I55+I60 -> 0 | J50: =J51+J54+J55+J60 -> 0 | ... N50: =N51+N54+N55+N60 -> 0
A51: Заплати | B51: 01-00 | C51: =C52+C53 -> 0 | D51: =D52+D53 -> 0 | E51: =E52+E53 -> 0 | F51: =F52+F53 -> 0 | G51: =G52+G53 -> 0 | H51: =H52+H53 -> 0 | I51: =I52+I53 -> 0 | J51: =J52+J53 -> 0 | ... N51: =N52+N53 -> 0
A52: по трудови правоотношения | B52: 01-01 | C52: ='2028'!H52 -> 0 | E52: Х | F52: Х | H52: =C52+D52+E52+F52+G52 -> 0 | I52: ='2028'!N52 -> 0 | K52: Х | L52: Х | N52: =I52+J52+K52+L52+M52 -> 0
A53: по служебни правоотношения | B53: 01-02 | C53: ='2028'!H53 -> 0 | E53: Х | F53: Х | H53: =C53+D53+E53+F53+G53 -> 0 | I53: ='2028'!N53 -> 0 | K53: Х | L53: Х | N53: =I53+J53+K53+L53+M53 -> 0
A54: Други възнаграждения и плащания за персонала | B54: 02-00 | C54: ='2028'!H54 -> 0 | E54: Х | F54: Х | H54: =C54+D54+E54+F54+G54 -> 0 | I54: ='2028'!N54 -> 0 | K54: Х | L54: Х | N54: =I54+J54+K54+L54+M54 -> 0
A55: Осигурителни вноски | B55: 05-00 | C55: =C56+C57+C58+C59 -> 0 | D55: =D56+D57+D58+D59 -> 0 | E55: =E56+E57+E58+E59 -> 0 | F55: =F56+F57+F58+F59 -> 0 | G55: =G56+G57+G58+G59 -> 0 | H55: =H56+H57+H58+H59 -> 0 | I55: =I56+I57+I58+I59 -> 0 | J55: =J56+J57+J58+J59 -> 0 | ... N55: =N56+N57+N58+N59 -> 0
A56: ДОО | B56: 05-51 | C56: ='2028'!H56 -> 0 | F56: Х | H56: =C56+D56+E56+F56+G56 -> 0 | I56: ='2028'!N56 -> 0 | L56: Х | N56: =I56+J56+K56+L56+M56 -> 0
A57: УПФ | B57: 05-52 | C57: ='2028'!H57 -> 0 | F57: Х | H57: =C57+D57+E57+F57+G57 -> 0 | I57: ='2028'!N57 -> 0 | L57: Х | N57: =I57+J57+K57+L57+M57 -> 0
A58: Здравноосигурителни вноски | B58: 05-60 | C58: ='2028'!H58 -> 0 | F58: Х | H58: =C58+D58+E58+F58+G58 -> 0 | I58: ='2028'!N58 -> 0 | L58: Х | N58: =I58+J58+K58+L58+M58 -> 0
A59: ДЗПО | B59: 05-80 | C59: ='2028'!H59 -> 0 | F59: Х | H59: =C59+D59+E59+F59+G59 -> 0 | I59: ='2028'!N59 -> 0 | L59: Х | N59: =I59+J59+K59+L59+M59 -> 0
A60: Средства за персонал на субсидирани бройки | B60: 45-00 | C60: Х | D60: Х | E60: Х | F60: Х | G60: Х | H60: Х | I60: Х | J60: Х | K60: Х | L60: Х | M60: Х | N60: Х
A61: Численост на персонала | C61: ='2028'!H61 -> 0 | I61: ='2028'!N61 -> 0
A62: Субсидирана численост | C62: Х | D62: Х | E62: Х | F62: Х | G62: Х | H62: Х | I62: Х | J62: Х | K62: Х | L62: Х | M62: Х | N62: Х
A63: 4. Здравеопазване | C63: =C64+C67+C68+C73 -> 0 | D63: =D64+D67+D68+D73 -> 0 | E63: =E64+E67+E68+E73 -> 0 | F63: =F64+F67+F68+F73 -> 0 | G63: =G64+G67+G68+G73 -> 0 | H63: =H64+H67+H68+H73 -> 0 | I63: =I64+I67+I68+I73 -> 0 | J63: =J64+J67+J68+J73 -> 0 | ... N63: =N64+N67+N68+N73 -> 0
A64: Заплати | B64: 01-00 | C64: =C65+C66 -> 0 | D64: =D65+D66 -> 0 | E64: =E65+E66 -> 0 | F64: =F65+F66 -> 0 | G64: =G65+G66 -> 0 | H64: =H65+H66 -> 0 | I64: =I65+I66 -> 0 | J64: =J65+J66 -> 0 | ... N64: =N65+N66 -> 0
A65: по трудови правоотношения | B65: 01-01 | C65: ='2028'!H65 -> 0 | E65: Х | F65: Х | H65: =C65+D65+E65+F65+G65 -> 0 | I65: ='2028'!N65 -> 0 | K65: Х | L65: Х | N65: =I65+J65+K65+L65+M65 -> 0
A66: по служебни правоотношения | B66: 01-02 | C66: ='2028'!H66 -> 0 | E66: Х | F66: Х | H66: =C66+D66+E66+F66+G66 -> 0 | I66: ='2028'!N66 -> 0 | K66: Х | L66: Х | N66: =I66+J66+K66+L66+M66 -> 0
A67: Други възнаграждения и плащания за персонала | B67: 02-00 | C67: ='2028'!H67 -> 0 | E67: Х | F67: Х | H67: =C67+D67+E67+F67+G67 -> 0 | I67: ='2028'!N67 -> 0 | K67: Х | L67: Х | N67: =I67+J67+K67+L67+M67 -> 0
A68: Осигурителни вноски | B68: 05-00 | C68: =C69+C70+C71+C72 -> 0 | D68: =D69+D70+D71+D72 -> 0 | E68: =E69+E70+E71+E72 -> 0 | F68: =F69+F70+F71+F72 -> 0 | G68: =G69+G70+G71+G72 -> 0 | H68: =H69+H70+H71+H72 -> 0 | I68: =I69+I70+I71+I72 -> 0 | J68: =J69+J70+J71+J72 -> 0 | ... N68: =N69+N70+N71+N72 -> 0
A69: ДОО | B69: 05-51 | C69: ='2028'!H69 -> 0 | F69: Х | H69: =C69+D69+E69+F69+G69 -> 0 | I69: ='2028'!N69 -> 0 | L69: Х | N69: =I69+J69+K69+L69+M69 -> 0
A70: УПФ | B70: 05-52 | C70: ='2028'!H70 -> 0 | F70: Х | H70: =C70+D70+E70+F70+G70 -> 0 | I70: ='2028'!N70 -> 0 | L70: Х | N70: =I70+J70+K70+L70+M70 -> 0
A71: Здравноосигурителни вноски | B71: 05-60 | C71: ='2028'!H71 -> 0 | F71: Х | H71: =C71+D71+E71+F71+G71 -> 0 | I71: ='2028'!N71 -> 0 | L71: Х | N71: =I71+J71+K71+L71+M71 -> 0
A72: ДЗПО | B72: 05-80 | C72: ='2028'!H72 -> 0 | F72: Х | H72: =C72+D72+E72+F72+G72 -> 0 | I72: ='2028'!N72 -> 0 | L72: Х | N72: =I72+J72+K72+L72+M72 -> 0
A73: Средства за персонал на субсидирани бройки | B73: 45-00 | C73: Х | D73: Х | E73: Х | F73: Х | G73: Х | H73: Х | I73: Х | J73: Х | K73: Х | L73: Х | M73: Х | N73: Х
A74: Численост на персонала | C74: ='2028'!H74 -> 0 | I74: ='2028'!N74 -> 0
A75: Субсидирана численост | C75: Х | D75: Х | E75: Х | F75: Х | G75: Х | H75: Х | I75: Х | J75: Х | K75: Х | L75: Х | M75: Х | N75: Х
A76: 5. Социално осигуряване, подпомагане и грижи | C76: =C77+C80+C81+C86 -> 0 | D76: =D77+D80+D81+D86 -> 0 | E76: =E77+E80+E81+E86 -> 0 | F76: =F77+F80+F81+F86 -> 0 | G76: =G77+G80+G81+G86 -> 0 | H76: =H77+H80+H81+H86 -> 0 | I76: =I77+I80+I81+I86 -> 0 | J76: =J77+J80+J81+J86 -> 0 | ... N76: =N77+N80+N81+N86 -> 0
A77: Заплати | B77: 01-00 | C77: =C78+C79 -> 0 | D77: =D78+D79 -> 0 | E77: =E78+E79 -> 0 | F77: =F78+F79 -> 0 | G77: =G78+G79 -> 0 | H77: =H78+H79 -> 0 | I77: =I78+I79 -> 0 | J77: =J78+J79 -> 0 | ... N77: =N78+N79 -> 0
A78: по трудови правоотношения | B78: 01-01 | C78: ='2028'!H78 -> 0 | E78: Х | F78: Х | H78: =C78+D78+E78+F78+G78 -> 0 | I78: ='2028'!N78 -> 0 | K78: Х | L78: Х | N78: =I78+J78+K78+L78+M78 -> 0
A79: по служебни правоотношения | B79: 01-02 | C79: ='2028'!H79 -> 0 | E79: Х | F79: Х | H79: =C79+D79+E79+F79+G79 -> 0 | I79: ='2028'!N79 -> 0 | K79: Х | L79: Х | N79: =I79+J79+K79+L79+M79 -> 0
A80: Други възнаграждения и плащания за персонала | B80: 02-00 | C80: ='2028'!H80 -> 0 | E80: Х | F80: Х | H80: =C80+D80+E80+F80+G80 -> 0 | I80: ='2028'!N80 -> 0 | K80: Х | L80: Х | N80: =I80+J80+K80+L80+M80 -> 0
A81: Осигурителни вноски | B81: 05-00 | C81: =C82+C83+C84+C85 -> 0 | D81: =D82+D83+D84+D85 -> 0 | E81: =E82+E83+E84+E85 -> 0 | F81: =F82+F83+F84+F85 -> 0 | G81: =G82+G83+G84+G85 -> 0 | H81: =H82+H83+H84+H85 -> 0 | I81: =I82+I83+I84+I85 -> 0 | J81: =J82+J83+J84+J85 -> 0 | ... N81: =N82+N83+N84+N85 -> 0
A82: ДОО | B82: 05-51 | C82: ='2028'!H82 -> 0 | F82: Х | H82: =C82+D82+E82+F82+G82 -> 0 | I82: ='2028'!N82 -> 0 | L82: Х | N82: =I82+J82+K82+L82+M82 -> 0
A83: УПФ | B83: 05-52 | C83: ='2028'!H83 -> 0 | F83: Х | H83: =C83+D83+E83+F83+G83 -> 0 | I83: ='2028'!N83 -> 0 | L83: Х | N83: =I83+J83+K83+L83+M83 -> 0
A84: Здравноосигурителни вноски | B84: 05-60 | C84: ='2028'!H84 -> 0 | F84: Х | H84: =C84+D84+E84+F84+G84 -> 0 | I84: ='2028'!N84 -> 0 | L84: Х | N84: =I84+J84+K84+L84+M84 -> 0
A85: ДЗПО | B85: 05-80 | C85: ='2028'!H85 -> 0 | F85: Х | H85: =C85+D85+E85+F85+G85 -> 0 | I85: ='2028'!N85 -> 0 | L85: Х | N85: =I85+J85+K85+L85+M85 -> 0
A86: Средства за персонал на субсидирани бройки | B86: 45-00 | C86: Х | D86: Х | E86: Х | F86: Х | G86: Х | H86: Х | I86: Х | J86: Х | K86: Х | L86: Х | M86: Х | N86: Х
A87: Численост на персонала | C87: ='2028'!H87 -> 0 | I87: ='2028'!N87 -> 0
A88: Субсидирана численост | C88: Х | D88: Х | E88: Х | F88: Х | G88: Х | H88: Х | I88: Х | J88: Х | K88: Х | L88: Х | M88: Х | N88: Х
A89: 6. Жилищно строителство, благоустройство, комунално стопанство и опазване на околната среда | C89: =C90+C93+C94+C99 -> 0 | D89: =D90+D93+D94+D99 -> 0 | E89: =E90+E93+E94+E99 -> 0 | F89: =F90+F93+F94+F99 -> 0 | G89: =G90+G93+G94+G99 -> 0 | H89: =H90+H93+H94+H99 -> 0 | I89: =I90+I93+I94+I99 -> 0 | J89: =J90+J93+J94+J99 -> 0 | ... N89: =N90+N93+N94+N99 -> 0
A90: Заплати | B90: 01-00 | C90: =C91+C92 -> 0 | D90: =D91+D92 -> 0 | E90: =E91+E92 -> 0 | F90: =F91+F92 -> 0 | G90: =G91+G92 -> 0 | H90: =H91+H92 -> 0 | I90: =I91+I92 -> 0 | J90: =J91+J92 -> 0 | ... N90: =N91+N92 -> 0
A91: по трудови правоотношения | B91: 01-01 | C91: ='2028'!H91 -> 0 | E91: Х | F91: Х | H91: =C91+D91+E91+F91+G91 -> 0 | I91: ='2028'!N91 -> 0 | K91: Х | L91: Х | N91: =I91+J91+K91+L91+M91 -> 0
A92: по служебни правоотношения | B92: 01-02 | C92: ='2028'!H92 -> 0 | E92: Х | F92: Х | H92: =C92+D92+E92+F92+G92 -> 0 | I92: ='2028'!N92 -> 0 | K92: Х | L92: Х | N92: =I92+J92+K92+L92+M92 -> 0
A93: Други възнаграждения и плащания за персонала | B93: 02-00 | C93: ='2028'!H93 -> 0 | E93: Х | F93: Х | H93: =C93+D93+E93+F93+G93 -> 0 | I93: ='2028'!N93 -> 0 | K93: Х | L93: Х | N93: =I93+J93+K93+L93+M93 -> 0
A94: Осигурителни вноски | B94: 05-00 | C94: =C95+C96+C97+C98 -> 0 | D94: =D95+D96+D97+D98 -> 0 | E94: =E95+E96+E97+E98 -> 0 | F94: =F95+F96+F97+F98 -> 0 | G94: =G95+G96+G97+G98 -> 0 | H94: =H95+H96+H97+H98 -> 0 | I94: =I95+I96+I97+I98 -> 0 | J94: =J95+J96+J97+J98 -> 0 | ... N94: =N95+N96+N97+N98 -> 0
A95: ДОО | B95: 05-51 | C95: ='2028'!H95 -> 0 | F95: Х | H95: =C95+D95+E95+F95+G95 -> 0 | I95: ='2028'!N95 -> 0 | L95: Х | N95: =I95+J95+K95+L95+M95 -> 0
A96: УПФ | B96: 05-52 | C96: ='2028'!H96 -> 0 | F96: Х | H96: =C96+D96+E96+F96+G96 -> 0 | I96: ='2028'!N96 -> 0 | L96: Х | N96: =I96+J96+K96+L96+M96 -> 0
A97: Здравноосигурителни вноски | B97: 05-60 | C97: ='2028'!H97 -> 0 | F97: Х | H97: =C97+D97+E97+F97+G97 -> 0 | I97: ='2028'!N97 -> 0 | L97: Х | N97: =I97+J97+K97+L97+M97 -> 0
A98: ДЗПО | B98: 05-80 | C98: ='2028'!H98 -> 0 | F98: Х | H98: =C98+D98+E98+F98+G98 -> 0 | I98: ='2028'!N98 -> 0 | L98: Х | N98: =I98+J98+K98+L98+M98 -> 0
A99: Средства за персонал на субсидирани бройки | B99: 45-00 | C99: Х | D99: Х | E99: Х | F99: Х | G99: Х | H99: Х | I99: Х | J99: Х | K99: Х | L99: Х | M99: Х | N99: Х
A100: Численост на персонала | C100: ='2028'!H100 -> 0 | I100: ='2028'!N100 -> 0
A101: Субсидирана численост | C101: Х | D101: Х | E101: Х | F101: Х | G101: Х | H101: Х | I101: Х | J101: Х | K101: Х | L101: Х | M101: Х | N101: Х
A102: 7. Култура, спорт, почивни дейности и религиозно дело | C102: =C103+C106+C107+C112 -> 0 | D102: =D103+D106+D107+D112 -> 0 | E102: =E103+E106+E107+E112 -> 0 | F102: =F103+F106+F107+F112 -> 0 | G102: =G103+G106+G107+G112 -> 0 | H102: =H103+H106+H107+H112 -> 0 | I102: =I103+I106+I107+I112 -> 0 | J102: =J103+J106+J107+J112 -> 0 | ... N102: =N103+N106+N107+N112 -> 0
...

Sheet лист ЕБК 
A1: 5101 | B1: Банско
A2: 5102 | B2: Белица
A3: 5103 | B3: Благоевград
A4: 5104 | B4: Гоце Делчев
A5: 5105 | B5: Гърмен
A6: 5106 | B6: Кресна
A7: 5107 | B7: Петрич
A8: 5108 | B8: Разлог
A9: 5109 | B9: Сандански
A10: 5110 | B10: Сатовча
A11: 5111 | B11: Симитли
A12: 5112 | B12: Струмяни
... A265: 7805 | B265: Ямбол
