Workbook
Name EduCopy: #REF!
Name ffff: '2028'!#REF!
Name info: [1]info!$B$2:$D$266
Name muni: [2]helper!$A$1:$B$265
Name фор_обяснения: #REF!

Sheet 2027
A1: Код на общината по ЕБК
A2: Наименование на общината | B2: =IFERROR(VLOOKUP(B1,'лист ЕБК '!A1:B265,2),"")
A4: Справка ефекти персонал (в хил. евро) | R4: Приложение № 8б
C5: Общо по общинския бюджет: | K5: в т.ч. в държавните дейнности:
A6: Показатели | B6: по § и §§ | C6: Бюджет 2026 г. | D6: в т.ч. Ефект от увеличение на МРЗ на 660 евро | E6: Ефект за 7 месеца - от увеличението на МОД на 2300 евро, считано от 01.08.2026 г. | F6: Ефект от увеличение на МОД на 2400 евро | G6: Ефект за 7 месеца от промяна в модела на осигуряване на държавните служители, считано от 01.08.2026 г. | H6: Ефект от промяна в модела на осигуряване на държавните служители | I6: Други ефекти -общо (натурални показатели, стратегически реформи и др.) | J6: Проект 2027 г. | K6: Бюджет 2026 г. ДД | L6: в т.ч. Ефект от увеличение на МРЗ на 660 евро ДД | M6: Ефект в ДД за 7 месеца - от увеличението на МОД на 2300 евро, считано от 01.08.2026 г. | N6: Ефект от увеличение на МОД на 2400 евро ДД | O6: Ефект за 7 месеца от промяна в модела на осигуряване на държавните служители, считано от 01.08.2026 г. ДД | P6: Ефект от промяна в модела на осигуряване на държавните служители ДД | Q6: Други ефекти -общо (натурални показатели, стратегически реформи и др.) ДД | R6: Проект 2027 г. ДД
A7: Персонал-общо: | C7: =C22+C37+C50+C63+C76+C89+C102+C115 -> 0 | D7: =D22+D37+D50+D63+D76+D89+D102+D115 -> 0 | E7: =E22+E37+E50+E63+E76+E89+E102+E115 -> 0 | F7: =F22+F37+F50+F63+F76+F89+F102+F115 -> 0 | G7: =G22+G37+G50+G63+G76+G89+G102+G115 -> 0 | H7: =H22+H37+H50+H63+H76+H89+H102+H115 -> 0 | I7: =I22+I37+I50+I63+I76+I89+I102+I115 -> 0 | J7: =J22+J37+J50+J63+J76+J89+J102+J115 -> 0 | ... R7: =R22+R37+R50+R63+R76+R89+R102+R115 -> 0
A8: Заплати | B8: 01-00 | C8: =C23+C38+C51+C64+C77+C90+C103+C116 -> 0 | D8: =D23+D38+D51+D64+D77+D90+D103+D116 -> 0 | E8: =E23+E38+E51+E64+E77+E90+E103+E116 -> 0 | F8: =F23+F38+F51+F64+F77+F90+F103+F116 -> 0 | G8: =G23+G38+G51+G64+G77+G90+G103+G116 -> 0 | H8: =H23+H38+H51+H64+H77+H90+H103+H116 -> 0 | I8: =I23+I38+I51+I64+I77+I90+I103+I116 -> 0 | J8: =J23+J38+J51+J64+J77+J90+J103+J116 -> 0 | ... R8: =R23+R38+R51+R64+R77+R90+R103+R116 -> 0
A9: по трудови правоотношения | B9: 01-01 | C9: =C24+C39+C52+C65+C78+C91+C104+C117 -> 0 | D9: =D24+D39+D52+D65+D78+D91+D104+D117 -> 0 | E9: =E24+E39+E52+E65+E78+E91+E104+E117 -> 0 | F9: =F24+F39+F52+F65+F78+F91+F104+F117 -> 0 | G9: =G24+G39+G52+G65+G78+G91+G104+G117 -> 0 | H9: =H24+H39+H52+H65+H78+H91+H104+H117 -> 0 | I9: =I24+I39+I52+I65+I78+I91+I104+I117 -> 0 | J9: =J24+J39+J52+J65+J78+J91+J104+J117 -> 0 | ... R9: =R24+R39+R52+R65+R78+R91+R104+R117 -> 0
A10: по служебни правоотношения | B10: 01-02 | C10: =C25+C40+C53+C66+C79+C92+C105+C118 -> 0 | D10: =D25+D40+D53+D66+D79+D92+D105+D118 -> 0 | E10: =E25+E40+E53+E66+E79+E92+E105+E118 -> 0 | F10: =F25+F40+F53+F66+F79+F92+F105+F118 -> 0 | G10: =G25+G40+G53+G66+G79+G92+G105+G118 -> 0 | H10: =H25+H40+H53+H66+H79+H92+H105+H118 -> 0 | I10: =I25+I40+I53+I66+I79+I92+I105+I118 -> 0 | J10: =J25+J40+J53+J66+J79+J92+J105+J118 -> 0 | ... R10: =R25+R40+R53+R66+R79+R92+R105+R118 -> 0
A11: Други възнаграждения и плащания за персонала | B11: 02-00 | C11: =C26+C41+C54+C67+C80+C93+C106+C119 -> 0 | D11: =D26+D41+D54+D67+D80+D93+D106+D119 -> 0 | E11: =E26+E41+E54+E67+E80+E93+E106+E119 -> 0 | F11: =F26+F41+F54+F67+F80+F93+F106+F119 -> 0 | G11: =G26+G41+G54+G67+G80+G93+G106+G119 -> 0 | H11: =H26+H41+H54+H67+H80+H93+H106+H119 -> 0 | I11: =I26+I41+I54+I67+I80+I93+I106+I119 -> 0 | J11: =J26+J41+J54+J67+J80+J93+J106+J119 -> 0 | ... R11: =R26+R41+R54+R67+R80+R93+R106+R119 -> 0
A12: Осигурителни вноски | B12: 05-00 | C12: =C27+C42+C55+C68+C81+C94+C107+C120 -> 0 | D12: =D27+D42+D55+D68+D81+D94+D107+D120 -> 0 | E12: =E27+E42+E55+E68+E81+E94+E107+E120 -> 0 | F12: =F27+F42+F55+F68+F81+F94+F107+F120 -> 0 | G12: =G27+G42+G55+G68+G81+G94+G107+G120 -> 0 | H12: =H27+H42+H55+H68+H81+H94+H107+H120 -> 0 | I12: =I27+I42+I55+I68+I81+I94+I107+I120 -> 0 | J12: =J27+J42+J55+J68+J81+J94+J107+J120 -> 0 | ... R12: =R27+R42+R55+R68+R81+R94+R107+R120 -> 0
A13: ДОО | B13: 05-51 | C13: =C28+C43+C56+C69+C82+C95+C108+C121 -> 0 | D13: =D28+D43+D56+D69+D82+D95+D108+D121 -> 0 | E13: =E28+E43+E56+E69+E82+E95+E108+E121 -> 0 | F13: =F28+F43+F56+F69+F82+F95+F108+F121 -> 0 | G13: =G28+G43+G56+G69+G82+G95+G108+G121 -> 0 | H13: =H28+H43+H56+H69+H82+H95+H108+H121 -> 0 | I13: =I28+I43+I56+I69+I82+I95+I108+I121 -> 0 | J13: =J28+J43+J56+J69+J82+J95+J108+J121 -> 0 | ... R13: =R28+R43+R56+R69+R82+R95+R108+R121 -> 0
A14: УПФ | B14: 05-52 | C14: =C29+C44+C57+C70+C83+C96+C109+C122 -> 0 | D14: =D29+D44+D57+D70+D83+D96+D109+D122 -> 0 | E14: =E29+E44+E57+E70+E83+E96+E109+E122 -> 0 | F14: =F29+F44+F57+F70+F83+F96+F109+F122 -> 0 | G14: =G29+G44+G57+G70+G83+G96+G109+G122 -> 0 | H14: =H29+H44+H57+H70+H83+H96+H109+H122 -> 0 | I14: =I29+I44+I57+I70+I83+I96+I109+I122 -> 0 | J14: =J29+J44+J57+J70+J83+J96+J109+J122 -> 0 | ... R14: =R29+R44+R57+R70+R83+R96+R109+R122 -> 0
A15: Здравноосигурителни вноски | B15: 05-60 | C15: =C30+C45+C58+C71+C84+C97+C110+C123 -> 0 | D15: =D30+D45+D58+D71+D84+D97+D110+D123 -> 0 | E15: =E30+E45+E58+E71+E84+E97+E110+E123 -> 0 | F15: =F30+F45+F58+F71+F84+F97+F110+F123 -> 0 | G15: =G30+G45+G58+G71+G84+G97+G110+G123 -> 0 | H15: =H30+H45+H58+H71+H84+H97+H110+H123 -> 0 | I15: =I30+I45+I58+I71+I84+I97+I110+I123 -> 0 | J15: =J30+J45+J58+J71+J84+J97+J110+J123 -> 0 | ... R15: =R30+R45+R58+R71+R84+R97+R110+R123 -> 0
A16: ДЗПО | B16: 05-80 | C16: =C31+C46+C59+C72+C85+C98+C111+C124 -> 0 | D16: =D31+D46+D59+D72+D85+D98+D111+D124 -> 0 | E16: =E31+E46+E59+E72+E85+E98+E111+E124 -> 0 | F16: =F31+F46+F59+F72+F85+F98+F111+F124 -> 0 | G16: =G31+G46+G59+G72+G85+G98+G111+G124 -> 0 | H16: =H31+H46+H59+H72+H85+H98+H111+H124 -> 0 | I16: =I31+I46+I59+I72+I85+I98+I111+I124 -> 0 | J16: =J31+J46+J59+J72+J85+J98+J111+J124 -> 0 | ... R16: =R31+R46+R59+R72+R85+R98+R111+R124 -> 0
A17: Средства за персонал на субсидирани бройки | B17: 45-00 | C17: =C32+C47+C60+C73+C86+C99+C112+C125 -> 0 | D17: =D32+D47+D60+D73+D86+D99+D112+D125 -> 0 | E17: =E32+E47+E60+E73+E86+E99+E112+E125 -> 0 | F17: =F32+F47+F60+F73+F86+F99+F112+F125 -> 0 | G17: =G32+G47+G60+G73+G86+G99+G112+G125 -> 0 | H17: =H32+H47+H60+H73+H86+H99+H112+H125 -> 0 | I17: =I32+I47+I60+I73+I86+I99+I112+I125 -> 0 | J17: =J32+J47+J60+J73+J86+J99+J112+J125 -> 0 | ... R17: =R32+R47+R60+R73+R86+R99+R112+R125 -> 0
A18: Численост на персонала | C18: =C33+C48+C61+C74+C87+C100+C113+C126 -> 0 | D18: =D33+D48+D61+D74+D87+D100+D113+D126 -> 0 | E18: =E33+E48+E61+E74+E87+E100+E113+E126 -> 0 | F18: =F33+F48+F61+F74+F87+F100+F113+F126 -> 0 | G18: =G33+G48+G61+G74+G87+G100+G113+G126 -> 0 | H18: =H33+H48+H61+H74+H87+H100+H113+H126 -> 0 | I18: =I33+I48+I61+I74+I87+I100+I113+I126 -> 0 | J18: =J33+J48+J61+J74+J87+J100+J113+J126 -> 0 | ... R18: =R33+R48+R61+R74+R87+R100+R113+R126 -> 0
A19: Субсидирана численост | C19: =C36+C49+C62+C75+C88+C101+C114+C127 -> 0 | D19: =D36+D49+D62+D75+D88+D101+D114+D127 -> 0 | E19: =E36+E49+E62+E75+E88+E101+E114+E127 -> 0 | F19: =F36+F49+F62+F75+F88+F101+F114+F127 -> 0 | G19: =G36+G49+G62+G75+G88+G101+G114+G127 -> 0 | H19: =H36+H49+H62+H75+H88+H101+H114+H127 -> 0 | I19: =I36+I49+I62+I75+I88+I101+I114+I127 -> 0 | J19: =J36+J49+J62+J75+J88+J101+J114+J127 -> 0 | ... R19: =R36+R49+R62+R75+R88+R101+R114+R127 -> 0
A21: Разбивка персонал по функции: | C21: =C22+C37+C50+C63+C76+C102+C115 -> 0 | D21: =D22+D37+D50+D63+D76+D102+D115 -> 0 | E21: =E22+E37+E50+E63+E76+E102+E115 -> 0 | F21: =F22+F37+F50+F63+F76+F102+F115 -> 0 | G21: =G22+G37+G50+G63+G76+G102+G115 -> 0 | H21: =H22+H37+H50+H63+H76+H102+H115 -> 0 | I21: =I22+I37+I50+I63+I76+I102+I115 -> 0 | J21: =J22+J37+J50+J63+J76+J102+J115 -> 0 | ... R21: =R22+R37+R50+R63+R76+R102+R115 -> 0
A22: 1. Изпълнителни и законодателни органи | C22: =C23+C26+C27+C32 -> 0 | D22: =D23+D26+D27+D32 -> 0 | E22: =E23+E26+E27+E32 -> 0 | F22: =F23+F26+F27+F32 -> 0 | G22: =G23+G26+G27+G32 -> 0 | H22: =H23+H26+H27+H32 -> 0 | I22: =I23+I26+I27+I32 -> 0 | J22: =J23+J26+J27+J32 -> 0 | ... R22: =R23+R26+R27+R32 -> 0
A23: Заплати | B23: 01-00 | C23: =C24+C25 -> 0 | D23: =D24+D25 -> 0 | E23: =E24+E25 -> 0 | F23: =F24+F25 -> 0 | G23: =G24+G25 -> 0 | H23: =H24+H25 -> 0 | I23: =I24+I25 -> 0 | J23: =J24+J25 -> 0 | ... R23: =R24+R25 -> 0
A24: по трудови правоотношения | B24: 01-01 | E24: Х | F24: Х | J24: =C24+D24+E24+F24+G24+H24+I24 -> 0 | M24: Х | N24: Х | R24: =K24+L24+M24+N24+O24+P24+Q24 -> 0
A25: по служебни правоотношения | B25: 01-02 | E25: Х | F25: Х | J25: =C25+D25+E25+F25+G25+H25+I25 -> 0 | M25: Х | N25: Х | R25: =K25+L25+M25+N25+O25+P25+Q25 -> 0
A26: Други възнаграждения и плащания за персонала | B26: 02-00 | E26: Х | F26: Х | G26: Х | H26: Х | J26: =C26+D26+E26+F26+G26+H26+I26 -> 0 | M26: Х | N26: Х | O26: Х | P26: Х | R26: =K26+L26+M26+N26+O26+P26+Q26 -> 0
A27: Осигурителни вноски | B27: 05-00 | C27: =C28+C29+C30+C31 -> 0 | D27: =D28+D29+D30+D31 -> 0 | E27: =E28+E29+E30+E31 -> 0 | F27: =F28+F29+F30+F31 -> 0 | G27: =G28+G29+G30+G31 -> 0 | H27: =H28+H29+H30+H31 -> 0 | I27: =I28+I29+I30+I31 -> 0 | J27: =J28+J29+J30+J31 -> 0 | ... R27: =R28+R29+R30+R31 -> 0
A28: ДОО | B28: 05-51 | J28: =C28+D28+E28+F28+G28+H28+I28 -> 0 | R28: =K28+L28+M28+N28+O28+P28+Q28 -> 0
A29: УПФ | B29: 05-52 | J29: =C29+D29+E29+F29+G29+H29+I29 -> 0 | R29: =K29+L29+M29+N29+O29+P29+Q29 -> 0
A30: Здравноосигурителни вноски | B30: 05-60 | J30: =C30+D30+E30+F30+G30+H30+I30 -> 0 | R30: =K30+L30+M30+N30+O30+P30+Q30 -> 0
A31: ДЗПО | B31: 05-80 | J31: =C31+D31+E31+F31+G31+H31+I31 -> 0 | R31: =K31+L31+M31+N31+O31+P31+Q31 -> 0
A32: Средства за персонал на субсидирани бройки | B32: 45-00 | C32: Х | D32: Х | E32: Х | F32: Х | G32: Х | H32: Х | I32: Х | J32: Х | K32: Х | L32: Х | M32: Х | N32: Х | O32: Х | P32: Х | Q32: Х | R32: Х
A33: Численост на персонала, в т.ч.: | C33: =C34+C35 -> 0 | D33: =D34+D35 -> 0 | E33: =E34+E35 -> 0 | F33: =F34+F35 -> 0 | G33: =G34+G35 -> 0 | H33: =H34+H35 -> 0 | I33: =I34+I35 -> 0 | J33: =J34+J35 -> 0 | ... R33: =R34+R35 -> 0
A34: - по трудови правоотношения
A35: - по служебни правоотношения
A36: Субсидирана численост | C36: Х | D36: Х | E36: Х | F36: Х | G36: Х | H36: Х | I36: Х | J36: Х | K36: Х | L36: Х | M36: Х | N36: Х | O36: Х | P36: Х | Q36: Х | R36: Х
A37: 2. Отбрана и сигурност | C37: =C38+C41+C42+C47 -> 0 | D37: =D38+D41+D42+D47 -> 0 | E37: =E38+E41+E42+E47 -> 0 | F37: =F38+F41+F42+F47 -> 0 | G37: =G38+G41+G42+G47 -> 0 | H37: =H38+H41+H42+H47 -> 0 | I37: =I38+I41+I42+I47 -> 0 | J37: =J38+J41+J42+J47 -> 0 | ... R37: =R38+R41+R42+R47 -> 0
A38: Заплати | B38: 01-00 | C38: =C39+C40 -> 0 | D38: =D39+D40 -> 0 | E38: =E39+E40 -> 0 | F38: =F39+F40 -> 0 | G38: =G39+G40 -> 0 | H38: =H39+H40 -> 0 | I38: =I39+I40 -> 0 | J38: =J39+J40 -> 0 | ... R38: =R39+R40 -> 0
A39: по трудови правоотношения | B39: 01-01 | E39: Х | F39: Х | G39: Х | H39: Х | J39: =C39+D39+E39+F39+G39+H39+I39 -> 0 | M39: Х | N39: Х | O39: Х | P39: Х | R39: =K39+L39+M39+N39+O39+P39+Q39 -> 0
A40: по служебни правоотношения | B40: 01-02 | E40: Х | F40: Х | G40: Х | H40: Х | J40: =C40+D40+E40+F40+G40+H40+I40 -> 0 | M40: Х | N40: Х | O40: Х | P40: Х | R40: =K40+L40+M40+N40+O40+P40+Q40 -> 0
A41: Други възнаграждения и плащания за персонала | B41: 02-00 | E41: Х | F41: Х | G41: Х | H41: Х | J41: =C41+D41+E41+F41+G41+H41+I41 -> 0 | M41: Х | N41: Х | O41: Х | P41: Х | R41: =K41+L41+M41+N41+O41+P41+Q41 -> 0
A42: Осигурителни вноски | B42: 05-00 | C42: =C43+C44+C45+C46 -> 0 | D42: =D43+D44+D45+D46 -> 0 | E42: =E43+E44+E45+E46 -> 0 | F42: =F43+F44+F45+F46 -> 0 | G42: =G43+G44+G45+G46 -> 0 | H42: =H43+H44+H45+H46 -> 0 | I42: =I43+I44+I45+I46 -> 0 | J42: =J43+J44+J45+J46 -> 0 | ... R42: =R43+R44+R45+R46 -> 0
...

Sheet 2028
A1: Код на общината по ЕБК | B1: =IF('2027'!B1="","",'2027'!B1)
A2: Наименование на общината | B2: =IF('2027'!B2="","",'2027'!B2)
A4: Справка ефекти персонал (в хил. евро) | N4: Приложение № 8б
C5: Общо по общинския бюджет: | I5: в т.ч. в държавните дейнности:
A6: Показатели | B6: по § и §§ | C6: Проект 2027 г. | D6: в т.ч. Ефект от увеличение на МРЗ на 680 eвро за 2028 г. | E6: Ефект от увеличение на МОД на 2500 евро за 2028 г. | F6: Ефект от промяна в модела на осигуряване на държавните служители | G6: Други ефекти -общо (натурални показатели, стратегически реформи и др.) | H6: Прогноза 2028 г. | I6: Проект 2027 г. ДД | J6: в т.ч. Ефект от увеличение на МРЗ на 680 евро за 2028 г. ДД | K6: Ефект от увеличение на МОД на 2500 евро за 2028 г. ДД | L6: Ефект от промяна в модела на осигуряване на държавните служители ДД | M6: Други ефекти -общо (натурални показатели, стратегически реформи и др.) ДД | N6: Прогноза 2028 г. ДД
A7: Персонал-общо: | C7: =C22+C37+C50+C63+C76+C89+C102+C115 -> 0 | D7: =D22+D37+D50+D63+D76+D89+D102+D115 -> 0 | E7: =E22+E37+E50+E63+E76+E89+E102+E115 -> 0 | F7: =F22+F37+F50+F63+F76+F89+F102+F115 -> 0 | G7: =G22+G37+G50+G63+G76+G89+G102+G115 -> 0 | H7: =H22+H37+H50+H63+H76+H89+H102+H115 -> 0 | I7: =I22+I37+I50+I63+I76+I89+I102+I115 -> 0 | J7: =J22+J37+J50+J63+J76+J89+J102+J115 -> 0 | ... N7: =N22+N37+N50+N63+N76+N89+N102+N115 -> 0
A8: Заплати | B8: 01-00 | C8: =C23+C38+C51+C64+C77+C90+C103+C116 -> 0 | D8: =D23+D38+D51+D64+D77+D90+D103+D116 -> 0 | E8: =E23+E38+E51+E64+E77+E90+E103+E116 -> 0 | F8: =F23+F38+F51+F64+F77+F90+F103+F116 -> 0 | G8: =G23+G38+G51+G64+G77+G90+G103+G116 -> 0 | H8: =H23+H38+H51+H64+H77+H90+H103+H116 -> 0 | I8: =I23+I38+I51+I64+I77+I90+I103+I116 -> 0 | J8: =J23+J38+J51+J64+J77+J90+J103+J116 -> 0 | ... N8: =N23+N38+N51+N64+N77+N90+N103+N116 -> 0
A9: по трудови правоотношения | B9: 01-01 | C9: =C24+C39+C52+C65+C78+C91+C104+C117 -> 0 | D9: =D24+D39+D52+D65+D78+D91+D104+D117 -> 0 | E9: =E24+E39+E52+E65+E78+E91+E104+E117 -> 0 | F9: =F24+F39+F52+F65+F78+F91+F104+F117 -> 0 | G9: =G24+G39+G52+G65+G78+G91+G104+G117 -> 0 | H9: =H24+H39+H52+H65+H78+H91+H104+H117 -> 0 | I9: =I24+I39+I52+I65+I78+I91+I104+I117 -> 0 | J9: =J24+J39+J52+J65+J78+J91+J104+J117 -> 0 | ... N9: =N24+N39+N52+N65+N78+N91+N104+N117 -> 0
A10: по служебни правоотношения | B10: 01-02 | C10: =C25+C40+C53+C66+C79+C92+C105+C118 -> 0 | D10: =D25+D40+D53+D66+D79+D92+D105+D118 -> 0 | E10: =E25+E40+E53+E66+E79+E92+E105+E118 -> 0 | F10: =F25+F40+F53+F66+F79+F92+F105+F118 -> 0 | G10: =G25+G40+G53+G66+G79+G92+G105+G118 -> 0 | H10: =H25+H40+H53+H66+H79+H92+H105+H118 -> 0 | I10: =I25+I40+I53+I66+I79+I92+I105+I118 -> 0 | J10: =J25+J40+J53+J66+J79+J92+J105+J118 -> 0 | ... N10: =N25+N40+N53+N66+N79+N92+N105+N118 -> 0
A11: Други възнаграждения и плащания за персонала | B11: 02-00 | C11: =C26+C41+C54+C67+C80+C93+C106+C119 -> 0 | D11: =D26+D41+D54+D67+D80+D93+D106+D119 -> 0 | E11: =E26+E41+E54+E67+E80+E93+E106+E119 -> 0 | F11: =F26+F41+F54+F67+F80+F93+F106+F119 -> 0 | G11: =G26+G41+G54+G67+G80+G93+G106+G119 -> 0 | H11: =H26+H41+H54+H67+H80+H93+H106+H119 -> 0 | I11: =I26+I41+I54+I67+I80+I93+I106+I119 -> 0 | J11: =J26+J41+J54+J67+J80+J93+J106+J119 -> 0 | ... N11: =N26+N41+N54+N67+N80+N93+N106+N119 -> 0
A12: Осигурителни вноски | B12: 05-00 | C12: =C27+C42+C55+C68+C81+C94+C107+C120 -> 0 | D12: =D27+D42+D55+D68+D81+D94+D107+D120 -> 0 | E12: =E27+E42+E55+E68+E81+E94+E107+E120 -> 0 | F12: =F27+F42+F55+F68+F81+F94+F107+F120 -> 0 | G12: =G27+G42+G55+G68+G81+G94+G107+G120 -> 0 | H12: =H27+H42+H55+H68+H81+H94+H107+H120 -> 0 | I12: =I27+I42+I55+I68+I81+I94+I107+I120 -> 0 | J12: =J27+J42+J55+J68+J81+J94+J107+J120 -> 0 | ... N12: =N27+N42+N55+N68+N81+N94+N107+N120 -> 0
A13: ДОО | B13: 05-51 | C13: =C28+C43+C56+C69+C82+C95+C108+C121 -> 0 | D13: =D28+D43+D56+D69+D82+D95+D108+D121 -> 0 | E13: =E28+E43+E56+E69+E82+E95+E108+E121 -> 0 | F13: =F28+F43+F56+F69+F82+F95+F108+F121 -> 0 | G13: =G28+G43+G56+G69+G82+G95+G108+G121 -> 0 | H13: =H28+H43+H56+H69+H82+H95+H108+H121 -> 0 | I13: =I28+I43+I56+I69+I82+I95+I108+I121 -> 0 | J13: =J28+J43+J56+J69+J82+J95+J108+J121 -> 0 | ... N13: =N28+N43+N56+N69+N82+N95+N108+N121 -> 0
A14: УПФ | B14: 05-52 | C14: =C29+C44+C57+C70+C83+C96+C109+C122 -> 0 | D14: =D29+D44+D57+D70+D83+D96+D109+D122 -> 0 | E14: =E29+E44+E57+E70+E83+E96+E109+E122 -> 0 | F14: =F29+F44+F57+F70+F83+F96+F109+F122 -> 0 | G14: =G29+G44+G57+G70+G83+G96+G109+G122 -> 0 | H14: =H29+H44+H57+H70+H83+H96+H109+H122 -> 0 | I14: =I29+I44+I57+I70+I83+I96+I109+I122 -> 0 | J14: =J29+J44+J57+J70+J83+J96+J109+J122 -> 0 | ... N14: =N29+N44+N57+N70+N83+N96+N109+N122 -> 0
A15: Здравноосигурителни вноски | B15: 05-60 | C15: =C30+C45+C58+C71+C84+C97+C110+C123 -> 0 | D15: =D30+D45+D58+D71+D84+D97+D110+D123 -> 0 | E15: =E30+E45+E58+E71+E84+E97+E110+E123 -> 0 | F15: =F30+F45+F58+F71+F84+F97+F110+F123 -> 0 | G15: =G30+G45+G58+G71+G84+G97+G110+G123 -> 0 | H15: =H30+H45+H58+H71+H84+H97+H110+H123 -> 0 | I15: =I30+I45+I58+I71+I84+I97+I110+I123 -> 0 | J15: =J30+J45+J58+J71+J84+J97+J110+J123 -> 0 | ... N15: =N30+N45+N58+N71+N84+N97+N110+N123 -> 0
A16: ДЗПО | B16: 05-80 | C16: =C31+C46+C59+C72+C85+C98+C111+C124 -> 0 | D16: =D31+D46+D59+D72+D85+D98+D111+D124 -> 0 | E16: =E31+E46+E59+E72+E85+E98+E111+E124 -> 0 | F16: =F31+F46+F59+F72+F85+F98+F111+F124 -> 0 | G16: =G31+G46+G59+G72+G85+G98+G111+G124 -> 0 | H16: =H31+H46+H59+H72+H85+H98+H111+H124 -> 0 | I16: =I31+I46+I59+I72+I85+I98+I111+I124 -> 0 | J16: =J31+J46+J59+J72+J85+J98+J111+J124 -> 0 | ... N16: =N31+N46+N59+N72+N85+N98+N111+N124 -> 0
A17: Средства за персонал на субсидирани бройки | B17: 45-00 | C17: =C32+C47+C60+C73+C86+C99+C112+C125 -> 0 | D17: =D32+D47+D60+D73+D86+D99+D112+D125 -> 0 | E17: =E32+E47+E60+E73+E86+E99+E112+E125 -> 0 | F17: =F32+F47+F60+F73+F86+F99+F112+F125 -> 0 | G17: =G32+G47+G60+G73+G86+G99+G112+G125 -> 0 | H17: =H32+H47+H60+H73+H86+H99+H112+H125 -> 0 | I17: =I32+I47+I60+I73+I86+I99+I112+I125 -> 0 | J17: =J32+J47+J60+J73+J86+J99+J112+J125 -> 0 | ... N17: =N32+N47+N60+N73+N86+N99+N112+N125 -> 0
A18: Численост на персонала | C18: =C33+C48+C61+C74+C87+C100+C113+C126 -> 0 | D18: =D33+D48+D61+D74+D87+D100+D113+D126 -> 0 | E18: =E33+E48+E61+E74+E87+E100+E113+E126 -> 0 | F18: =F33+F48+F61+F74+F87+F100+F113+F126 -> 0 | G18: =G33+G48+G61+G74+G87+G100+G113+G126 -> 0 | H18: =H33+H48+H61+H74+H87+H100+H113+H126 -> 0 | I18: =I33+I48+I61+I74+I87+I100+I113+I126 -> 0 | J18: =J33+J48+J61+J74+J87+J100+J113+J126 -> 0 | ... N18: =N33+N48+N61+N74+N87+N100+N113+N126 -> 0
A19: Субсидирана численост | C19: =C36+C49+C62+C75+C88+C101+C114+C127 -> 0 | D19: =D36+D49+D62+D75+D88+D101+D114+D127 -> 0 | E19: =E36+E49+E62+E75+E88+E101+E114+E127 -> 0 | F19: =F36+F49+F62+F75+F88+F101+F114+F127 -> 0 | G19: =G36+G49+G62+G75+G88+G101+G114+G127 -> 0 | H19: =H36+H49+H62+H75+H88+H101+H114+H127 -> 0 | I19: =I36+I49+I62+I75+I88+I101+I114+I127 -> 0 | J19: =J36+J49+J62+J75+J88+J101+J114+J127 -> 0 | ... N19: =N36+N49+N62+N75+N88+N101+N114+N127 -> 0
A21: Разбивка персонал по функции: | C21: =C22+C37+C50+C63+C76+C102+C115 -> 0 | D21: =D22+D37+D50+D63+D76+D102+D115 -> 0 | E21: =E22+E37+E50+E63+E76+E102+E115 -> 0 | F21: =F22+F37+F50+F63+F76+F102+F115 -> 0 | G21: =G22+G37+G50+G63+G76+G102+G115 -> 0 | H21: =H22+H37+H50+H63+H76+H102+H115 -> 0 | I21: =I22+I37+I50+I63+I76+I102+I115 -> 0 | J21: =J22+J37+J50+J63+J76+J102+J115 -> 0 | ... N21: =N22+N37+N50+N63+N76+N102+N115 -> 0
A22: 1. Изпълнителни и законодателни органи | C22: =C23+C26+C27+C32 -> 0 | D22: =D23+D26+D27+D32 -> 0 | E22: =E23+E26+E27+E32 -> 0 | F22: =F23+F26+F27+F32 -> 0 | G22: =G23+G26+G27+G32 -> 0 | H22: =H23+H26+H27+H32 -> 0 | I22: =I23+I26+I27+I32 -> 0 | J22: =J23+J26+J27+J32 -> 0 | ... N22: =N23+N26+N27+N32 -> 0
A23: Заплати | B23: 01-00 | C23: =C24+C25 -> 0 | D23: =D24+D25 -> 0 | E23: =E24+E25 -> 0 | F23: =F24+F25 -> 0 | G23: =G24+G25 -> 0 | H23: =H24+H25 -> 0 | I23: =I24+I25 -> 0 | J23: =J24+J25 -> 0 | ... N23: =N24+N25 -> 0
A24: по трудови правоотношения | B24: 01-01 | C24: ='2027'!J24 -> 0 | E24: Х | H24: =C24+D24+E24+F24+G24 -> 0 | I24: ='2027'!R24 -> 0 | K24: Х | N24: =I24+J24+K24+L24+M24 -> 0
A25: по служебни правоотношения | B25: 01-02 | C25: ='2027'!J25 -> 0 | E25: Х | H25: =C25+D25+E25+F25+G25 -> 0 | I25: ='2027'!R25 -> 0 | K25: Х | N25: =I25+J25+K25+L25+M25 -> 0
A26: Други възнаграждения и плащания за персонала | B26: 02-00 | C26: ='2027'!J26 -> 0 | E26: Х | F26: Х | H26: =C26+D26+E26+F26+G26 -> 0 | I26: ='2027'!R26 -> 0 | K26: Х | L26: Х | N26: =I26+J26+K26+L26+M26 -> 0
A27: Осигурителни вноски | B27: 05-00 | C27: =C28+C29+C30+C31 -> 0 | D27: =D28+D29+D30+D31 -> 0 | E27: =E28+E29+E30+E31 -> 0 | F27: =F28+F29+F30+F31 -> 0 | G27: =G28+G29+G30+G31 -> 0 | H27: =H28+H29+H30+H31 -> 0 | I27: =I28+I29+I30+I31 -> 0 | J27: =J28+J29+J30+J31 -> 0 | ... N27: =N28+N29+N30+N31 -> 0
A28: ДОО | B28: 05-51 | C28: ='2027'!J28 -> 0 | H28: =C28+D28+E28+F28+G28 -> 0 | I28: ='2027'!R28 -> 0 | N28: =I28+J28+K28+L28+M28 -> 0
A29: УПФ | B29: 05-52 | C29: ='2027'!J29 -> 0 | H29: =C29+D29+E29+F29+G29 -> 0 | I29: ='2027'!R29 -> 0 | N29: =I29+J29+K29+L29+M29 -> 0
A30: Здравноосигурителни вноски | B30: 05-60 | C30: ='2027'!J30 -> 0 | H30: =C30+D30+E30+F30+G30 -> 0 | I30: ='2027'!R30 -> 0 | N30: =I30+J30+K30+L30+M30 -> 0
A31: ДЗПО | B31: 05-80 | C31: ='2027'!J31 -> 0 | H31: =C31+D31+E31+F31+G31 -> 0 | I31: ='2027'!R31 -> 0 | N31: =I31+J31+K31+L31+M31 -> 0
A32: Средства за персонал на субсидирани бройки | B32: 45-00 | C32: Х | D32: Х | E32: Х | F32: Х | G32: Х | H32: Х | I32: Х | J32: Х | K32: Х | L32: Х | M32: Х | N32: Х
A33: Численост на персонала | C33: =C34+C35 -> 0 | D33: =D34+D35 -> 0 | E33: =E34+E35 -> 0 | F33: =F34+F35 -> 0 | G33: =G34+G35 -> 0 | H33: =H34+H35 -> 0 | I33: =I34+I35 -> 0 | N33: =N34+N35 -> 0
A34: - по трудови правоотношения | C34: ='2027'!J34 -> 0 | I34: ='2027'!R34 -> 0
A35: - по служебни правоотношения | C35: ='2027'!J35 -> 0 | I35: ='2027'!R35 -> 0
A36: Субсидирана численост | C36: Х | D36: Х | E36: Х | F36: Х | G36: Х | H36: Х | I36: Х | J36: Х | K36: Х | L36: Х | M36: Х | N36: Х
A37: 2. Отбрана и сигурност | C37: =C38+C41+C42+C47 -> 0 | D37: =D38+D41+D42+D47 -> 0 | E37: =E38+E41+E42+E47 -> 0 | F37: =F38+F41+F42+F47 -> 0 | G37: =G38+G41+G42+G47 -> 0 | H37: =H38+H41+H42+H47 -> 0 | I37: =I38+I41+I42+I47 -> 0 | J37: =J38+J41+J42+J47 -> 0 | ... N37: =N38+N41+N42+N47 -> 0
A38: Заплати | B38: 01-00 | C38: =C39+C40 -> 0 | D38: =D39+D40 -> 0 | E38: =E39+E40 -> 0 | F38: =F39+F40 -> 0 | G38: =G39+G40 -> 0 | H38: =H39+H40 -> 0 | I38: =I39+I40 -> 0 | J38: =J39+J40 -> 0 | ... N38: =N39+N40 -> 0
A39: по трудови правоотношения | B39: 01-01 | C39: ='2027'!J39 -> 0 | E39: Х | F39: Х | H39: =C39+D39+E39+F39+G39 -> 0 | I39: ='2027'!R39 -> 0 | K39: Х | L39: Х | N39: =I39+J39+K39+L39+M39 -> 0
A40: по служебни правоотношения | B40: 01-02 | C40: ='2027'!J40 -> 0 | E40: Х | F40: Х | H40: =C40+D40+E40+F40+G40 -> 0 | I40: ='2027'!R40 -> 0 | K40: Х | L40: Х | N40: =I40+J40+K40+L40+M40 -> 0
A41: Други възнаграждения и плащания за персонала | B41: 02-00 | C41: ='2027'!J41 -> 0 | E41: Х | F41: Х | H41: =C41+D41+E41+F41+G41 -> 0 | I41: ='2027'!R41 -> 0 | K41: Х | L41: Х | N41: =I41+J41+K41+L41+M41 -> 0
A42: Осигурителни вноски | B42: 05-00 | C42: =C43+C44+C45+C46 -> 0 | D42: =D43+D44+D45+D46 -> 0 | E42: =E43+E44+E45+E46 -> 0 | F42: =F43+F44+F45+F46 -> 0 | G42: =G43+G44+G45+G46 -> 0 | H42: =H43+H44+H45+H46 -> 0 | I42: =I43+I44+I45+I46 -> 0 | J42: =J43+J44+J45+J46 -> 0 | ... N42: =N43+N44+N45+N46 -> 0
...

Sheet 2029
A1: Код на общината по ЕБК | B1: =IF('2028'!B1="","",'2028'!B1)
A2: Наименование на общината | B2: =IF('2028'!B2="","",'2028'!B2)
A4: Справка ефекти персонал (в хил. евро) | N4: Приложение № 8б
C5: Общо по общинския бюджет: | I5: в т.ч. в държавните дейнности:
A6: Показатели | B6: по § и §§ | C6: Прогноза 2028 г. | D6: в т.ч. Ефект от увеличение на МРЗ на 710 евро за 2029 г. | E6: Ефект от увеличение на МОД на 2600 евро за 2029 г. | F6: Ефект от промяна в модела на осигуряване на държавните служители | G6: Други ефекти -общо (натурални показатели, стратегически реформи и др.) | H6: Прогноза 2029 г. | I6: Прогноза 2028 г. ДД | J6: в т.ч. Ефект от увеличение на МРЗ на 710 евро за 2029 г. ДД | K6: Ефект от увеличение на МОД на 2600 евро за 2029 г. ДД | L6: Ефект от промяна в модела на осигуряване на държавните служители ДД | M6: Други ефекти -общо (натурални показатели, стратегически реформи и др.) ДД | N6: Прогноза 2029 г. ДД
A7: Персонал-общо: | C7: =C22+C37+C50+C63+C76+C89+C102+C115 -> 0 | D7: =D22+D37+D50+D63+D76+D89+D102+D115 -> 0 | E7: =E22+E37+E50+E63+E76+E89+E102+E115 -> 0 | F7: =F22+F37+F50+F63+F76+F89+F102+F115 -> 0 | G7: =G22+G37+G50+G63+G76+G89+G102+G115 -> 0 | H7: =H22+H37+H50+H63+H76+H89+H102+H115 -> 0 | I7: =I22+I37+I50+I63+I76+I89+I102+I115 -> 0 | J7: =J22+J37+J50+J63+J76+J89+J102+J115 -> 0 | ... N7: =N22+N37+N50+N63+N76+N89+N102+N115 -> 0
A8: Заплати | B8: 01-00 | C8: =C23+C38+C51+C64+C77+C90+C103+C116 -> 0 | D8: =D23+D38+D51+D64+D77+D90+D103+D116 -> 0 | E8: =E23+E38+E51+E64+E77+E90+E103+E116 -> 0 | F8: =F23+F38+F51+F64+F77+F90+F103+F116 -> 0 | G8: =G23+G38+G51+G64+G77+G90+G103+G116 -> 0 | H8: =H23+H38+H51+H64+H77+H90+H103+H116 -> 0 | I8: =I23+I38+I51+I64+I77+I90+I103+I116 -> 0 | J8: =J23+J38+J51+J64+J77+J90+J103+J116 -> 0 | ... N8: =N23+N38+N51+N64+N77+N90+N103+N116 -> 0
A9: по трудови правоотношения | B9: 01-01 | C9: =C24+C39+C52+C65+C78+C91+C104+C117 -> 0 | D9: =D24+D39+D52+D65+D78+D91+D104+D117 -> 0 | E9: =E24+E39+E52+E65+E78+E91+E104+E117 -> 0 | F9: =F24+F39+F52+F65+F78+F91+F104+F117 -> 0 | G9: =G24+G39+G52+G65+G78+G91+G104+G117 -> 0 | H9: =H24+H39+H52+H65+H78+H91+H104+H117 -> 0 | I9: =I24+I39+I52+I65+I78+I91+I104+I117 -> 0 | J9: =J24+J39+J52+J65+J78+J91+J104+J117 -> 0 | ... N9: =N24+N39+N52+N65+N78+N91+N104+N117 -> 0
A10: по служебни правоотношения | B10: 01-02 | C10: =C25+C40+C53+C66+C79+C92+C105+C118 -> 0 | D10: =D25+D40+D53+D66+D79+D92+D105+D118 -> 0 | E10: =E25+E40+E53+E66+E79+E92+E105+E118 -> 0 | F10: =F25+F40+F53+F66+F79+F92+F105+F118 -> 0 | G10: =G25+G40+G53+G66+G79+G92+G105+G118 -> 0 | H10: =H25+H40+H53+H66+H79+H92+H105+H118 -> 0 | I10: =I25+I40+I53+I66+I79+I92+I105+I118 -> 0 | J10: =J25+J40+J53+J66+J79+J92+J105+J118 -> 0 | ... N10: =N25+N40+N53+N66+N79+N92+N105+N118 -> 0
A11: Други възнаграждения и плащания за персонала | B11: 02-00 | C11: =C26+C41+C54+C67+C80+C93+C106+C119 -> 0 | D11: =D26+D41+D54+D67+D80+D93+D106+D119 -> 0 | E11: =E26+E41+E54+E67+E80+E93+E106+E119 -> 0 | F11: =F26+F41+F54+F67+F80+F93+F106+F119 -> 0 | G11: =G26+G41+G54+G67+G80+G93+G106+G119 -> 0 | H11: =H26+H41+H54+H67+H80+H93+H106+H119 -> 0 | I11: =I26+I41+I54+I67+I80+I93+I106+I119 -> 0 | J11: =J26+J41+J54+J67+J80+J93+J106+J119 -> 0 | ... N11: =N26+N41+N54+N67+N80+N93+N106+N119 -> 0
A12: Осигурителни вноски | B12: 05-00 | C12: =C27+C42+C55+C68+C81+C94+C107+C120 -> 0 | D12: =D27+D42+D55+D68+D81+D94+D107+D120 -> 0 | E12: =E27+E42+E55+E68+E81+E94+E107+E120 -> 0 | F12: =F27+F42+F55+F68+F81+F94+F107+F120 -> 0 | G12: =G27+G42+G55+G68+G81+G94+G107+G120 -> 0 | H12: =H27+H42+H55+H68+H81+H94+H107+H120 -> 0 | I12: =I27+I42+I55+I68+I81+I94+I107+I120 -> 0 | J12: =J27+J42+J55+J68+J81+J94+J107+J120 -> 0 | ... N12: =N27+N42+N55+N68+N81+N94+N107+N120 -> 0
A13: ДОО | B13: 05-51 | C13: =C28+C43+C56+C69+C82+C95+C108+C121 -> 0 | D13: =D28+D43+D56+D69+D82+D95+D108+D121 -> 0 | E13: =E28+E43+E56+E69+E82+E95+E108+E121 -> 0 | F13: =F28+F43+F56+F69+F82+F95+F108+F121 -> 0 | G13: =G28+G43+G56+G69+G82+G95+G108+G121 -> 0 | H13: =H28+H43+H56+H69+H82+H95+H108+H121 -> 0 | I13: =I28+I43+I56+I69+I82+I95+I108+I121 -> 0 | J13: =J28+J43+J56+J69+J82+J95+J108+J121 -> 0 | ... N13: =N28+N43+N56+N69+N82+N95+N108+N121 -> 0
A14: УПФ | B14: 05-52 | C14: =C29+C44+C57+C70+C83+C96+C109+C122 -> 0 | D14: =D29+D44+D57+D70+D83+D96+D109+D122 -> 0 | E14: =E29+E44+E57+E70+E83+E96+E109+E122 -> 0 | F14: =F29+F44+F57+F70+F83+F96+F109+F122 -> 0 | G14: =G29+G44+G57+G70+G83+G96+G109+G122 -> 0 | H14: =H29+H44+H57+H70+H83+H96+H109+H122 -> 0 | I14: =I29+I44+I57+I70+I83+I96+I109+I122 -> 0 | J14: =J29+J44+J57+J70+J83+J96+J109+J122 -> 0 | ... N14: =N29+N44+N57+N70+N83+N96+N109+N122 -> 0
A15: Здравноосигурителни вноски | B15: 05-60 | C15: =C30+C45+C58+C71+C84+C97+C110+C123 -> 0 | D15: =D30+D45+D58+D71+D84+D97+D110+D123 -> 0 | E15: =E30+E45+E58+E71+E84+E97+E110+E123 -> 0 | F15: =F30+F45+F58+F71+F84+F97+F110+F123 -> 0 | G15: =G30+G45+G58+G71+G84+G97+G110+G123 -> 0 | H15: =H30+H45+H58+H71+H84+H97+H110+H123 -> 0 | I15: =I30+I45+I58+I71+I84+I97+I110+I123 -> 0 | J15: =J30+J45+J58+J71+J84+J97+J110+J123 -> 0 | ... N15: =N30+N45+N58+N71+N84+N97+N110+N123 -> 0
A16: ДЗПО | B16: 05-80 | C16: =C31+C46+C59+C72+C85+C98+C111+C124 -> 0 | D16: =D31+D46+D59+D72+D85+D98+D111+D124 -> 0 | E16: =E31+E46+E59+E72+E85+E98+E111+E124 -> 0 | F16: =F31+F46+F59+F72+F85+F98+F111+F124 -> 0 | G16: =G31+G46+G59+G72+G85+G98+G111+G124 -> 0 | H16: =H31+H46+H59+H72+H85+H98+H111+H124 -> 0 | I16: =I31+I46+I59+I72+I85+I98+I111+I124 -> 0 | J16: =J31+J46+J59+J72+J85+J98+J111+J124 -> 0 | ... N16: =N31+N46+N59+N72+N85+N98+N111+N124 -> 0
A17: Средства за персонал на субсидирани бройки | B17: 45-00 | C17: =C32+C47+C60+C73+C86+C99+C112+C125 -> 0 | D17: =D32+D47+D60+D73+D86+D99+D112+D125 -> 0 | E17: =E32+E47+E60+E73+E86+E99+E112+E125 -> 0 | F17: =F32+F47+F60+F73+F86+F99+F112+F125 -> 0 | G17: =G32+G47+G60+G73+G86+G99+G112+G125 -> 0 | H17: =H32+H47+H60+H73+H86+H99+H112+H125 -> 0 | I17: =I32+I47+I60+I73+I86+I99+I112+I125 -> 0 | J17: =J32+J47+J60+J73+J86+J99+J112+J125 -> 0 | ... N17: =N32+N47+N60+N73+N86+N99+N112+N125 -> 0
A18: Численост на персонала | C18: =C33+C48+C61+C74+C87+C100+C113+C126 -> 0 | D18: =D33+D48+D61+D74+D87+D100+D113+D126 -> 0 | E18: =E33+E48+E61+E74+E87+E100+E113+E126 -> 0 | F18: =F33+F48+F61+F74+F87+F100+F113+F126 -> 0 | G18: =G33+G48+G61+G74+G87+G100+G113+G126 -> 0 | H18: =H33+H48+H61+H74+H87+H100+H113+H126 -> 0 | I18: =I33+I48+I61+I74+I87+I100+I113+I126 -> 0 | J18: =J33+J48+J61+J74+J87+J100+J113+J126 -> 0 | ... N18: =N33+N48+N61+N74+N87+N100+N113+N126 -> 0
A19: Субсидирана численост | C19: =C36+C49+C62+C75+C88+C101+C114+C127 -> 0 | D19: =D36+D49+D62+D75+D88+D101+D114+D127 -> 0 | E19: =E36+E49+E62+E75+E88+E101+E114+E127 -> 0 | F19: =F36+F49+F62+F75+F88+F101+F114+F127 -> 0 | G19: =G36+G49+G62+G75+G88+G101+G114+G127 -> 0 | H19: =H36+H49+H62+H75+H88+H101+H114+H127 -> 0 | I19: =I36+I49+I62+I75+I88+I101+I114+I127 -> 0 | J19: =J36+J49+J62+J75+J88+J101+J114+J127 -> 0 | ... N19: =N36+N49+N62+N75+N88+N101+N114+N127 -> 0
A21: Разбивка персонал по функции: | C21: =C22+C37+C50+C63+C76+C102+C115 -> 0 | D21: =D22+D37+D50+D63+D76+D102+D115 -> 0 | E21: =E22+E37+E50+E63+E76+E102+E115 -> 0 | F21: =F22+F37+F50+F63+F76+F102+F115 -> 0 | G21: =G22+G37+G50+G63+G76+G102+G115 -> 0 | H21: =H22+H37+H50+H63+H76+H102+H115 -> 0 | I21: =I22+I37+I50+I63+I76+I102+I115 -> 0 | J21: =J22+J37+J50+J63+J76+J102+J115 -> 0 | ... N21: =N22+N37+N50+N63+N76+N102+N115 -> 0
A22: 1. Изпълнителни и законодателни органи | C22: =C23+C26+C27+C32 -> 0 | D22: =D23+D26+D27+D32 -> 0 | E22: =E23+E26+E27+E32 -> 0 | F22: =F23+F26+F27+F32 -> 0 | G22: =G23+G26+G27+G32 -> 0 | H22: =H23+H26+H27+H32 -> 0 | I22: =I23+I26+I27+I32 -> 0 | J22: =J23+J26+J27+J32 -> 0 | ... N22: =N23+N26+N27+N32 -> 0
A23: Заплати | B23: 01-00 | C23: =C24+C25 -> 0 | D23: =D24+D25 -> 0 | E23: =E24+E25 -> 0 | F23: =F24+F25 -> 0 | G23: =G24+G25 -> 0 | H23: =H24+H25 -> 0 | I23: =I24+I25 -> 0 | J23: =J24+J25 -> 0 | ... N23: =N24+N25 -> 0
A24: по трудови правоотношения | B24: 01-01 | C24: ='2028'!H24 -> 0 | E24: Х | H24: =C24+D24+E24+F24+G24 -> 0 | I24: ='2028'!N24 -> 0 | K24: Х | N24: =I24+J24+K24+L24+M24 -> 0
A25: по служебни правоотношения | B25: 01-02 | C25: ='2028'!H25 -> 0 | E25: Х | H25: =C25+D25+E25+F25+G25 -> 0 | I25: ='2028'!N25 -> 0 | K25: Х | N25: =I25+J25+K25+L25+M25 -> 0
A26: Други възнаграждения и плащания за персонала | B26: 02-00 | C26: ='2028'!H26 -> 0 | E26: Х | F26: Х | H26: =C26+D26+E26+F26+G26 -> 0 | I26: ='2028'!N26 -> 0 | K26: Х | L26: Х | N26: =I26+J26+K26+L26+M26 -> 0
A27: Осигурителни вноски | B27: 05-00 | C27: =C28+C29+C30+C31 -> 0 | D27: =D28+D29+D30+D31 -> 0 | E27: =E28+E29+E30+E31 -> 0 | F27: =F28+F29+F30+F31 -> 0 | G27: =G28+G29+G30+G31 -> 0 | H27: =H28+H29+H30+H31 -> 0 | I27: =I28+I29+I30+I31 -> 0 | J27: =J28+J29+J30+J31 -> 0 | ... N27: =N28+N29+N30+N31 -> 0
A28: ДОО | B28: 05-51 | C28: ='2028'!H28 -> 0 | H28: =C28+D28+E28+F28+G28 -> 0 | I28: ='2028'!N28 -> 0 | N28: =I28+J28+K28+L28+M28 -> 0
A29: УПФ | B29: 05-52 | C29: ='2028'!H29 -> 0 | H29: =C29+D29+E29+F29+G29 -> 0 | I29: ='2028'!N29 -> 0 | N29: =I29+J29+K29+L29+M29 -> 0
A30: Здравноосигурителни вноски | B30: 05-60 | C30: ='2028'!H30 -> 0 | H30: =C30+D30+E30+F30+G30 -> 0 | I30: ='2028'!N30 -> 0 | N30: =I30+J30+K30+L30+M30 -> 0
A31: ДЗПО | B31: 05-80 | C31: ='2028'!H31 -> 0 | H31: =C31+D31+E31+F31+G31 -> 0 | I31: ='2028'!N31 -> 0 | N31: =I31+J31+K31+L31+M31 -> 0
A32: Средства за персонал на субсидирани бройки | B32: 45-00 | C32: Х | D32: Х | E32: Х | F32: Х | G32: Х | H32: Х | I32: Х | J32: Х | K32: Х | L32: Х | M32: Х | N32: Х
A33: Численост на персонала | C33: =C34+C35 -> 0 | D33: =D34+D35 -> 0 | E33: =E34+E35 -> 0 | F33: =F34+F35 -> 0 | G33: =G34+G35 -> 0 | H33: =H34+H35 -> 0 | I33: =I34+I35 -> 0 | J33: =J34+J35 -> 0 | ... N33: =N34+N35 -> 0
A34: - по трудови правоотношения | C34: ='2028'!H34 -> 0 | I34: ='2028'!N34 -> 0
A35: - по служебни правоотношения | C35: ='2028'!H35 -> 0 | I35: ='2028'!N35 -> 0
A36: Субсидирана численост | C36: Х | D36: Х | E36: Х | F36: Х | G36: Х | H36: Х | I36: Х | J36: Х | K36: Х | L36: Х | M36: Х | N36: Х
A37: 2. Отбрана и сигурност | C37: =C38+C41+C42+C47 -> 0 | D37: =D38+D41+D42+D47 -> 0 | E37: =E38+E41+E42+E47 -> 0 | F37: =F38+F41+F42+F47 -> 0 | G37: =G38+G41+G42+G47 -> 0 | H37: =H38+H41+H42+H47 -> 0 | I37: =I38+I41+I42+I47 -> 0 | J37: =J38+J41+J42+J47 -> 0 | ... N37: =N38+N41+N42+N47 -> 0
A38: Заплати | B38: 01-00 | C38: =C39+C40 -> 0 | D38: =D39+D40 -> 0 | E38: =E39+E40 -> 0 | F38: =F39+F40 -> 0 | G38: =G39+G40 -> 0 | H38: =H39+H40 -> 0 | I38: =I39+I40 -> 0 | J38: =J39+J40 -> 0 | ... N38: =N39+N40 -> 0
A39: по трудови правоотношения | B39: 01-01 | C39: ='2028'!H39 -> 0 | E39: Х | F39: Х | H39: =C39+D39+E39+F39+G39 -> 0 | I39: ='2028'!N39 -> 0 | K39: Х | L39: Х | N39: =I39+J39+K39+L39+M39 -> 0
A40: по служебни правоотношения | B40: 01-02 | C40: ='2028'!H40 -> 0 | E40: Х | F40: Х | H40: =C40+D40+E40+F40+G40 -> 0 | I40: ='2028'!N40 -> 0 | K40: Х | L40: Х | N40: =I40+J40+K40+L40+M40 -> 0
A41: Други възнаграждения и плащания за персонала | B41: 02-00 | C41: ='2028'!H41 -> 0 | E41: Х | F41: Х | H41: =C41+D41+E41+F41+G41 -> 0 | I41: ='2028'!N41 -> 0 | K41: Х | L41: Х | N41: =I41+J41+K41+L41+M41 -> 0
A42: Осигурителни вноски | B42: 05-00 | C42: =C43+C44+C45+C46 -> 0 | D42: =D43+D44+D45+D46 -> 0 | E42: =E43+E44+E45+E46 -> 0 | F42: =F43+F44+F45+F46 -> 0 | G42: =G43+G44+G45+G46 -> 0 | H42: =H43+H44+H45+H46 -> 0 | I42: =I43+I44+I45+I46 -> 0 | J42: =J43+J44+J45+J46 -> 0 | ... N42: =N43+N44+N45+N46 -> 0
...

Sheet лист ЕБК 
A1: 5101 | B1: Банско
A2: 5102 | B2: Белица
A3: 5103 | B3: Благоевград
A4: 5104 | B4: Гоце Делчев
A5: 5105 | B5: Гърмен
A6: 5106 | B6: Кресна
A7: 5107 | B7: Петрич
A8: 5108 | B8: Разлог
A9: 5109 | B9: Сандански
A10: 5110 | B10: Сатовча
A11: 5111 | B11: Симитли
A12: 5112 | B12: Струмяни
... A265: 7805 | B265: Ямбол
