Workbook

Sheet ОБЩО
A1: Приложение № 3б - Прогнозен размер на капиталовите разходи/трансфери за периода 2024-2027 г.
B2: на ……………………………………………………………
B3: (наименование на бюджетната организация)
U4: (в лева)
H5: 2025 година | M5: 2026 година | R5: 2027 година
A6: § | B6: Наименование и местонахождение на обектите | C6: Година начало - година край | D6: Сметна стойност | E6: Усвоено към 31.12.2023 | F6: Отчет 2023 | G6: Очаквано изпълнение 2024 | H6: Прогнозен план за 2025 | I6: Бюджет | J6: Средства от ЕС | K6: Други | L6: Приоритет от 1 (най-висок) до 3 (най-нисък) | M6: Прогнозен план за 2026 | N6: Бюджет | O6: Средства от ЕС | P6: Други | Q6: Приоритет от 1 (най-висок) до 3 (най-нисък) | R6: Прогнозен план за 2027 | S6: Бюджет | T6: Средства от ЕС | U6: Други | V6: Приоритет от 1 (най-висок) до 3 (най-нисък)
H7: к.9+к.10+к.11 | M7: к.14+к.15+к.16 | R7: к.19+к.20+к.21
A8: 1 | B8: =A8+1 -> 2 | C8: =B8+1 -> 3 | D8: =C8+1 -> 4 | E8: =D8+1 -> 5 | F8: =E8+1 -> 6 | G8: =F8+1 -> 7 | H8: =G8+1 -> 8 | I8: =H8+1 -> 9 | ... V8: =U8+1 -> 22
B9: Общо (от§ 51-00 до § 55-00): | D9: =+D10+D11 -> 0 | E9: =+E10+E11 -> 0 | F9: =+F10+F11 -> 0 | G9: =+G10+G11 -> 0 | H9: =+H10+H11 -> 0 | I9: =+I10+I11 -> 0 | J9: =+J10+J11 -> 0 | K9: =+K10+K11 -> 0 | M9: =+M10+M11 -> 0 | N9: =+N10+N11 -> 0 | O9: =+O10+O11 -> 0 | P9: =+P10+P11 -> 0 | R9: =+R10+R11 -> 0 | S9: =+S10+S11 -> 0 | T9: =+T10+T11 -> 0 | U9: =+U10+U11 -> 0
B10: Придобиване на дълготрайни активи и основен ремонт | D10: =+D12+D13+D21+D24 -> 0 | E10: =+E12+E13+E21+E24 -> 0 | F10: =+F12+F13+F21+F24 -> 0 | G10: =+G12+G13+G21+G24 -> 0 | H10: =+H12+H13+H21+H24 -> 0 | I10: =+I12+I13+I21+I24 -> 0 | J10: =+J12+J13+J21+J24 -> 0 | K10: =+K12+K13+K21+K24 -> 0 | M10: =+M12+M13+M21+M24 -> 0 | N10: =+N12+N13+N21+N24 -> 0 | O10: =+O12+O13+O21+O24 -> 0 | P10: =+P12+P13+P21+P24 -> 0 | R10: =+R12+R13+R21+R24 -> 0 | S10: =+S12+S13+S21+S24 -> 0 | T10: =+T12+T13+T21+T24 -> 0 | U10: =+U12+U13+U21+U24 -> 0
B11: Капиталови трансфери | D11: =+D25 -> 0 | E11: =+E25 -> 0 | F11: =+F25 -> 0 | G11: =+G25 -> 0 | H11: =+H25 -> 0 | I11: =+I25 -> 0 | J11: =+J25 -> 0 | K11: =+K25 -> 0 | M11: =+M25 -> 0 | N11: =+N25 -> 0 | O11: =+O25 -> 0 | P11: =+P25 -> 0 | R11: =+R25 -> 0 | S11: =+S25 -> 0 | T11: =+T25 -> 0 | U11: =+U25 -> 0
A12: 51-00 | B12: Основен ремонт на дълготрайни материални активи | D12: ='Свързани с администрат. дейност'!D12+'Преходни проекти'!D12+'Нови проекти'!D12 -> 0 | E12: ='Свързани с администрат. дейност'!E12+'Преходни проекти'!E12+'Нови проекти'!E12 -> 0 | F12: ='Свързани с администрат. дейност'!F12+'Преходни проекти'!F12+'Нови проекти'!F12 -> 0 | G12: ='Свързани с администрат. дейност'!G12+'Преходни проекти'!G12+'Нови проекти'!G12 -> 0 | H12: ='Свързани с администрат. дейност'!H12+'Преходни проекти'!H12+'Нови проекти'!H12 -> 0 | I12: ='Свързани с администрат. дейност'!I12+'Преходни проекти'!I12+'Нови проекти'!I12 -> 0 | J12: ='Свързани с администрат. дейност'!J12+'Преходни проекти'!J12+'Нови проекти'!J12 -> 0 | K12: ='Свързани с администрат. дейност'!K12+'Преходни проекти'!K12+'Нови проекти'!K12 -> 0 | M12: ='Свързани с администрат. дейност'!M12+'Преходни проекти'!M12+'Нови проекти'!M12 -> 0 | N12: ='Свързани с администрат. дейност'!N12+'Преходни проекти'!N12+'Нови проекти'!N12 -> 0 | O12: ='Свързани с администрат. дейност'!O12+'Преходни проекти'!O12+'Нови проекти'!O12 -> 0 | P12: ='Свързани с администрат. дейност'!P12+'Преходни проекти'!P12+'Нови проекти'!P12 -> 0 | R12: ='Свързани с администрат. дейност'!R12+'Преходни проекти'!R12+'Нови проекти'!R12 -> 0 | S12: ='Свързани с администрат. дейност'!S12+'Преходни проекти'!S12+'Нови проекти'!S12 -> 0 | T12: ='Свързани с администрат. дейност'!T12+'Преходни проекти'!T12+'Нови проекти'!T12 -> 0 | U12: ='Свързани с администрат. дейност'!U12+'Преходни проекти'!U12+'Нови проекти'!U12 -> 0
A13: 52-00 | B13: Придобиване на дълготрайни материални активи | D13: =+D14+D15+D16+D17+D18+D19+D20 -> 0 | E13: =+E14+E15+E16+E17+E18+E19+E20 -> 0 | F13: =+F14+F15+F16+F17+F18+F19+F20 -> 0 | G13: =+G14+G15+G16+G17+G18+G19+G20 -> 0 | H13: =+H14+H15+H16+H17+H18+H19+H20 -> 0 | I13: =+I14+I15+I16+I17+I18+I19+I20 -> 0 | J13: =+J14+J15+J16+J17+J18+J19+J20 -> 0 | K13: =+K14+K15+K16+K17+K18+K19+K20 -> 0 | M13: =+M14+M15+M16+M17+M18+M19+M20 -> 0 | N13: =+N14+N15+N16+N17+N18+N19+N20 -> 0 | O13: =+O14+O15+O16+O17+O18+O19+O20 -> 0 | P13: =+P14+P15+P16+P17+P18+P19+P20 -> 0 | R13: =+R14+R15+R16+R17+R18+R19+R20 -> 0 | S13: =+S14+S15+S16+S17+S18+S19+S20 -> 0 | T13: =+T14+T15+T16+T17+T18+T19+T20 -> 0 | U13: =+U14+U15+U16+U17+U18+U19+U20 -> 0
A14: 52-01 | B14: придобиване на компютри и хардуер | D14: ='Свързани с администрат. дейност'!D16+'Преходни проекти'!D16+'Нови проекти'!D16 -> 0 | E14: ='Свързани с администрат. дейност'!E16+'Преходни проекти'!E16+'Нови проекти'!E16 -> 0 | F14: ='Свързани с администрат. дейност'!F16+'Преходни проекти'!F16+'Нови проекти'!F16 -> 0 | G14: ='Свързани с администрат. дейност'!G16+'Преходни проекти'!G16+'Нови проекти'!G16 -> 0 | H14: ='Свързани с администрат. дейност'!H16+'Преходни проекти'!H16+'Нови проекти'!H16 -> 0 | I14: ='Свързани с администрат. дейност'!I16+'Преходни проекти'!I16+'Нови проекти'!I16 -> 0 | J14: ='Свързани с администрат. дейност'!J16+'Преходни проекти'!J16+'Нови проекти'!J16 -> 0 | K14: ='Свързани с администрат. дейност'!K16+'Преходни проекти'!K16+'Нови проекти'!K16 -> 0 | M14: ='Свързани с администрат. дейност'!M16+'Преходни проекти'!M16+'Нови проекти'!M16 -> 0 | N14: ='Свързани с администрат. дейност'!N16+'Преходни проекти'!N16+'Нови проекти'!N16 -> 0 | O14: ='Свързани с администрат. дейност'!O16+'Преходни проекти'!O16+'Нови проекти'!O16 -> 0 | P14: ='Свързани с администрат. дейност'!P16+'Преходни проекти'!P16+'Нови проекти'!P16 -> 0 | R14: ='Свързани с администрат. дейност'!R16+'Преходни проекти'!R16+'Нови проекти'!R16 -> 0 | S14: ='Свързани с администрат. дейност'!S16+'Преходни проекти'!S16+'Нови проекти'!S16 -> 0 | T14: ='Свързани с администрат. дейност'!T16+'Преходни проекти'!T16+'Нови проекти'!T16 -> 0 | U14: ='Свързани с администрат. дейност'!U16+'Преходни проекти'!U16+'Нови проекти'!U16 -> 0
A15: 52-02 | B15: придобиване на сгради | D15: ='Свързани с администрат. дейност'!D17+'Преходни проекти'!D17+'Нови проекти'!D17 -> 0 | E15: ='Свързани с администрат. дейност'!E17+'Преходни проекти'!E17+'Нови проекти'!E17 -> 0 | F15: ='Свързани с администрат. дейност'!F17+'Преходни проекти'!F17+'Нови проекти'!F17 -> 0 | G15: ='Свързани с администрат. дейност'!G17+'Преходни проекти'!G17+'Нови проекти'!G17 -> 0 | H15: ='Свързани с администрат. дейност'!H17+'Преходни проекти'!H17+'Нови проекти'!H17 -> 0 | I15: ='Свързани с администрат. дейност'!I17+'Преходни проекти'!I17+'Нови проекти'!I17 -> 0 | J15: ='Свързани с администрат. дейност'!J17+'Преходни проекти'!J17+'Нови проекти'!J17 -> 0 | K15: ='Свързани с администрат. дейност'!K17+'Преходни проекти'!K17+'Нови проекти'!K17 -> 0 | M15: ='Свързани с администрат. дейност'!M17+'Преходни проекти'!M17+'Нови проекти'!M17 -> 0 | N15: ='Свързани с администрат. дейност'!N17+'Преходни проекти'!N17+'Нови проекти'!N17 -> 0 | O15: ='Свързани с администрат. дейност'!O17+'Преходни проекти'!O17+'Нови проекти'!O17 -> 0 | P15: ='Свързани с администрат. дейност'!P17+'Преходни проекти'!P17+'Нови проекти'!P17 -> 0 | R15: ='Свързани с администрат. дейност'!R17+'Преходни проекти'!R17+'Нови проекти'!R17 -> 0 | S15: ='Свързани с администрат. дейност'!S17+'Преходни проекти'!S17+'Нови проекти'!S17 -> 0 | T15: ='Свързани с администрат. дейност'!T17+'Преходни проекти'!T17+'Нови проекти'!T17 -> 0 | U15: ='Свързани с администрат. дейност'!U17+'Преходни проекти'!U17+'Нови проекти'!U17 -> 0
A16: 52-03 | B16: придобиване на друго оборудване, машини и съоръжения | D16: ='Свързани с администрат. дейност'!D19+'Преходни проекти'!D19+'Нови проекти'!D19 -> 0 | E16: ='Свързани с администрат. дейност'!E19+'Преходни проекти'!E19+'Нови проекти'!E19 -> 0 | F16: ='Свързани с администрат. дейност'!F19+'Преходни проекти'!F19+'Нови проекти'!F19 -> 0 | G16: ='Свързани с администрат. дейност'!G19+'Преходни проекти'!G19+'Нови проекти'!G19 -> 0 | H16: ='Свързани с администрат. дейност'!H19+'Преходни проекти'!H19+'Нови проекти'!H19 -> 0 | I16: ='Свързани с администрат. дейност'!I19+'Преходни проекти'!I19+'Нови проекти'!I19 -> 0 | J16: ='Свързани с администрат. дейност'!J19+'Преходни проекти'!J19+'Нови проекти'!J19 -> 0 | K16: ='Свързани с администрат. дейност'!K19+'Преходни проекти'!K19+'Нови проекти'!K19 -> 0 | M16: ='Свързани с администрат. дейност'!M19+'Преходни проекти'!M19+'Нови проекти'!M19 -> 0 | N16: ='Свързани с администрат. дейност'!N19+'Преходни проекти'!N19+'Нови проекти'!N19 -> 0 | O16: ='Свързани с администрат. дейност'!O19+'Преходни проекти'!O19+'Нови проекти'!O19 -> 0 | P16: ='Свързани с администрат. дейност'!P19+'Преходни проекти'!P19+'Нови проекти'!P19 -> 0 | R16: ='Свързани с администрат. дейност'!R19+'Преходни проекти'!R19+'Нови проекти'!R19 -> 0 | S16: ='Свързани с администрат. дейност'!S19+'Преходни проекти'!S19+'Нови проекти'!S19 -> 0 | T16: ='Свързани с администрат. дейност'!T19+'Преходни проекти'!T19+'Нови проекти'!T19 -> 0 | U16: ='Свързани с администрат. дейност'!U19+'Преходни проекти'!U19+'Нови проекти'!U19 -> 0
A17: 52-04 | B17: придобиване на транспортни средства | D17: ='Свързани с администрат. дейност'!D21+'Преходни проекти'!D21+'Нови проекти'!D21 -> 0 | E17: ='Свързани с администрат. дейност'!E21+'Преходни проекти'!E21+'Нови проекти'!E21 -> 0 | F17: ='Свързани с администрат. дейност'!F21+'Преходни проекти'!F21+'Нови проекти'!F21 -> 0 | G17: ='Свързани с администрат. дейност'!G21+'Преходни проекти'!G21+'Нови проекти'!G21 -> 0 | H17: ='Свързани с администрат. дейност'!H21+'Преходни проекти'!H21+'Нови проекти'!H21 -> 0 | I17: ='Свързани с администрат. дейност'!I21+'Преходни проекти'!I21+'Нови проекти'!I21 -> 0 | J17: ='Свързани с администрат. дейност'!J21+'Преходни проекти'!J21+'Нови проекти'!J21 -> 0 | K17: ='Свързани с администрат. дейност'!K21+'Преходни проекти'!K21+'Нови проекти'!K21 -> 0 | M17: ='Свързани с администрат. дейност'!M21+'Преходни проекти'!M21+'Нови проекти'!M21 -> 0 | N17: ='Свързани с администрат. дейност'!N21+'Преходни проекти'!N21+'Нови проекти'!N21 -> 0 | O17: ='Свързани с администрат. дейност'!O21+'Преходни проекти'!O21+'Нови проекти'!O21 -> 0 | P17: ='Свързани с администрат. дейност'!P21+'Преходни проекти'!P21+'Нови проекти'!P21 -> 0 | R17: ='Свързани с администрат. дейност'!R21+'Преходни проекти'!R21+'Нови проекти'!R21 -> 0 | S17: ='Свързани с администрат. дейност'!S21+'Преходни проекти'!S21+'Нови проекти'!S21 -> 0 | T17: ='Свързани с администрат. дейност'!T21+'Преходни проекти'!T21+'Нови проекти'!T21 -> 0 | U17: ='Свързани с администрат. дейност'!U21+'Преходни проекти'!U21+'Нови проекти'!U21 -> 0
A18: 52-05 | B18: придобиване на стопански инвентар | D18: ='Свързани с администрат. дейност'!D22+'Преходни проекти'!D22+'Нови проекти'!D22 -> 0 | E18: ='Свързани с администрат. дейност'!E22+'Преходни проекти'!E22+'Нови проекти'!E22 -> 0 | F18: ='Свързани с администрат. дейност'!F22+'Преходни проекти'!F22+'Нови проекти'!F22 -> 0 | G18: ='Свързани с администрат. дейност'!G22+'Преходни проекти'!G22+'Нови проекти'!G22 -> 0 | H18: ='Свързани с администрат. дейност'!H22+'Преходни проекти'!H22+'Нови проекти'!H22 -> 0 | I18: ='Свързани с администрат. дейност'!I22+'Преходни проекти'!I22+'Нови проекти'!I22 -> 0 | J18: ='Свързани с администрат. дейност'!J22+'Преходни проекти'!J22+'Нови проекти'!J22 -> 0 | K18: ='Свързани с администрат. дейност'!K22+'Преходни проекти'!K22+'Нови проекти'!K22 -> 0 | M18: ='Свързани с администрат. дейност'!M22+'Преходни проекти'!M22+'Нови проекти'!M22 -> 0 | N18: ='Свързани с администрат. дейност'!N22+'Преходни проекти'!N22+'Нови проекти'!N22 -> 0 | O18: ='Свързани с администрат. дейност'!O22+'Преходни проекти'!O22+'Нови проекти'!O22 -> 0 | P18: ='Свързани с администрат. дейност'!P22+'Преходни проекти'!P22+'Нови проекти'!P22 -> 0 | R18: ='Свързани с администрат. дейност'!R22+'Преходни проекти'!R22+'Нови проекти'!R22 -> 0 | S18: ='Свързани с администрат. дейност'!S22+'Преходни проекти'!S22+'Нови проекти'!S22 -> 0 | T18: ='Свързани с администрат. дейност'!T22+'Преходни проекти'!T22+'Нови проекти'!T22 -> 0 | U18: ='Свързани с администрат. дейност'!U22+'Преходни проекти'!U22+'Нови проекти'!U22 -> 0
A19: 52-06 | B19: изграждане на инфраструктурни обекти | D19: ='Свързани с администрат. дейност'!D23+'Преходни проекти'!D23+'Нови проекти'!D23 -> 0 | E19: ='Свързани с администрат. дейност'!E23+'Преходни проекти'!E23+'Нови проекти'!E23 -> 0 | F19: ='Свързани с администрат. дейност'!F23+'Преходни проекти'!F23+'Нови проекти'!F23 -> 0 | G19: ='Свързани с администрат. дейност'!G23+'Преходни проекти'!G23+'Нови проекти'!G23 -> 0 | H19: ='Свързани с администрат. дейност'!H23+'Преходни проекти'!H23+'Нови проекти'!H23 -> 0 | I19: ='Свързани с администрат. дейност'!I23+'Преходни проекти'!I23+'Нови проекти'!I23 -> 0 | J19: ='Свързани с администрат. дейност'!J23+'Преходни проекти'!J23+'Нови проекти'!J23 -> 0 | K19: ='Свързани с администрат. дейност'!K23+'Преходни проекти'!K23+'Нови проекти'!K23 -> 0 | M19: ='Свързани с администрат. дейност'!M23+'Преходни проекти'!M23+'Нови проекти'!M23 -> 0 | N19: ='Свързани с администрат. дейност'!N23+'Преходни проекти'!N23+'Нови проекти'!N23 -> 0 | O19: ='Свързани с администрат. дейност'!O23+'Преходни проекти'!O23+'Нови проекти'!O23 -> 0 | P19: ='Свързани с администрат. дейност'!P23+'Преходни проекти'!P23+'Нови проекти'!P23 -> 0 | R19: ='Свързани с администрат. дейност'!R23+'Преходни проекти'!R23+'Нови проекти'!R23 -> 0 | S19: ='Свързани с администрат. дейност'!S23+'Преходни проекти'!S23+'Нови проекти'!S23 -> 0 | T19: ='Свързани с администрат. дейност'!T23+'Преходни проекти'!T23+'Нови проекти'!T23 -> 0 | U19: ='Свързани с администрат. дейност'!U23+'Преходни проекти'!U23+'Нови проекти'!U23 -> 0
A20: 52-19 | B20: придобиване на други ДМА | D20: ='Свързани с администрат. дейност'!D25+'Преходни проекти'!D25+'Нови проекти'!D25 -> 0 | E20: ='Свързани с администрат. дейност'!E25+'Преходни проекти'!E25+'Нови проекти'!E25 -> 0 | F20: ='Свързани с администрат. дейност'!F25+'Преходни проекти'!F25+'Нови проекти'!F25 -> 0 | G20: ='Свързани с администрат. дейност'!G25+'Преходни проекти'!G25+'Нови проекти'!G25 -> 0 | H20: ='Свързани с администрат. дейност'!H25+'Преходни проекти'!H25+'Нови проекти'!H25 -> 0 | I20: ='Свързани с администрат. дейност'!I25+'Преходни проекти'!I25+'Нови проекти'!I25 -> 0 | J20: ='Свързани с администрат. дейност'!J25+'Преходни проекти'!J25+'Нови проекти'!J25 -> 0 | K20: ='Свързани с администрат. дейност'!K25+'Преходни проекти'!K25+'Нови проекти'!K25 -> 0 | M20: ='Свързани с администрат. дейност'!M25+'Преходни проекти'!M25+'Нови проекти'!M25 -> 0 | N20: ='Свързани с администрат. дейност'!N25+'Преходни проекти'!N25+'Нови проекти'!N25 -> 0 | O20: ='Свързани с администрат. дейност'!O25+'Преходни проекти'!O25+'Нови проекти'!O25 -> 0 | P20: ='Свързани с администрат. дейност'!P25+'Преходни проекти'!P25+'Нови проекти'!P25 -> 0 | R20: ='Свързани с администрат. дейност'!R25+'Преходни проекти'!R25+'Нови проекти'!R25 -> 0 | S20: ='Свързани с администрат. дейност'!S25+'Преходни проекти'!S25+'Нови проекти'!S25 -> 0 | T20: ='Свързани с администрат. дейност'!T25+'Преходни проекти'!T25+'Нови проекти'!T25 -> 0 | U20: ='Свързани с администрат. дейност'!U25+'Преходни проекти'!U25+'Нови проекти'!U25 -> 0
A21: 53-00 | B21: Придобиване на нематериални дълготрайни активи | D21: =+D22+D23 -> 0 | E21: =+E22+E23 -> 0 | F21: =+F22+F23 -> 0 | G21: =+G22+G23 -> 0 | H21: =+H22+H23 -> 0 | I21: =+I22+I23 -> 0 | J21: =+J22+J23 -> 0 | K21: =+K22+K23 -> 0 | M21: =+M22+M23 -> 0 | N21: =+N22+N23 -> 0 | O21: =+O22+O23 -> 0 | P21: =+P22+P23 -> 0 | R21: =+R22+R23 -> 0 | S21: =+S22+S23 -> 0 | T21: =+T22+T23 -> 0 | U21: =+U22+U23 -> 0
A22: 53-01 | B22: придобиване на програмни продукти и лицензи за програмни продукти | D22: ='Свързани с администрат. дейност'!D27+'Преходни проекти'!D27+'Нови проекти'!D27 -> 0 | E22: ='Свързани с администрат. дейност'!E27+'Преходни проекти'!E27+'Нови проекти'!E27 -> 0 | F22: ='Свързани с администрат. дейност'!F27+'Преходни проекти'!F27+'Нови проекти'!F27 -> 0 | G22: ='Свързани с администрат. дейност'!G27+'Преходни проекти'!G27+'Нови проекти'!G27 -> 0 | H22: ='Свързани с администрат. дейност'!H27+'Преходни проекти'!H27+'Нови проекти'!H27 -> 0 | I22: ='Свързани с администрат. дейност'!I27+'Преходни проекти'!I27+'Нови проекти'!I27 -> 0 | J22: ='Свързани с администрат. дейност'!J27+'Преходни проекти'!J27+'Нови проекти'!J27 -> 0 | K22: ='Свързани с администрат. дейност'!K27+'Преходни проекти'!K27+'Нови проекти'!K27 -> 0 | M22: ='Свързани с администрат. дейност'!M27+'Преходни проекти'!M27+'Нови проекти'!M27 -> 0 | N22: ='Свързани с администрат. дейност'!N27+'Преходни проекти'!N27+'Нови проекти'!N27 -> 0 | O22: ='Свързани с администрат. дейност'!O27+'Преходни проекти'!O27+'Нови проекти'!O27 -> 0 | P22: ='Свързани с администрат. дейност'!P27+'Преходни проекти'!P27+'Нови проекти'!P27 -> 0 | R22: ='Свързани с администрат. дейност'!R27+'Преходни проекти'!R27+'Нови проекти'!R27 -> 0 | S22: ='Свързани с администрат. дейност'!S27+'Преходни проекти'!S27+'Нови проекти'!S27 -> 0 | T22: ='Свързани с администрат. дейност'!T27+'Преходни проекти'!T27+'Нови проекти'!T27 -> 0 | U22: ='Свързани с администрат. дейност'!U27+'Преходни проекти'!U27+'Нови проекти'!U27 -> 0
A23: 53-09 | B23: придобиване на други нематериални дълготрайни активи | D23: ='Свързани с администрат. дейност'!D29+'Преходни проекти'!D29+'Нови проекти'!D29 -> 0 | E23: ='Свързани с администрат. дейност'!E29+'Преходни проекти'!E29+'Нови проекти'!E29 -> 0 | F23: ='Свързани с администрат. дейност'!F29+'Преходни проекти'!F29+'Нови проекти'!F29 -> 0 | G23: ='Свързани с администрат. дейност'!G29+'Преходни проекти'!G29+'Нови проекти'!G29 -> 0 | H23: ='Свързани с администрат. дейност'!H29+'Преходни проекти'!H29+'Нови проекти'!H29 -> 0 | I23: ='Свързани с администрат. дейност'!I29+'Преходни проекти'!I29+'Нови проекти'!I29 -> 0 | J23: ='Свързани с администрат. дейност'!J29+'Преходни проекти'!J29+'Нови проекти'!J29 -> 0 | K23: ='Свързани с администрат. дейност'!K29+'Преходни проекти'!K29+'Нови проекти'!K29 -> 0 | M23: ='Свързани с администрат. дейност'!M29+'Преходни проекти'!M29+'Нови проекти'!M29 -> 0 | N23: ='Свързани с администрат. дейност'!N29+'Преходни проекти'!N29+'Нови проекти'!N29 -> 0 | O23: ='Свързани с администрат. дейност'!O29+'Преходни проекти'!O29+'Нови проекти'!O29 -> 0 | P23: ='Свързани с администрат. дейност'!P29+'Преходни проекти'!P29+'Нови проекти'!P29 -> 0 | R23: ='Свързани с администрат. дейност'!R29+'Преходни проекти'!R29+'Нови проекти'!R29 -> 0 | S23: ='Свързани с администрат. дейност'!S29+'Преходни проекти'!S29+'Нови проекти'!S29 -> 0 | T23: ='Свързани с администрат. дейност'!T29+'Преходни проекти'!T29+'Нови проекти'!T29 -> 0 | U23: ='Свързани с администрат. дейност'!U29+'Преходни проекти'!U29+'Нови проекти'!U29 -> 0
A24: 54-00 | B24: Придобиване на земя | D24: ='Свързани с администрат. дейност'!D31+'Преходни проекти'!D31+'Нови проекти'!D31 -> 0 | E24: ='Свързани с администрат. дейност'!E31+'Преходни проекти'!E31+'Нови проекти'!E31 -> 0 | F24: ='Свързани с администрат. дейност'!F31+'Преходни проекти'!F31+'Нови проекти'!F31 -> 0 | G24: ='Свързани с администрат. дейност'!G31+'Преходни проекти'!G31+'Нови проекти'!G31 -> 0 | H24: ='Свързани с администрат. дейност'!H31+'Преходни проекти'!H31+'Нови проекти'!H31 -> 0 | I24: ='Свързани с администрат. дейност'!I31+'Преходни проекти'!I31+'Нови проекти'!I31 -> 0 | J24: ='Свързани с администрат. дейност'!J31+'Преходни проекти'!J31+'Нови проекти'!J31 -> 0 | K24: ='Свързани с администрат. дейност'!K31+'Преходни проекти'!K31+'Нови проекти'!K31 -> 0 | M24: ='Свързани с администрат. дейност'!M31+'Преходни проекти'!M31+'Нови проекти'!M31 -> 0 | N24: ='Свързани с администрат. дейност'!N31+'Преходни проекти'!N31+'Нови проекти'!N31 -> 0 | O24: ='Свързани с администрат. дейност'!O31+'Преходни проекти'!O31+'Нови проекти'!O31 -> 0 | P24: ='Свързани с администрат. дейност'!P31+'Преходни проекти'!P31+'Нови проекти'!P31 -> 0 | R24: ='Свързани с администрат. дейност'!R31+'Преходни проекти'!R31+'Нови проекти'!R31 -> 0 | S24: ='Свързани с администрат. дейност'!S31+'Преходни проекти'!S31+'Нови проекти'!S31 -> 0 | T24: ='Свързани с администрат. дейност'!T31+'Преходни проекти'!T31+'Нови проекти'!T31 -> 0 | U24: ='Свързани с администрат. дейност'!U31+'Преходни проекти'!U31+'Нови проекти'!U31 -> 0
A25: 55-00 | B25: Капиталови трансфери | D25: =+D26+D27+D28+D29 -> 0 | E25: =+E26+E27+E28+E29 -> 0 | F25: =+F26+F27+F28+F29 -> 0 | G25: =+G26+G27+G28+G29 -> 0 | H25: =+H26+H27+H28+H29 -> 0 | I25: =+I26+I27+I28+I29 -> 0 | J25: =+J26+J27+J28+J29 -> 0 | K25: =+K26+K27+K28+K29 -> 0 | M25: =+M26+M27+M28+M29 -> 0 | N25: =+N26+N27+N28+N29 -> 0 | O25: =+O26+O27+O28+O29 -> 0 | P25: =+P26+P27+P28+P29 -> 0 | R25: =+R26+R27+R28+R29 -> 0 | S25: =+S26+S27+S28+S29 -> 0 | T25: =+T26+T27+T28+T29 -> 0 | U25: =+U26+U27+U28+U29 -> 0
A26: 55-01 | B26: капиталови трансфери за нефинансови предприятия | D26: ='Свързани с администрат. дейност'!D34+'Преходни проекти'!D34+'Нови проекти'!D34 -> 0 | E26: ='Свързани с администрат. дейност'!E34+'Преходни проекти'!E34+'Нови проекти'!E34 -> 0 | F26: ='Свързани с администрат. дейност'!F34+'Преходни проекти'!F34+'Нови проекти'!F34 -> 0 | G26: ='Свързани с администрат. дейност'!G34+'Преходни проекти'!G34+'Нови проекти'!G34 -> 0 | H26: ='Свързани с администрат. дейност'!H34+'Преходни проекти'!H34+'Нови проекти'!H34 -> 0 | I26: ='Свързани с администрат. дейност'!I34+'Преходни проекти'!I34+'Нови проекти'!I34 -> 0 | J26: ='Свързани с администрат. дейност'!J34+'Преходни проекти'!J34+'Нови проекти'!J34 -> 0 | K26: ='Свързани с администрат. дейност'!K34+'Преходни проекти'!K34+'Нови проекти'!K34 -> 0 | M26: ='Свързани с администрат. дейност'!M34+'Преходни проекти'!M34+'Нови проекти'!M34 -> 0 | N26: ='Свързани с администрат. дейност'!N34+'Преходни проекти'!N34+'Нови проекти'!N34 -> 0 | O26: ='Свързани с администрат. дейност'!O34+'Преходни проекти'!O34+'Нови проекти'!O34 -> 0 | P26: ='Свързани с администрат. дейност'!P34+'Преходни проекти'!P34+'Нови проекти'!P34 -> 0 | R26: ='Свързани с администрат. дейност'!R34+'Преходни проекти'!R34+'Нови проекти'!R34 -> 0 | S26: ='Свързани с администрат. дейност'!S34+'Преходни проекти'!S34+'Нови проекти'!S34 -> 0 | T26: ='Свързани с администрат. дейност'!T34+'Преходни проекти'!T34+'Нови проекти'!T34 -> 0 | U26: ='Свързани с администрат. дейност'!U34+'Преходни проекти'!U34+'Нови проекти'!U34 -> 0
A27: 55-02 | B27: капиталови трансфери за финансови институции | D27: ='Свързани с администрат. дейност'!D36+'Преходни проекти'!D36+'Нови проекти'!D36 -> 0 | E27: ='Свързани с администрат. дейност'!E36+'Преходни проекти'!E36+'Нови проекти'!E36 -> 0 | F27: ='Свързани с администрат. дейност'!F36+'Преходни проекти'!F36+'Нови проекти'!F36 -> 0 | G27: ='Свързани с администрат. дейност'!G36+'Преходни проекти'!G36+'Нови проекти'!G36 -> 0 | H27: ='Свързани с администрат. дейност'!H36+'Преходни проекти'!H36+'Нови проекти'!H36 -> 0 | I27: ='Свързани с администрат. дейност'!I36+'Преходни проекти'!I36+'Нови проекти'!I36 -> 0 | J27: ='Свързани с администрат. дейност'!J36+'Преходни проекти'!J36+'Нови проекти'!J36 -> 0 | K27: ='Свързани с администрат. дейност'!K36+'Преходни проекти'!K36+'Нови проекти'!K36 -> 0 | M27: ='Свързани с администрат. дейност'!M36+'Преходни проекти'!M36+'Нови проекти'!M36 -> 0 | N27: ='Свързани с администрат. дейност'!N36+'Преходни проекти'!N36+'Нови проекти'!N36 -> 0 | O27: ='Свързани с администрат. дейност'!O36+'Преходни проекти'!O36+'Нови проекти'!O36 -> 0 | P27: ='Свързани с администрат. дейност'!P36+'Преходни проекти'!P36+'Нови проекти'!P36 -> 0 | R27: ='Свързани с администрат. дейност'!R36+'Преходни проекти'!R36+'Нови проекти'!R36 -> 0 | S27: ='Свързани с администрат. дейност'!S36+'Преходни проекти'!S36+'Нови проекти'!S36 -> 0 | T27: ='Свързани с администрат. дейност'!T36+'Преходни проекти'!T36+'Нови проекти'!T36 -> 0 | U27: ='Свързани с администрат. дейност'!U36+'Преходни проекти'!U36+'Нови проекти'!U36 -> 0
A28: 55-03 | B28: капиталови трансфери за организации с нестопанска цел | D28: ='Свързани с администрат. дейност'!D38+'Преходни проекти'!D38+'Нови проекти'!D38 -> 0 | E28: ='Свързани с администрат. дейност'!E38+'Преходни проекти'!E38+'Нови проекти'!E38 -> 0 | F28: ='Свързани с администрат. дейност'!F38+'Преходни проекти'!F38+'Нови проекти'!F38 -> 0 | G28: ='Свързани с администрат. дейност'!G38+'Преходни проекти'!G38+'Нови проекти'!G38 -> 0 | H28: ='Свързани с администрат. дейност'!H38+'Преходни проекти'!H38+'Нови проекти'!H38 -> 0 | I28: ='Свързани с администрат. дейност'!I38+'Преходни проекти'!I38+'Нови проекти'!I38 -> 0 | J28: ='Свързани с администрат. дейност'!J38+'Преходни проекти'!J38+'Нови проекти'!J38 -> 0 | K28: ='Свързани с администрат. дейност'!K38+'Преходни проекти'!K38+'Нови проекти'!K38 -> 0 | M28: ='Свързани с администрат. дейност'!M38+'Преходни проекти'!M38+'Нови проекти'!M38 -> 0 | N28: ='Свързани с администрат. дейност'!N38+'Преходни проекти'!N38+'Нови проекти'!N38 -> 0 | O28: ='Свързани с администрат. дейност'!O38+'Преходни проекти'!O38+'Нови проекти'!O38 -> 0 | P28: ='Свързани с администрат. дейност'!P38+'Преходни проекти'!P38+'Нови проекти'!P38 -> 0 | R28: ='Свързани с администрат. дейност'!R38+'Преходни проекти'!R38+'Нови проекти'!R38 -> 0 | S28: ='Свързани с администрат. дейност'!S38+'Преходни проекти'!S38+'Нови проекти'!S38 -> 0 | T28: ='Свързани с администрат. дейност'!T38+'Преходни проекти'!T38+'Нови проекти'!T38 -> 0 | U28: ='Свързани с администрат. дейност'!U38+'Преходни проекти'!U38+'Нови проекти'!U38 -> 0
A29: 55-04 | B29: капиталови трансфери за домакинствата | D29: ='Свързани с администрат. дейност'!D40+'Преходни проекти'!D40+'Нови проекти'!D40 -> 0 | E29: ='Свързани с администрат. дейност'!E40+'Преходни проекти'!E40+'Нови проекти'!E40 -> 0 | F29: ='Свързани с администрат. дейност'!F40+'Преходни проекти'!F40+'Нови проекти'!F40 -> 0 | G29: ='Свързани с администрат. дейност'!G40+'Преходни проекти'!G40+'Нови проекти'!G40 -> 0 | H29: ='Свързани с администрат. дейност'!H40+'Преходни проекти'!H40+'Нови проекти'!H40 -> 0 | I29: ='Свързани с администрат. дейност'!I40+'Преходни проекти'!I40+'Нови проекти'!I40 -> 0 | J29: ='Свързани с администрат. дейност'!J40+'Преходни проекти'!J40+'Нови проекти'!J40 -> 0 | K29: ='Свързани с администрат. дейност'!K40+'Преходни проекти'!K40+'Нови проекти'!K40 -> 0 | M29: ='Свързани с администрат. дейност'!M40+'Преходни проекти'!M40+'Нови проекти'!M40 -> 0 | N29: ='Свързани с администрат. дейност'!N40+'Преходни проекти'!N40+'Нови проекти'!N40 -> 0 | O29: ='Свързани с администрат. дейност'!O40+'Преходни проекти'!O40+'Нови проекти'!O40 -> 0 | P29: ='Свързани с администрат. дейност'!P40+'Преходни проекти'!P40+'Нови проекти'!P40 -> 0 | R29: ='Свързани с администрат. дейност'!R40+'Преходни проекти'!R40+'Нови проекти'!R40 -> 0 | S29: ='Свързани с администрат. дейност'!S40+'Преходни проекти'!S40+'Нови проекти'!S40 -> 0 | T29: ='Свързани с администрат. дейност'!T40+'Преходни проекти'!T40+'Нови проекти'!T40 -> 0 | U29: ='Свързани с администрат. дейност'!U40+'Преходни проекти'!U40+'Нови проекти'!U40 -> 0

Sheet Свързани с администрат. дейност
A1: Приложение № 3б - Капиталови разходи, свързани с административната дейност
B2: =ОБЩО!B2 -> на ……………………………………………………………
B3: (наименование на бюджетната организация)
U4: (в лева)
H5: 2025 година | M5: 2026 година | R5: 2027 година
A6: § | B6: Наименование и местонахождение на обектите | C6: Година начало - година край | D6: Сметна стойност | E6: Усвоено към 31.12.2023 | F6: Отчет 2023 | G6: Очаквано изпълнение 2024 | H6: Прогнозен план за 2025 | I6: Бюджет | J6: Средства от ЕС | K6: Други | L6: Приоритет от 1 (най-висок) до 3 (най-нисък) | M6: Прогнозен план за 2026 | N6: Бюджет | O6: Средства от ЕС | P6: Други | Q6: Приоритет от 1 (най-висок) до 3 (най-нисък) | R6: Прогнозен план за 2027 | S6: Бюджет | T6: Средства от ЕС | U6: Други | V6: Приоритет от 1 (най-висок) до 3 (най-нисък)
H7: к.9+к.10+к.11 | M7: к.14+к.15+к.16 | R7: к.19+к.20+к.21
A8: 1 | B8: =A8+1 -> 2 | C8: =B8+1 -> 3 | D8: =C8+1 -> 4 | E8: =D8+1 -> 5 | F8: =E8+1 -> 6 | G8: =F8+1 -> 7 | H8: =G8+1 -> 8 | I8: =H8+1 -> 9 | ... V8: =U8+1 -> 22
B9: Общо (от§ 51-00 до § 55-00): | D9: =+D10+D11 -> 0 | E9: =+E10+E11 -> 0 | F9: =+F10+F11 -> 0 | G9: =+G10+G11 -> 0 | H9: =+H10+H11 -> 0 | I9: =+I10+I11 -> 0 | J9: =+J10+J11 -> 0 | K9: =+K10+K11 -> 0 | M9: =+M10+M11 -> 0 | N9: =+N10+N11 -> 0 | O9: =+O10+O11 -> 0 | P9: =+P10+P11 -> 0 | R9: =+R10+R11 -> 0 | S9: =+S10+S11 -> 0 | T9: =+T10+T11 -> 0 | U9: =+U10+U11 -> 0
B10: Придобиване на дълготрайни активи и основен ремонт | D10: =+D12+D15+D26+D31 -> 0 | E10: =+E12+E15+E26+E31 -> 0 | F10: =+F12+F15+F26+F31 -> 0 | G10: =+G12+G15+G26+G31 -> 0 | H10: =+H12+H15+H26+H31 -> 0 | I10: =+I12+I15+I26+I31 -> 0 | J10: =+J12+J15+J26+J31 -> 0 | K10: =+K12+K15+K26+K31 -> 0 | M10: =+M12+M15+M26+M31 -> 0 | N10: =+N12+N15+N26+N31 -> 0 | O10: =+O12+O15+O26+O31 -> 0 | P10: =+P12+P15+P26+P31 -> 0 | R10: =+R12+R15+R26+R31 -> 0 | S10: =+S12+S15+S26+S31 -> 0 | T10: =+T12+T15+T26+T31 -> 0 | U10: =+U12+U15+U26+U31 -> 0
B11: Капиталови трансфери | D11: =+D33 -> 0 | E11: =+E33 -> 0 | F11: =+F33 -> 0 | G11: =+G33 -> 0 | H11: =+H33 -> 0 | I11: =+I33 -> 0 | J11: =+J33 -> 0 | K11: =+K33 -> 0 | M11: =+M33 -> 0 | N11: =+N33 -> 0 | O11: =+O33 -> 0 | P11: =+P33 -> 0 | R11: =+R33 -> 0 | S11: =+S33 -> 0 | T11: =+T33 -> 0 | U11: =+U33 -> 0
A12: 51-00 | B12: Основен ремонт на дълготрайни материални активи | D12: =SUM(D13:D14) -> 0 | E12: =SUM(E13:E14) -> 0 | F12: =SUM(F13:F14) -> 0 | G12: =SUM(G13:G14) -> 0 | H12: =SUM(H13:H14) -> 0 | I12: =SUM(I13:I14) -> 0 | J12: =SUM(J13:J14) -> 0 | K12: =SUM(K13:K14) -> 0 | M12: =SUM(M13:M14) -> 0 | N12: =SUM(N13:N14) -> 0 | O12: =SUM(O13:O14) -> 0 | P12: =SUM(P13:P14) -> 0 | R12: =SUM(R13:R14) -> 0 | S12: =SUM(S13:S14) -> 0 | T12: =SUM(T13:T14) -> 0 | U12: =SUM(U13:U14) -> 0
B13: Обекти/ППР: ........................... | H13: =I13+J13+K13 -> 0 | M13: =N13+O13+P13 -> 0 | R13: =S13+T13+U13 -> 0
B14: Обекти: ........................... | H14: =I14+J14+K14 -> 0 | M14: =N14+O14+P14 -> 0 | R14: =S14+T14+U14 -> 0
A15: 52-00 | B15: Придобиване на дълготрайни материални активи | D15: =+D16+D17+D19+D21+D22+D23+D25 -> 0 | E15: =+E16+E17+E19+E21+E22+E23+E25 -> 0 | F15: =+F16+F17+F19+F21+F22+F23+F25 -> 0 | G15: =+G16+G17+G19+G21+G22+G23+G25 -> 0 | H15: =+H16+H17+H19+H21+H22+H23+H25 -> 0 | I15: =+I16+I17+I19+I21+I22+I23+I25 -> 0 | J15: =+J16+J17+J19+J21+J22+J23+J25 -> 0 | K15: =+K16+K17+K19+K21+K22+K23+K25 -> 0 | M15: =+M16+M17+M19+M21+M22+M23+M25 -> 0 | N15: =+N16+N17+N19+N21+N22+N23+N25 -> 0 | O15: =+O16+O17+O19+O21+O22+O23+O25 -> 0 | P15: =+P16+P17+P19+P21+P22+P23+P25 -> 0 | R15: =+R16+R17+R19+R21+R22+R23+R25 -> 0 | S15: =+S16+S17+S19+S21+S22+S23+S25 -> 0 | T15: =+T16+T17+T19+T21+T22+T23+T25 -> 0 | U15: =+U16+U17+U19+U21+U22+U23+U25 -> 0
A16: 52-01 | B16: придобиване на компютри и хардуер | H16: =I16+J16+K16 -> 0 | M16: =N16+O16+P16 -> 0 | R16: =S16+T16+U16 -> 0
A17: 52-02 | B17: придобиване на сгради | D17: =+D18 -> 0 | E17: =+E18 -> 0 | F17: =+F18 -> 0 | G17: =+G18 -> 0 | H17: =+H18 -> 0 | I17: =+I18 -> 0 | J17: =+J18 -> 0 | K17: =+K18 -> 0 | M17: =+M18 -> 0 | N17: =+N18 -> 0 | O17: =+O18 -> 0 | P17: =+P18 -> 0 | R17: =+R18 -> 0 | S17: =+S18 -> 0 | T17: =+T18 -> 0 | U17: =+U18 -> 0
B18: Обекти/ППР: ........................... | H18: =I18+J18+K18 -> 0 | M18: =N18+O18+P18 -> 0 | R18: =S18+T18+U18 -> 0
A19: 52-03 | B19: придобиване на друго оборудване, машини и съоръжения | D19: =+D20 -> 0 | E19: =+E20 -> 0 | F19: =+F20 -> 0 | G19: =+G20 -> 0 | H19: =+H20 -> 0 | I19: =+I20 -> 0 | J19: =+J20 -> 0 | K19: =+K20 -> 0 | M19: =+M20 -> 0 | N19: =+N20 -> 0 | O19: =+O20 -> 0 | P19: =+P20 -> 0 | R19: =+R20 -> 0 | S19: =+S20 -> 0 | T19: =+T20 -> 0 | U19: =+U20 -> 0
B20: Обекти/ППР: ........................... | H20: =I20+J20+K20 -> 0 | M20: =N20+O20+P20 -> 0 | R20: =S20+T20+U20 -> 0
A21: 52-04 | B21: придобиване на транспортни средства | H21: =I21+J21+K21 -> 0 | M21: =N21+O21+P21 -> 0 | R21: =S21+T21+U21 -> 0
A22: 52-05 | B22: придобиване на стопански инвентар | H22: =I22+J22+K22 -> 0 | M22: =N22+O22+P22 -> 0 | R22: =S22+T22+U22 -> 0
A23: 52-06 | B23: изграждане на инфраструктурни обекти | D23: =+D24 -> 0 | E23: =+E24 -> 0 | F23: =+F24 -> 0 | G23: =+G24 -> 0 | H23: =+H24 -> 0 | I23: =+I24 -> 0 | J23: =+J24 -> 0 | K23: =+K24 -> 0 | M23: =+M24 -> 0 | N23: =+N24 -> 0 | O23: =+O24 -> 0 | P23: =+P24 -> 0 | R23: =+R24 -> 0 | S23: =+S24 -> 0 | T23: =+T24 -> 0 | U23: =+U24 -> 0
B24: Обекти/ППР: ........................... | H24: =I24+J24+K24 -> 0 | M24: =N24+O24+P24 -> 0 | R24: =S24+T24+U24 -> 0
A25: 52-19 | B25: придобиване на други ДМА | H25: =I25+J25+K25 -> 0 | M25: =N25+O25+P25 -> 0 | R25: =S25+T25+U25 -> 0
A26: 53-00 | B26: Придобиване на нематериални дълготрайни активи | D26: =+D27+D29 -> 0 | E26: =+E27+E29 -> 0 | F26: =+F27+F29 -> 0 | G26: =+G27+G29 -> 0 | H26: =+H27+H29 -> 0 | I26: =+I27+I29 -> 0 | J26: =+J27+J29 -> 0 | K26: =+K27+K29 -> 0 | M26: =+M27+M29 -> 0 | N26: =+N27+N29 -> 0 | O26: =+O27+O29 -> 0 | P26: =+P27+P29 -> 0 | R26: =+R27+R29 -> 0 | S26: =+S27+S29 -> 0 | T26: =+T27+T29 -> 0 | U26: =+U27+U29 -> 0
A27: 53-01 | B27: придобиване на програмни продукти и лицензи за програмни продукти | D27: =+D28 -> 0 | E27: =+E28 -> 0 | F27: =+F28 -> 0 | G27: =+G28 -> 0 | H27: =+H28 -> 0 | I27: =+I28 -> 0 | J27: =+J28 -> 0 | K27: =+K28 -> 0 | M27: =+M28 -> 0 | N27: =+N28 -> 0 | O27: =+O28 -> 0 | P27: =+P28 -> 0 | R27: =+R28 -> 0 | S27: =+S28 -> 0 | T27: =+T28 -> 0 | U27: =+U28 -> 0
B28: Обекти: ........................... | H28: =I28+J28+K28 -> 0 | M28: =N28+O28+P28 -> 0 | R28: =S28+T28+U28 -> 0
A29: 53-09 | B29: придобиване на други нематериални дълготрайни активи | D29: =+D30 -> 0 | E29: =+E30 -> 0 | F29: =+F30 -> 0 | G29: =+G30 -> 0 | H29: =+H30 -> 0 | I29: =+I30 -> 0 | J29: =+J30 -> 0 | K29: =+K30 -> 0 | M29: =+M30 -> 0 | N29: =+N30 -> 0 | O29: =+O30 -> 0 | P29: =+P30 -> 0 | R29: =+R30 -> 0 | S29: =+S30 -> 0 | T29: =+T30 -> 0 | U29: =+U30 -> 0
B30: Обекти: ........................... | H30: =I30+J30+K30 -> 0 | M30: =N30+O30+P30 -> 0 | R30: =S30+T30+U30 -> 0
A31: 54-00 | B31: Придобиване на земя | D31: =+D32 -> 0 | E31: =+E32 -> 0 | F31: =+F32 -> 0 | G31: =+G32 -> 0 | H31: =+H32 -> 0 | I31: =+I32 -> 0 | J31: =+J32 -> 0 | K31: =+K32 -> 0 | M31: =+M32 -> 0 | N31: =+N32 -> 0 | O31: =+O32 -> 0 | P31: =+P32 -> 0 | R31: =+R32 -> 0 | S31: =+S32 -> 0 | T31: =+T32 -> 0 | U31: =+U32 -> 0
B32: Обекти: ........................... | H32: =I32+J32+K32 -> 0 | M32: =N32+O32+P32 -> 0 | R32: =S32+T32+U32 -> 0
A33: 55-00 | B33: Капиталови трансфери | D33: =+D34+D36+D38+D40 -> 0 | E33: =+E34+E36+E38+E40 -> 0 | F33: =+F34+F36+F38+F40 -> 0 | G33: =+G34+G36+G38+G40 -> 0 | H33: =+H34+H36+H38+H40 -> 0 | I33: =+I34+I36+I38+I40 -> 0 | J33: =+J34+J36+J38+J40 -> 0 | K33: =+K34+K36+K38+K40 -> 0 | M33: =+M34+M36+M38+M40 -> 0 | N33: =+N34+N36+N38+N40 -> 0 | O33: =+O34+O36+O38+O40 -> 0 | P33: =+P34+P36+P38+P40 -> 0 | R33: =+R34+R36+R38+R40 -> 0 | S33: =+S34+S36+S38+S40 -> 0 | T33: =+T34+T36+T38+T40 -> 0 | U33: =+U34+U36+U38+U40 -> 0
A34: 55-01 | B34: капиталови трансфери за нефинансови предприятия | D34: =+D35 -> 0 | E34: =+E35 -> 0 | F34: =+F35 -> 0 | G34: =+G35 -> 0 | H34: =+H35 -> 0 | I34: =+I35 -> 0 | J34: =+J35 -> 0 | K34: =+K35 -> 0 | M34: =+M35 -> 0 | N34: =+N35 -> 0 | O34: =+O35 -> 0 | P34: =+P35 -> 0 | R34: =+R35 -> 0 | S34: =+S35 -> 0 | T34: =+T35 -> 0 | U34: =+U35 -> 0
B35: Наименование на нефинансовите предприятия: ............... | H35: =I35+J35+K35 -> 0 | M35: =N35+O35+P35 -> 0 | R35: =S35+T35+U35 -> 0
A36: 55-02 | B36: капиталови трансфери за финансови институции | D36: =+D37 -> 0 | E36: =+E37 -> 0 | F36: =+F37 -> 0 | G36: =+G37 -> 0 | H36: =+H37 -> 0 | I36: =+I37 -> 0 | J36: =+J37 -> 0 | K36: =+K37 -> 0 | M36: =+M37 -> 0 | N36: =+N37 -> 0 | O36: =+O37 -> 0 | P36: =+P37 -> 0 | R36: =+R37 -> 0 | S36: =+S37 -> 0 | T36: =+T37 -> 0 | U36: =+U37 -> 0
B37: Наименование на финансовите институции: .................... | H37: =I37+J37+K37 -> 0 | M37: =N37+O37+P37 -> 0 | R37: =S37+T37+U37 -> 0
A38: 55-03 | B38: капиталови трансфери за организации с нестопанска цел | D38: =+D39 -> 0 | E38: =+E39 -> 0 | F38: =+F39 -> 0 | G38: =+G39 -> 0 | H38: =+H39 -> 0 | I38: =+I39 -> 0 | J38: =+J39 -> 0 | K38: =+K39 -> 0 | M38: =+M39 -> 0 | N38: =+N39 -> 0 | O38: =+O39 -> 0 | P38: =+P39 -> 0 | R38: =+R39 -> 0 | S38: =+S39 -> 0 | T38: =+T39 -> 0 | U38: =+U39 -> 0
B39: Наименование на организациите с нестопанска цел: ........ | H39: =I39+J39+K39 -> 0 | M39: =N39+O39+P39 -> 0 | R39: =S39+T39+U39 -> 0
A40: 55-04 | B40: капиталови трансфери за домакинствата | D40: =+D41 -> 0 | E40: =+E41 -> 0 | F40: =+F41 -> 0 | G40: =+G41 -> 0 | H40: =+H41 -> 0 | I40: =+I41 -> 0 | J40: =+J41 -> 0 | K40: =+K41 -> 0 | M40: =+M41 -> 0 | N40: =+N41 -> 0 | O40: =+O41 -> 0 | P40: =+P41 -> 0 | R40: =+R41 -> 0 | S40: =+S41 -> 0 | T40: =+T41 -> 0 | U40: =+U41 -> 0
B41: предназначение на капиталовия трансфер: ....................... | H41: =I41+J41+K41 -> 0 | M41: =N41+O41+P41 -> 0 | R41: =S41+T41+U41 -> 0

Sheet Преходни проекти
A1: Приложение № 3б - Преходни проекти
B2: =ОБЩО!B2 -> на ……………………………………………………………
B3: (наименование на бюджетната организация)
U4: (в лева)
H5: 2025 година | M5: 2026 година | R5: 2027 година
A6: § | B6: Наименование и местонахождение на обектите | C6: Година начало - година край | D6: Сметна стойност | E6: Усвоено към 31.12.2023 | F6: Отчет 2023 | G6: Очаквано изпълнение 2024 | H6: Прогнозен план за 2025 | I6: Бюджет | J6: Средства от ЕС | K6: Други | L6: Приоритет от 1 (най-висок) до 3 (най-нисък) | M6: Прогнозен план за 2026 | N6: Бюджет | O6: Средства от ЕС | P6: Други | Q6: Приоритет от 1 (най-висок) до 3 (най-нисък) | R6: Прогнозен план за 2027 | S6: Бюджет | T6: Средства от ЕС | U6: Други | V6: Приоритет от 1 (най-висок) до 3 (най-нисък)
H7: к.9+к.10+к.11 | M7: к.14+к.15+к.16 | R7: к.19+к.20+к.21
A8: 1 | B8: =A8+1 -> 2 | C8: =B8+1 -> 3 | D8: =C8+1 -> 4 | E8: =D8+1 -> 5 | F8: =E8+1 -> 6 | G8: =F8+1 -> 7 | H8: =G8+1 -> 8 | I8: =H8+1 -> 9 | ... V8: =U8+1 -> 22
B9: Общо (от§ 51-00 до § 55-00): | D9: =+D10+D11 -> 0 | E9: =+E10+E11 -> 0 | F9: =+F10+F11 -> 0 | G9: =+G10+G11 -> 0 | H9: =+H10+H11 -> 0 | I9: =+I10+I11 -> 0 | J9: =+J10+J11 -> 0 | K9: =+K10+K11 -> 0 | M9: =+M10+M11 -> 0 | N9: =+N10+N11 -> 0 | O9: =+O10+O11 -> 0 | P9: =+P10+P11 -> 0 | R9: =+R10+R11 -> 0 | S9: =+S10+S11 -> 0 | T9: =+T10+T11 -> 0 | U9: =+U10+U11 -> 0
B10: Придобиване на дълготрайни активи и основен ремонт | D10: =+D12+D15+D26+D31 -> 0 | E10: =+E12+E15+E26+E31 -> 0 | F10: =+F12+F15+F26+F31 -> 0 | G10: =+G12+G15+G26+G31 -> 0 | H10: =+H12+H15+H26+H31 -> 0 | I10: =+I12+I15+I26+I31 -> 0 | J10: =+J12+J15+J26+J31 -> 0 | K10: =+K12+K15+K26+K31 -> 0 | M10: =+M12+M15+M26+M31 -> 0 | N10: =+N12+N15+N26+N31 -> 0 | O10: =+O12+O15+O26+O31 -> 0 | P10: =+P12+P15+P26+P31 -> 0 | R10: =+R12+R15+R26+R31 -> 0 | S10: =+S12+S15+S26+S31 -> 0 | T10: =+T12+T15+T26+T31 -> 0 | U10: =+U12+U15+U26+U31 -> 0
B11: Капиталови трансфери | D11: =+D33 -> 0 | E11: =+E33 -> 0 | F11: =+F33 -> 0 | G11: =+G33 -> 0 | H11: =+H33 -> 0 | I11: =+I33 -> 0 | J11: =+J33 -> 0 | K11: =+K33 -> 0 | M11: =+M33 -> 0 | N11: =+N33 -> 0 | O11: =+O33 -> 0 | P11: =+P33 -> 0 | R11: =+R33 -> 0 | S11: =+S33 -> 0 | T11: =+T33 -> 0 | U11: =+U33 -> 0
A12: 51-00 | B12: Основен ремонт на дълготрайни материални активи | D12: =SUM(D13:D14) -> 0 | E12: =SUM(E13:E14) -> 0 | F12: =SUM(F13:F14) -> 0 | G12: =SUM(G13:G14) -> 0 | H12: =SUM(H13:H14) -> 0 | I12: =SUM(I13:I14) -> 0 | J12: =SUM(J13:J14) -> 0 | K12: =SUM(K13:K14) -> 0 | M12: =SUM(M13:M14) -> 0 | N12: =SUM(N13:N14) -> 0 | O12: =SUM(O13:O14) -> 0 | P12: =SUM(P13:P14) -> 0 | R12: =SUM(R13:R14) -> 0 | S12: =SUM(S13:S14) -> 0 | T12: =SUM(T13:T14) -> 0 | U12: =SUM(U13:U14) -> 0
B13: Обекти/ППР: ........................... | H13: =I13+J13+K13 -> 0 | M13: =N13+O13+P13 -> 0 | R13: =S13+T13+U13 -> 0
B14: Обекти: ........................... | H14: =I14+J14+K14 -> 0 | M14: =N14+O14+P14 -> 0 | R14: =S14+T14+U14 -> 0
A15: 52-00 | B15: Придобиване на дълготрайни материални активи | D15: =+D16+D17+D19+D21+D22+D23+D25 -> 0 | E15: =+E16+E17+E19+E21+E22+E23+E25 -> 0 | F15: =+F16+F17+F19+F21+F22+F23+F25 -> 0 | G15: =+G16+G17+G19+G21+G22+G23+G25 -> 0 | H15: =+H16+H17+H19+H21+H22+H23+H25 -> 0 | I15: =+I16+I17+I19+I21+I22+I23+I25 -> 0 | J15: =+J16+J17+J19+J21+J22+J23+J25 -> 0 | K15: =+K16+K17+K19+K21+K22+K23+K25 -> 0 | M15: =+M16+M17+M19+M21+M22+M23+M25 -> 0 | N15: =+N16+N17+N19+N21+N22+N23+N25 -> 0 | O15: =+O16+O17+O19+O21+O22+O23+O25 -> 0 | P15: =+P16+P17+P19+P21+P22+P23+P25 -> 0 | R15: =+R16+R17+R19+R21+R22+R23+R25 -> 0 | S15: =+S16+S17+S19+S21+S22+S23+S25 -> 0 | T15: =+T16+T17+T19+T21+T22+T23+T25 -> 0 | U15: =+U16+U17+U19+U21+U22+U23+U25 -> 0
A16: 52-01 | B16: придобиване на компютри и хардуер | H16: =I16+J16+K16 -> 0 | M16: =N16+O16+P16 -> 0 | R16: =S16+T16+U16 -> 0
A17: 52-02 | B17: придобиване на сгради | D17: =+D18 -> 0 | E17: =+E18 -> 0 | F17: =+F18 -> 0 | G17: =+G18 -> 0 | H17: =+H18 -> 0 | I17: =+I18 -> 0 | J17: =+J18 -> 0 | K17: =+K18 -> 0 | M17: =+M18 -> 0 | N17: =+N18 -> 0 | O17: =+O18 -> 0 | P17: =+P18 -> 0 | R17: =+R18 -> 0 | S17: =+S18 -> 0 | T17: =+T18 -> 0 | U17: =+U18 -> 0
B18: Обекти/ППР: ........................... | H18: =I18+J18+K18 -> 0 | M18: =N18+O18+P18 -> 0 | R18: =S18+T18+U18 -> 0
A19: 52-03 | B19: придобиване на друго оборудване, машини и съоръжения | D19: =+D20 -> 0 | E19: =+E20 -> 0 | F19: =+F20 -> 0 | G19: =+G20 -> 0 | H19: =+H20 -> 0 | I19: =+I20 -> 0 | J19: =+J20 -> 0 | K19: =+K20 -> 0 | M19: =+M20 -> 0 | N19: =+N20 -> 0 | O19: =+O20 -> 0 | P19: =+P20 -> 0 | R19: =+R20 -> 0 | S19: =+S20 -> 0 | T19: =+T20 -> 0 | U19: =+U20 -> 0
B20: Обекти/ППР: ........................... | H20: =I20+J20+K20 -> 0 | M20: =N20+O20+P20 -> 0 | R20: =S20+T20+U20 -> 0
A21: 52-04 | B21: придобиване на транспортни средства | H21: =I21+J21+K21 -> 0 | M21: =N21+O21+P21 -> 0 | R21: =S21+T21+U21 -> 0
A22: 52-05 | B22: придобиване на стопански инвентар | H22: =I22+J22+K22 -> 0 | M22: =N22+O22+P22 -> 0 | R22: =S22+T22+U22 -> 0
A23: 52-06 | B23: изграждане на инфраструктурни обекти | D23: =+D24 -> 0 | E23: =+E24 -> 0 | F23: =+F24 -> 0 | G23: =+G24 -> 0 | H23: =+H24 -> 0 | I23: =+I24 -> 0 | J23: =+J24 -> 0 | K23: =+K24 -> 0 | M23: =+M24 -> 0 | N23: =+N24 -> 0 | O23: =+O24 -> 0 | P23: =+P24 -> 0 | R23: =+R24 -> 0 | S23: =+S24 -> 0 | T23: =+T24 -> 0 | U23: =+U24 -> 0
B24: Обекти/ППР: ........................... | H24: =I24+J24+K24 -> 0 | M24: =N24+O24+P24 -> 0 | R24: =S24+T24+U24 -> 0
A25: 52-19 | B25: придобиване на други ДМА | H25: =I25+J25+K25 -> 0 | M25: =N25+O25+P25 -> 0 | R25: =S25+T25+U25 -> 0
A26: 53-00 | B26: Придобиване на нематериални дълготрайни активи | D26: =+D27+D29 -> 0 | E26: =+E27+E29 -> 0 | F26: =+F27+F29 -> 0 | G26: =+G27+G29 -> 0 | H26: =+H27+H29 -> 0 | I26: =+I27+I29 -> 0 | J26: =+J27+J29 -> 0 | K26: =+K27+K29 -> 0 | M26: =+M27+M29 -> 0 | N26: =+N27+N29 -> 0 | O26: =+O27+O29 -> 0 | P26: =+P27+P29 -> 0 | R26: =+R27+R29 -> 0 | S26: =+S27+S29 -> 0 | T26: =+T27+T29 -> 0 | U26: =+U27+U29 -> 0
A27: 53-01 | B27: придобиване на програмни продукти и лицензи за програмни продукти | D27: =+D28 -> 0 | E27: =+E28 -> 0 | F27: =+F28 -> 0 | G27: =+G28 -> 0 | H27: =+H28 -> 0 | I27: =+I28 -> 0 | J27: =+J28 -> 0 | K27: =+K28 -> 0 | M27: =+M28 -> 0 | N27: =+N28 -> 0 | O27: =+O28 -> 0 | P27: =+P28 -> 0 | R27: =+R28 -> 0 | S27: =+S28 -> 0 | T27: =+T28 -> 0 | U27: =+U28 -> 0
B28: Обекти: ........................... | H28: =I28+J28+K28 -> 0 | M28: =N28+O28+P28 -> 0 | R28: =S28+T28+U28 -> 0
A29: 53-09 | B29: придобиване на други нематериални дълготрайни активи | D29: =+D30 -> 0 | E29: =+E30 -> 0 | F29: =+F30 -> 0 | G29: =+G30 -> 0 | H29: =+H30 -> 0 | I29: =+I30 -> 0 | J29: =+J30 -> 0 | K29: =+K30 -> 0 | M29: =+M30 -> 0 | N29: =+N30 -> 0 | O29: =+O30 -> 0 | P29: =+P30 -> 0 | R29: =+R30 -> 0 | S29: =+S30 -> 0 | T29: =+T30 -> 0 | U29: =+U30 -> 0
B30: Обекти: ........................... | H30: =I30+J30+K30 -> 0 | M30: =N30+O30+P30 -> 0 | R30: =S30+T30+U30 -> 0
A31: 54-00 | B31: Придобиване на земя | D31: =+D32 -> 0 | E31: =+E32 -> 0 | F31: =+F32 -> 0 | G31: =+G32 -> 0 | H31: =+H32 -> 0 | I31: =+I32 -> 0 | J31: =+J32 -> 0 | K31: =+K32 -> 0 | M31: =+M32 -> 0 | N31: =+N32 -> 0 | O31: =+O32 -> 0 | P31: =+P32 -> 0 | R31: =+R32 -> 0 | S31: =+S32 -> 0 | T31: =+T32 -> 0 | U31: =+U32 -> 0
B32: Обекти: ........................... | H32: =I32+J32+K32 -> 0 | M32: =N32+O32+P32 -> 0 | R32: =S32+T32+U32 -> 0
A33: 55-00 | B33: Капиталови трансфери | D33: =+D34+D36+D38+D40 -> 0 | E33: =+E34+E36+E38+E40 -> 0 | F33: =+F34+F36+F38+F40 -> 0 | G33: =+G34+G36+G38+G40 -> 0 | H33: =+H34+H36+H38+H40 -> 0 | I33: =+I34+I36+I38+I40 -> 0 | J33: =+J34+J36+J38+J40 -> 0 | K33: =+K34+K36+K38+K40 -> 0 | M33: =+M34+M36+M38+M40 -> 0 | N33: =+N34+N36+N38+N40 -> 0 | O33: =+O34+O36+O38+O40 -> 0 | P33: =+P34+P36+P38+P40 -> 0 | R33: =+R34+R36+R38+R40 -> 0 | S33: =+S34+S36+S38+S40 -> 0 | T33: =+T34+T36+T38+T40 -> 0 | U33: =+U34+U36+U38+U40 -> 0
A34: 55-01 | B34: капиталови трансфери за нефинансови предприятия | D34: =+D35 -> 0 | E34: =+E35 -> 0 | F34: =+F35 -> 0 | G34: =+G35 -> 0 | H34: =+H35 -> 0 | I34: =+I35 -> 0 | J34: =+J35 -> 0 | K34: =+K35 -> 0 | M34: =+M35 -> 0 | N34: =+N35 -> 0 | O34: =+O35 -> 0 | P34: =+P35 -> 0 | R34: =+R35 -> 0 | S34: =+S35 -> 0 | T34: =+T35 -> 0 | U34: =+U35 -> 0
B35: Наименование на нефинансовите предприятия: ............... | H35: =I35+J35+K35 -> 0 | M35: =N35+O35+P35 -> 0 | R35: =S35+T35+U35 -> 0
A36: 55-02 | B36: капиталови трансфери за финансови институции | D36: =+D37 -> 0 | E36: =+E37 -> 0 | F36: =+F37 -> 0 | G36: =+G37 -> 0 | H36: =+H37 -> 0 | I36: =+I37 -> 0 | J36: =+J37 -> 0 | K36: =+K37 -> 0 | M36: =+M37 -> 0 | N36: =+N37 -> 0 | O36: =+O37 -> 0 | P36: =+P37 -> 0 | R36: =+R37 -> 0 | S36: =+S37 -> 0 | T36: =+T37 -> 0 | U36: =+U37 -> 0
B37: Наименование на финансовите институции: .................... | H37: =I37+J37+K37 -> 0 | M37: =N37+O37+P37 -> 0 | R37: =S37+T37+U37 -> 0
A38: 55-03 | B38: капиталови трансфери за организации с нестопанска цел | D38: =+D39 -> 0 | E38: =+E39 -> 0 | F38: =+F39 -> 0 | G38: =+G39 -> 0 | H38: =+H39 -> 0 | I38: =+I39 -> 0 | J38: =+J39 -> 0 | K38: =+K39 -> 0 | M38: =+M39 -> 0 | N38: =+N39 -> 0 | O38: =+O39 -> 0 | P38: =+P39 -> 0 | R38: =+R39 -> 0 | S38: =+S39 -> 0 | T38: =+T39 -> 0 | U38: =+U39 -> 0
B39: Наименование на организациите с нестопанска цел: ........ | H39: =I39+J39+K39 -> 0 | M39: =N39+O39+P39 -> 0 | R39: =S39+T39+U39 -> 0
A40: 55-04 | B40: капиталови трансфери за домакинствата | D40: =+D41 -> 0 | E40: =+E41 -> 0 | F40: =+F41 -> 0 | G40: =+G41 -> 0 | H40: =+H41 -> 0 | I40: =+I41 -> 0 | J40: =+J41 -> 0 | K40: =+K41 -> 0 | M40: =+M41 -> 0 | N40: =+N41 -> 0 | O40: =+O41 -> 0 | P40: =+P41 -> 0 | R40: =+R41 -> 0 | S40: =+S41 -> 0 | T40: =+T41 -> 0 | U40: =+U41 -> 0
B41: предназначение на капиталовия трансфер: ....................... | H41: =I41+J41+K41 -> 0 | M41: =N41+O41+P41 -> 0 | R41: =S41+T41+U41 -> 0

Sheet Нови проекти
A1: Приложение № 3б - Нови проекти
B2: =ОБЩО!B2 -> на ……………………………………………………………
B3: (наименование на бюджетната организация)
U4: (в лева)
H5: 2025 година | M5: 2026 година | R5: 2027 година
A6: § | B6: Наименование и местонахождение на обектите | C6: Година начало - година край | D6: Сметна стойност | E6: Усвоено към 31.12.2023 | F6: Отчет 2023 | G6: Очаквано изпълнение 2024 | H6: Прогнозен план за 2025 | I6: Бюджет | J6: Средства от ЕС | K6: Други | L6: Приоритет от 1 (най-висок) до 3 (най-нисък) | M6: Прогнозен план за 2026 | N6: Бюджет | O6: Средства от ЕС | P6: Други | Q6: Приоритет от 1 (най-висок) до 3 (най-нисък) | R6: Прогнозен план за 2027 | S6: Бюджет | T6: Средства от ЕС | U6: Други | V6: Приоритет от 1 (най-висок) до 3 (най-нисък)
H7: к.9+к.10+к.11 | M7: к.14+к.15+к.16 | R7: к.19+к.20+к.21
A8: 1 | B8: =A8+1 -> 2 | C8: =B8+1 -> 3 | D8: =C8+1 -> 4 | E8: =D8+1 -> 5 | F8: =E8+1 -> 6 | G8: =F8+1 -> 7 | H8: =G8+1 -> 8 | I8: =H8+1 -> 9 | ... V8: =U8+1 -> 22
B9: Общо (от§ 51-00 до § 55-00): | D9: =+D10+D11 -> 0 | E9: =+E10+E11 -> 0 | F9: =+F10+F11 -> 0 | G9: =+G10+G11 -> 0 | H9: =+H10+H11 -> 0 | I9: =+I10+I11 -> 0 | J9: =+J10+J11 -> 0 | K9: =+K10+K11 -> 0 | M9: =+M10+M11 -> 0 | N9: =+N10+N11 -> 0 | O9: =+O10+O11 -> 0 | P9: =+P10+P11 -> 0 | R9: =+R10+R11 -> 0 | S9: =+S10+S11 -> 0 | T9: =+T10+T11 -> 0 | U9: =+U10+U11 -> 0
B10: Придобиване на дълготрайни активи и основен ремонт | D10: =+D12+D15+D26+D31 -> 0 | E10: =+E12+E15+E26+E31 -> 0 | F10: =+F12+F15+F26+F31 -> 0 | G10: =+G12+G15+G26+G31 -> 0 | H10: =+H12+H15+H26+H31 -> 0 | I10: =+I12+I15+I26+I31 -> 0 | J10: =+J12+J15+J26+J31 -> 0 | K10: =+K12+K15+K26+K31 -> 0 | M10: =+M12+M15+M26+M31 -> 0 | N10: =+N12+N15+N26+N31 -> 0 | O10: =+O12+O15+O26+O31 -> 0 | P10: =+P12+P15+P26+P31 -> 0 | R10: =+R12+R15+R26+R31 -> 0 | S10: =+S12+S15+S26+S31 -> 0 | T10: =+T12+T15+T26+T31 -> 0 | U10: =+U12+U15+U26+U31 -> 0
B11: Капиталови трансфери | D11: =+D33 -> 0 | E11: =+E33 -> 0 | F11: =+F33 -> 0 | G11: =+G33 -> 0 | H11: =+H33 -> 0 | I11: =+I33 -> 0 | J11: =+J33 -> 0 | K11: =+K33 -> 0 | M11: =+M33 -> 0 | N11: =+N33 -> 0 | O11: =+O33 -> 0 | P11: =+P33 -> 0 | R11: =+R33 -> 0 | S11: =+S33 -> 0 | T11: =+T33 -> 0 | U11: =+U33 -> 0
A12: 51-00 | B12: Основен ремонт на дълготрайни материални активи | D12: =SUM(D13:D14) -> 0 | E12: =SUM(E13:E14) -> 0 | F12: =SUM(F13:F14) -> 0 | G12: =SUM(G13:G14) -> 0 | H12: =SUM(H13:H14) -> 0 | I12: =SUM(I13:I14) -> 0 | J12: =SUM(J13:J14) -> 0 | K12: =SUM(K13:K14) -> 0 | M12: =SUM(M13:M14) -> 0 | N12: =SUM(N13:N14) -> 0 | O12: =SUM(O13:O14) -> 0 | P12: =SUM(P13:P14) -> 0 | R12: =SUM(R13:R14) -> 0 | S12: =SUM(S13:S14) -> 0 | T12: =SUM(T13:T14) -> 0 | U12: =SUM(U13:U14) -> 0
B13: Обекти/ППР: ........................... | H13: =I13+J13+K13 -> 0 | M13: =N13+O13+P13 -> 0 | R13: =S13+T13+U13 -> 0
B14: Обекти: ........................... | H14: =I14+J14+K14 -> 0 | M14: =N14+O14+P14 -> 0 | R14: =S14+T14+U14 -> 0
A15: 52-00 | B15: Придобиване на дълготрайни материални активи | D15: =+D16+D17+D19+D21+D22+D23+D25 -> 0 | E15: =+E16+E17+E19+E21+E22+E23+E25 -> 0 | F15: =+F16+F17+F19+F21+F22+F23+F25 -> 0 | G15: =+G16+G17+G19+G21+G22+G23+G25 -> 0 | H15: =+H16+H17+H19+H21+H22+H23+H25 -> 0 | I15: =+I16+I17+I19+I21+I22+I23+I25 -> 0 | J15: =+J16+J17+J19+J21+J22+J23+J25 -> 0 | K15: =+K16+K17+K19+K21+K22+K23+K25 -> 0 | M15: =+M16+M17+M19+M21+M22+M23+M25 -> 0 | N15: =+N16+N17+N19+N21+N22+N23+N25 -> 0 | O15: =+O16+O17+O19+O21+O22+O23+O25 -> 0 | P15: =+P16+P17+P19+P21+P22+P23+P25 -> 0 | R15: =+R16+R17+R19+R21+R22+R23+R25 -> 0 | S15: =+S16+S17+S19+S21+S22+S23+S25 -> 0 | T15: =+T16+T17+T19+T21+T22+T23+T25 -> 0 | U15: =+U16+U17+U19+U21+U22+U23+U25 -> 0
A16: 52-01 | B16: придобиване на компютри и хардуер | H16: =I16+J16+K16 -> 0 | M16: =N16+O16+P16 -> 0 | R16: =S16+T16+U16 -> 0
A17: 52-02 | B17: придобиване на сгради | D17: =+D18 -> 0 | E17: =+E18 -> 0 | F17: =+F18 -> 0 | G17: =+G18 -> 0 | H17: =+H18 -> 0 | I17: =+I18 -> 0 | J17: =+J18 -> 0 | K17: =+K18 -> 0 | M17: =+M18 -> 0 | N17: =+N18 -> 0 | O17: =+O18 -> 0 | P17: =+P18 -> 0 | R17: =+R18 -> 0 | S17: =+S18 -> 0 | T17: =+T18 -> 0 | U17: =+U18 -> 0
B18: Обекти/ППР: ........................... | H18: =I18+J18+K18 -> 0 | M18: =N18+O18+P18 -> 0 | R18: =S18+T18+U18 -> 0
A19: 52-03 | B19: придобиване на друго оборудване, машини и съоръжения | D19: =+D20 -> 0 | E19: =+E20 -> 0 | F19: =+F20 -> 0 | G19: =+G20 -> 0 | H19: =+H20 -> 0 | I19: =+I20 -> 0 | J19: =+J20 -> 0 | K19: =+K20 -> 0 | M19: =+M20 -> 0 | N19: =+N20 -> 0 | O19: =+O20 -> 0 | P19: =+P20 -> 0 | R19: =+R20 -> 0 | S19: =+S20 -> 0 | T19: =+T20 -> 0 | U19: =+U20 -> 0
B20: Обекти/ППР: ........................... | H20: =I20+J20+K20 -> 0 | M20: =N20+O20+P20 -> 0 | R20: =S20+T20+U20 -> 0
A21: 52-04 | B21: придобиване на транспортни средства | H21: =I21+J21+K21 -> 0 | M21: =N21+O21+P21 -> 0 | R21: =S21+T21+U21 -> 0
A22: 52-05 | B22: придобиване на стопански инвентар | H22: =I22+J22+K22 -> 0 | M22: =N22+O22+P22 -> 0 | R22: =S22+T22+U22 -> 0
A23: 52-06 | B23: изграждане на инфраструктурни обекти | D23: =+D24 -> 0 | E23: =+E24 -> 0 | F23: =+F24 -> 0 | G23: =+G24 -> 0 | H23: =+H24 -> 0 | I23: =+I24 -> 0 | J23: =+J24 -> 0 | K23: =+K24 -> 0 | M23: =+M24 -> 0 | N23: =+N24 -> 0 | O23: =+O24 -> 0 | P23: =+P24 -> 0 | R23: =+R24 -> 0 | S23: =+S24 -> 0 | T23: =+T24 -> 0 | U23: =+U24 -> 0
B24: Обекти/ППР: ........................... | H24: =I24+J24+K24 -> 0 | M24: =N24+O24+P24 -> 0 | R24: =S24+T24+U24 -> 0
A25: 52-19 | B25: придобиване на други ДМА | H25: =I25+J25+K25 -> 0 | M25: =N25+O25+P25 -> 0 | R25: =S25+T25+U25 -> 0
A26: 53-00 | B26: Придобиване на нематериални дълготрайни активи | D26: =+D27+D29 -> 0 | E26: =+E27+E29 -> 0 | F26: =+F27+F29 -> 0 | G26: =+G27+G29 -> 0 | H26: =+H27+H29 -> 0 | I26: =+I27+I29 -> 0 | J26: =+J27+J29 -> 0 | K26: =+K27+K29 -> 0 | M26: =+M27+M29 -> 0 | N26: =+N27+N29 -> 0 | O26: =+O27+O29 -> 0 | P26: =+P27+P29 -> 0 | R26: =+R27+R29 -> 0 | S26: =+S27+S29 -> 0 | T26: =+T27+T29 -> 0 | U26: =+U27+U29 -> 0
A27: 53-01 | B27: придобиване на програмни продукти и лицензи за програмни продукти | D27: =+D28 -> 0 | E27: =+E28 -> 0 | F27: =+F28 -> 0 | G27: =+G28 -> 0 | H27: =+H28 -> 0 | I27: =+I28 -> 0 | J27: =+J28 -> 0 | K27: =+K28 -> 0 | M27: =+M28 -> 0 | N27: =+N28 -> 0 | O27: =+O28 -> 0 | P27: =+P28 -> 0 | R27: =+R28 -> 0 | S27: =+S28 -> 0 | T27: =+T28 -> 0 | U27: =+U28 -> 0
B28: Обекти: ........................... | H28: =I28+J28+K28 -> 0 | M28: =N28+O28+P28 -> 0 | R28: =S28+T28+U28 -> 0
A29: 53-09 | B29: придобиване на други нематериални дълготрайни активи | D29: =+D30 -> 0 | E29: =+E30 -> 0 | F29: =+F30 -> 0 | G29: =+G30 -> 0 | H29: =+H30 -> 0 | I29: =+I30 -> 0 | J29: =+J30 -> 0 | K29: =+K30 -> 0 | M29: =+M30 -> 0 | N29: =+N30 -> 0 | O29: =+O30 -> 0 | P29: =+P30 -> 0 | R29: =+R30 -> 0 | S29: =+S30 -> 0 | T29: =+T30 -> 0 | U29: =+U30 -> 0
B30: Обекти: ........................... | H30: =I30+J30+K30 -> 0 | M30: =N30+O30+P30 -> 0 | R30: =S30+T30+U30 -> 0
A31: 54-00 | B31: Придобиване на земя | D31: =+D32 -> 0 | E31: =+E32 -> 0 | F31: =+F32 -> 0 | G31: =+G32 -> 0 | H31: =+H32 -> 0 | I31: =+I32 -> 0 | J31: =+J32 -> 0 | K31: =+K32 -> 0 | M31: =+M32 -> 0 | N31: =+N32 -> 0 | O31: =+O32 -> 0 | P31: =+P32 -> 0 | R31: =+R32 -> 0 | S31: =+S32 -> 0 | T31: =+T32 -> 0 | U31: =+U32 -> 0
B32: Обекти: ........................... | H32: =I32+J32+K32 -> 0 | M32: =N32+O32+P32 -> 0 | R32: =S32+T32+U32 -> 0
A33: 55-00 | B33: Капиталови трансфери | D33: =+D34+D36+D38+D40 -> 0 | E33: =+E34+E36+E38+E40 -> 0 | F33: =+F34+F36+F38+F40 -> 0 | G33: =+G34+G36+G38+G40 -> 0 | H33: =+H34+H36+H38+H40 -> 0 | I33: =+I34+I36+I38+I40 -> 0 | J33: =+J34+J36+J38+J40 -> 0 | K33: =+K34+K36+K38+K40 -> 0 | M33: =+M34+M36+M38+M40 -> 0 | N33: =+N34+N36+N38+N40 -> 0 | O33: =+O34+O36+O38+O40 -> 0 | P33: =+P34+P36+P38+P40 -> 0 | R33: =+R34+R36+R38+R40 -> 0 | S33: =+S34+S36+S38+S40 -> 0 | T33: =+T34+T36+T38+T40 -> 0 | U33: =+U34+U36+U38+U40 -> 0
A34: 55-01 | B34: капиталови трансфери за нефинансови предприятия | D34: =+D35 -> 0 | E34: =+E35 -> 0 | F34: =+F35 -> 0 | G34: =+G35 -> 0 | H34: =+H35 -> 0 | I34: =+I35 -> 0 | J34: =+J35 -> 0 | K34: =+K35 -> 0 | M34: =+M35 -> 0 | N34: =+N35 -> 0 | O34: =+O35 -> 0 | P34: =+P35 -> 0 | R34: =+R35 -> 0 | S34: =+S35 -> 0 | T34: =+T35 -> 0 | U34: =+U35 -> 0
B35: Наименование на нефинансовите предприятия: ............... | H35: =I35+J35+K35 -> 0 | M35: =N35+O35+P35 -> 0 | R35: =S35+T35+U35 -> 0
A36: 55-02 | B36: капиталови трансфери за финансови институции | D36: =+D37 -> 0 | E36: =+E37 -> 0 | F36: =+F37 -> 0 | G36: =+G37 -> 0 | H36: =+H37 -> 0 | I36: =+I37 -> 0 | J36: =+J37 -> 0 | K36: =+K37 -> 0 | M36: =+M37 -> 0 | N36: =+N37 -> 0 | O36: =+O37 -> 0 | P36: =+P37 -> 0 | R36: =+R37 -> 0 | S36: =+S37 -> 0 | T36: =+T37 -> 0 | U36: =+U37 -> 0
B37: Наименование на финансовите институции: .................... | H37: =I37+J37+K37 -> 0 | M37: =N37+O37+P37 -> 0 | R37: =S37+T37+U37 -> 0
A38: 55-03 | B38: капиталови трансфери за организации с нестопанска цел | D38: =+D39 -> 0 | E38: =+E39 -> 0 | F38: =+F39 -> 0 | G38: =+G39 -> 0 | H38: =+H39 -> 0 | I38: =+I39 -> 0 | J38: =+J39 -> 0 | K38: =+K39 -> 0 | M38: =+M39 -> 0 | N38: =+N39 -> 0 | O38: =+O39 -> 0 | P38: =+P39 -> 0 | R38: =+R39 -> 0 | S38: =+S39 -> 0 | T38: =+T39 -> 0 | U38: =+U39 -> 0
B39: Наименование на организациите с нестопанска цел: ........ | H39: =I39+J39+K39 -> 0 | M39: =N39+O39+P39 -> 0 | R39: =S39+T39+U39 -> 0
A40: 55-04 | B40: капиталови трансфери за домакинствата | D40: =+D41 -> 0 | E40: =+E41 -> 0 | F40: =+F41 -> 0 | G40: =+G41 -> 0 | H40: =+H41 -> 0 | I40: =+I41 -> 0 | J40: =+J41 -> 0 | K40: =+K41 -> 0 | M40: =+M41 -> 0 | N40: =+N41 -> 0 | O40: =+O41 -> 0 | P40: =+P41 -> 0 | R40: =+R41 -> 0 | S40: =+S41 -> 0 | T40: =+T41 -> 0 | U40: =+U41 -> 0
B41: предназначение на капиталовия трансфер: ....................... | H41: =I41+J41+K41 -> 0 | M41: =N41+O41+P41 -> 0 | R41: =S41+T41+U41 -> 0

Sheet Приоритет
A1: Приоритет
A2: 1
A3: 2
A4: 3
